Workbook

Sheet Lijst van vakken
A1: Nederlandse taal en literatuur
A2: Latijnse taal en cultuur
A3: Griekse taal en cultuur
A4: Franse taal en literatuur
A5: Duitse taal en literatuur
A6: Engelse taal en literatuur
A7: Spaanse taal en literatuur (elem.)
A8: Spaanse taal en literatuur
A9: geschiedenis
A10: aardrijkskunde
A11: wiskunde A
A12: wiskunde B
... A27: loopbaanontwikkeling en - begeleiding

Sheet Netl
B1: Norbertus Programma van Toetsing en Afsluiting 2024-2025 | J1: ='Lijst van vakken'!A1 -> Nederlandse taal en literatuur | L1: Cohort 24-27
B2: vwo 4
B3: Periode | C3: PTA-code | D3: Toetsvorm [1] | E3: Toetsdoelen | F3: Toetsduur (minuten) | G3: Herkansing [2] | H3: Beoordeling [3] | J3: Eindtermen [4] | K3: Lesmateriaal | L3: Toegestane materialen bij de toets
H4: % | I4: Cijfer of OVG
B6: 1 | D6: H | E6: Op het vwo lees je in drie jaar tijd 12 boeken, waarvan 3 historische werken van voor 1880. Van de 3 moderne romans in vwo 4 maak je bij ieder boek een verslag. De kandidaat laat daarin zien dat hij de literaire tekstsoort kan herkennen en onderscheiden, en de literaire begrippen kan hanteren in de interpretatie v an de gelezen literaire tekst. - ROMAN 1 | G6: Ja | I6: OVG | J6: E | K6: Per boek krijg je een aparte opdracht van je docent via Classroom | L6: NBD Biblion uittrekselbank/literom en de gelezen werken.
D7: H | E7: Op het vwo lees je in drie jaar tijd 12 boeken, waarvan 3 historische werken van voor 1880. Van de 3 moderne romans in vwo 4 maak je bij ieder boek een verslag. De kandidaat laat daarin zien dat hij de literaire tekstsoort kan herkennen en onderscheiden, en de literaire begrippen kan hanteren in de interpretatie v an de gelezen literaire tekst. - ROMAN 2 | G7: Ja | I7: OVG | J7: E | K7: Per boek krijg je een aparte opdracht van je docent via Classroom | L7: NBD Biblion uittrekselbank/literom en de gelezen werken.
B11: 2 | D11: H | E11: Op het vwo lees je in drie jaar tijd 12 boeken, waarvan 3 historische werken van voor 1880. Van de 3 moderne romans in vwo 4 maak je bij ieder boek een verslag. De kandidaat laat daarin zien dat hij de literaire tekstsoort kan herkennen en onderscheiden, en de literaire begrippen kan hanteren in de interpretatie v an de gelezen literaire tekst. - ROMAN 2 | G11: Ja | I11: OVG | J11: E | K11: Per boek krijg je een aparte opdracht van je docent via Classroom | L11: NBD Biblion uittrekselbank/literom en de gelezen werken.
B16: 3 | C16: VA0101 | D16: S | E16: De kandidaat kan literaire tekstsoorten herkennen en onderscheiden, en literaire begrippen hanteren in de interpretatie van literaire teksten. (SE) | F16: 50 | G16: Ja | H16: 0.05 | I16: Cijfer | J16: HD - domein E Literatuur | K16: KERN Literatuur/Proza: hoofdstuk 1-2-3-11-12-13-14-15-16. Daarnaast krijg je van je docent nog extra oefenmateriaal. | L16: Woordenboek
D17: H | E17: Op het vwo lees je in drie jaar tijd 12 boeken, waarvan 3 historische werken van voor 1880. Van de 3 moderne romans in vwo 4 maak je bij ieder boek een verslag. De kandidaat laat daarin zien dat hij de literaire tekstsoort kan herkennen en onderscheiden, en de literaire begrippen kan hanteren in de interpretatie v an de gelezen literaire tekst. - ROMAN 3 | G17: Ja | I17: OVG | J17: E | K17: Per boek krijg je een aparte opdracht van je docent via Classroom | L17: NBD Biblion uittrekselbank/literom en de gelezen werken.
B21: 4 | D21: H | E21: Op het vwo lees je in drie jaar tijd 12 boeken, waarvan 3 historische werken van voor 1880. Van de 3 moderne romans in vwo 4 maak je bij ieder boek een verslag. De kandidaat laat daarin zien dat hij de literaire tekstsoort kan herkennen en onderscheiden, en de literaire begrippen kan hanteren in de interpretatie v an de gelezen literaire tekst. - ROMAN 4 | G21: Ja | I21: OVG | J21: E | K21: Per boek krijg je een aparte opdracht van je docent via Classroom | L21: NBD Biblion uittrekselbank/literom en de gelezen werken.
E28: Beoordeling 4e leerjaar in %
A29: Ja | E29: Totaal % leerjaar 4 periode 1: | H29: =SUM(H6:H9) -> 0
A30: Nee | E30: Totaal % leerjaar 4 periode 2: | H30: =SUM(H11:H15) -> 0
E31: Totaal % leerjaar 4 periode 3: | H31: =SUM(H16:H19) -> 0.05
E32: Totaal % leerjaar 4 periode 4: | H32: =SUM(H21:H24) -> 0
A33: S | E33: Totaal % leerjaar 4: | H33: =SUM(H29:H32) -> 0.05
A34: M
A35: D | B35: [1] s = schriftelijk, m = mondeling, d= digitaal, pr = praktisch, p = presentatie, h = handelingsopdracht, a = anders
A36: PR | B36: [2] De toetsvorm van de herkansing is gelijk aan de toetsvorm van de toets die herkanst wordt. De herkansingen vinden plaats aan het einde van de lesperiode van de toets die herkanst wordt of aan het begin van de volgende lesperiode.
A37: P | B37: [3] Hier wordt het percentage van het schoolexamencijfer vermeld OF aangegeven of een O/V/G (onvoldoende, voldoende, goed) beoordeling van toepassing is.
A38: H | B38: [4] Naast de eindtermen wordt ook aangegeven of dit PTA onderdeel CE stof bevat
A39: A
A42: Cijfer
A43: OVG
B47: Norbertus Programma van Toetsing en Afsluiting 2025-2026 | J47: =J1 -> Nederlandse taal en literatuur | L47: =L1 -> Cohort 24-27
B48: vwo 5
B49: Periode | C49: PTA-code | D49: Toetsvorm [1] | E49: Toetsdoelen | F49: Toetsduur (minuten) | G49: Herkansing [2] | H49: Beoordeling [3] | J49: Eindtermen [4] | K49: Lesmateriaal | L49: Toegestane materialen bij de toets
H50: % | I50: Cijfer of OVG
B52: 1 | D52: H | E52: Op het vwo lees je in drie jaar tijd 12 boeken, waarvan 3 historische werken van voor 1880. Van de 3 moderne romans in vwo 4 maak je bij ieder boek een verslag. De kandidaat laat daarin zien dat hij de literaire tekstsoort kan herkennen en onderscheiden, en de literaire begrippen kan hanteren in de interpretatie v an de gelezen literaire tekst. - ROMAN 5 | G52: Ja | I52: OVG | J52: E | K52: Per boek krijg je een aparte opdracht van je docent via Classroom | L52: NBD Biblion uittrekselbank/literom en de gelezen werken.
B57: 2 | D57: H | E57: Op het vwo lees je in drie jaar tijd 12 boeken, waarvan 3 historische werken van voor 1880. Van de 3 moderne romans in vwo 4 maak je bij ieder boek een verslag. De kandidaat laat daarin zien dat hij de literaire tekstsoort kan herkennen en onderscheiden, en de literaire begrippen kan hanteren in de interpretatie v an de gelezen literaire tekst. - ROMAN 6 | G57: Ja | I57: OVG | J57: E | K57: Per boek krijg je een aparte opdracht van je docent via Classroom | L57: NBD Biblion uittrekselbank/literom en de gelezen werken.
B62: 3 | D62: H | E62: Op het vwo lees je in drie jaar tijd 12 boeken, waarvan 3 historische werken van voor 1880. Van de 3 moderne romans in vwo 4 maak je bij ieder boek een verslag. De kandidaat laat daarin zien dat hij de literaire tekstsoort kan herkennen en onderscheiden, en de literaire begrippen kan hanteren in de interpretatie v an de gelezen literaire tekst. - ROMAN 7 | G62: Ja | I62: OVG | J62: E | K62: Per boek krijg je een aparte opdracht van je docent via Classroom | L62: NBD Biblion uittrekselbank/literom en de gelezen werken.
B67: 4 | C67: VA0102 | D67: P | E67: Je leest drie moderne romans naar keuze en een historisch werk (uit de periode Verlichting/Romantiek) dat door de docent wordt voorgeschreven. In een mondeling examen laat je samen zien dat je de drie moderne werken met elkaar kunt verbinden aan de hand van een presentatie van 10 minuten. Daaruit blijkt dat de romans gelezen zijn, dat je relevante literaire begrippen kunt toepassen, dat er secundaire bronnen zijn geraadpleegd, dat je de gelezen werken met elkaar kunt vergelijken, dat je beargumenteerd duidelijk kunt maken wat je leesontwikkeling is geweest en dat je alle gelezen werken in de juiste literair-historische context kunnen plaatsen. Van het historische werk kun je daarbovenop ook uitleggen wat de kenmerken van de bijbehorende literair-historische periode zijn en hoe je die terugziet in het gelezen werk. Na afloop van jouw presentatie stelt de docent diverse verhelderende vragen en/of geeft enkele stellingen ter discussie, vooral gericht op een van de romans. Voorwaarde voor deelname aan het schoolexamen is dat het handelingsdeel volledig is afgerond: het literatuurdossier v5 moet volledig zijn en op tijd zijn ingeleverd. De bijbehorende opdrachten worden door de docent aangeleverd via Google Classroom. Wanneer je dit schoolexamen wil herkansen vervang je één titel op je lijst door een boek dat je door de docent wordt voorgeschreven. Je mag zelf kiezen welke moderne titel je wil vervangen. (SE) | F67: 20 | G67: Ja | H67: 0.1 | I67: Cijfer | J67: E | K67: Drie moderne romans uit de literatuurlijst en een historisch werk dat door de docent wordt bepaald. Kern Nederlands: blz. 130-136 & blz. 184 t/m 250 + uittreksels en recensies van Biblion Uittrekselbank/Literom | L67: geen
D69: H | E69: Op het vwo lees je in drie jaar tijd 12 boeken, waarvan 3 historische werken van voor 1880. Van de 3 moderne romans in vwo 4 maak je bij ieder boek een verslag. De kandidaat laat daarin zien dat hij de literaire tekstsoort kan herkennen en onderscheiden, en de literaire begrippen kan hanteren in de interpretatie v an de gelezen literaire tekst. - ROMAN 8 | G69: Ja | I69: OVG | J69: E | K69: Per boek krijg je een aparte opdracht van je docent via Classroom | L69: NBD Biblion uittrekselbank/literom en de gelezen werken.
E74: Beoordeling 5e leerjaar in %
E75: Totaal % leerjaar 4 | H75: =$H$33 -> 0.05
E76: Totaal % leerjaar 5 periode 1: | H76: =SUM(H52:H55) -> 0
E77: Totaal % leerjaar 5 periode 2: | H77: =SUM(H57:H61) -> 0
E78: Totaal % leerjaar 5 periode 3: | H78: =SUM(H62:H65) -> 0
E79: Totaal % leerjaar 5 periode 4: | H79: =SUM(H67:H70) -> 0.1
E80: Totaal % leerjaar 4+5: | H80: =SUM(H75:H79) -> 0.15
...

Sheet Ltc
B1: =Netl!B1 -> Norbertus Programma van Toetsing en Afsluiting 2024-2025 | J1: ='Lijst van vakken'!A2 -> Latijnse taal en cultuur | L1: =Netl!L1 -> Cohort 24-27
B2: vwo 4
B3: Periode | C3: PTA-code | D3: Toetsvorm [1] | E3: Toetsdoelen | F3: Toetsduur (minuten) | G3: Herkansing [2] | H3: Beoordeling [3] | J3: Eindtermen [4] | K3: Lesmateriaal | L3: Toegestane materialen bij de toets
H4: % | I4: Cijfer of OVG
B6: 1
B11: 2
B16: 3
B21: 4
E28: Beoordeling 4e leerjaar in %
A29: Ja | E29: Totaal % leerjaar 4 periode 1: | H29: =SUM(H6:H9) -> 0
A30: Nee | E30: Totaal % leerjaar 4 periode 2: | H30: =SUM(H11:H15) -> 0
E31: Totaal % leerjaar 4 periode 3: | H31: =SUM(H16:H19) -> 0
E32: Totaal % leerjaar 4 periode 4: | H32: =SUM(H21:H24) -> 0
A33: S | E33: Totaal % leerjaar 4: | H33: =SUM(H29:H32) -> 0
A34: M
A35: D | B35: [1] s = schriftelijk, m = mondeling, d= digitaal, pr = praktisch, p = presentatie, h = handelingsopdracht, a = anders
A36: PR | B36: [2] De toetsvorm van de herkansing is gelijk aan de toetsvorm van de toets die herkanst wordt. De herkansingen vinden plaats aan het einde van de lesperiode van de toets die herkanst wordt of aan het begin van de volgende lesperiode.
A37: P | B37: [3] Hier wordt het percentage van het schoolexamencijfer vermeld OF aangegeven of een O/V/G (onvoldoende, voldoende, goed) beoordeling van toepassing is.
A38: H | B38: [4] Naast de eindtermen wordt ook aangegeven of dit PTA onderdeel CE stof bevat
A39: A
A42: Cijfer
A43: OVG
B47: =Netl!B47 -> Norbertus Programma van Toetsing en Afsluiting 2025-2026 | J47: =J1 -> Latijnse taal en cultuur | L47: =L1 -> Cohort 24-27
B48: vwo 5
B49: Periode | C49: PTA-code | D49: Toetsvorm [1] | E49: Toetsdoelen | F49: Toetsduur (minuten) | G49: Herkansing [2] | H49: Beoordeling [3] | J49: Eindtermen [4] | K49: Lesmateriaal | L49: Toegestane materialen bij de toets
H50: % | I50: Cijfer of OVG
B52: 1
B57: 2 | C57: VA0501 | D57: S | E57: Je kunt stilistische, inhoudelijke, cultuurhistorische en eventueel metrische vragen beantwoorden over gelezen teksten van een Romeinse auteur. Daarnaast kun je een ongezien tekstfragment van dezelfde auteur vertalen. | F57: 100 | G57: Ja | H57: 0.15 | I57: Cijfer | J57: ABCD (SE+CE) | K57: Lesboek/reader met authentieke teksten & achtergrondmateriaal | L57: Woordenboek Latijn-Nederlands
B62: 3
B67: 4 | C67: VA0502 | D67: PR | E67: Je kiest een auteur en een passage in het Latijn van die auteur. Je analyseert de passage grammaticaal en inhoudelijk en stelt een vertaalhulp samen. | F67: - | G67: Nee | H67: 0.1 | I67: Cijfer | J67: ABCD (SE+CE) | K67: - | L67: Woordenboek Latijn-Nederlands
C68: VA0503 | D68: S | E68: Je kunt stilistische, inhoudelijke, cultuurhistorische en eventueel metrische vragen beantwoorden over gelezen teksten van een Romeinse auteur. Daarnaast kun je een ongezien tekstfragment van dezelfde auteur vertalen. | F68: 100 | G68: Ja | H68: 0.15 | I68: Cijfer | J68: ABCD (SE+CE) | K68: Lesboek/reader met authentieke teksten & achtergrondmateriaal | L68: Woordenboek Latijn-Nederlands
E74: Beoordeling 5e leerjaar in %
E75: Totaal % leerjaar 4 | H75: =$H$33 -> 0
E76: Totaal % leerjaar 5 periode 1: | H76: =SUM(H52:H55) -> 0
E77: Totaal % leerjaar 5 periode 2: | H77: =SUM(H57:H61) -> 0.15
E78: Totaal % leerjaar 5 periode 3: | H78: =SUM(H62:H65) -> 0
E79: Totaal % leerjaar 5 periode 4: | H79: =SUM(H67:H70) -> 0.25
E80: Totaal % leerjaar 4+5: | H80: =SUM(H76:H79) -> 0.4
B82: [1] s = schriftelijk, m = mondeling, d= digitaal, pr = praktisch, p = presentatie, h = handelingsopdracht, a = anders
B83: [2] De toetsvorm van de herkansing is gelijk aan de toetsvorm van de toets die herkanst wordt. De herkansingen vinden plaats aan het einde van de lesperiode van de toets die herkanst wordt of aan het begin van de volgende lesperiode.
...

Sheet Gtc
B1: =Netl!B1 -> Norbertus Programma van Toetsing en Afsluiting 2024-2025 | J1: ='Lijst van vakken'!A3 -> Griekse taal en cultuur | L1: =Netl!L1 -> Cohort 24-27
B2: vwo 4
B3: Periode | C3: PTA-code | D3: Toetsvorm [1] | E3: Toetsdoelen | F3: Toetsduur (minuten) | G3: Herkansing [2] | H3: Beoordeling [3] | J3: Eindtermen [4] | K3: Lesmateriaal | L3: Toegestane materialen bij de toets
H4: % | I4: Cijfer of OVG
B6: 1
B11: 2
B16: 3
B21: 4
E28: Beoordeling 4e leerjaar in %
A29: Ja | E29: Totaal % leerjaar 4 periode 1: | H29: =SUM(H6:H9) -> 0
A30: Nee | E30: Totaal % leerjaar 4 periode 2: | H30: =SUM(H11:H15) -> 0
E31: Totaal % leerjaar 4 periode 3: | H31: =SUM(H16:H19) -> 0
E32: Totaal % leerjaar 4 periode 4: | H32: =SUM(H21:H24) -> 0
A33: S | E33: Totaal % leerjaar 4: | H33: =SUM(H29:H32) -> 0
A34: M
A35: D | B35: [1] s = schriftelijk, m = mondeling, d= digitaal, pr = praktisch, p = presentatie, h = handelingsopdracht, a = anders
A36: PR | B36: [2] De toetsvorm van de herkansing is gelijk aan de toetsvorm van de toets die herkanst wordt. De herkansingen vinden plaats aan het einde van de lesperiode van de toets die herkanst wordt of aan het begin van de volgende lesperiode.
A37: P | B37: [3] Hier wordt het percentage van het schoolexamencijfer vermeld OF aangegeven of een O/V/G (onvoldoende, voldoende, goed) beoordeling van toepassing is.
A38: H | B38: [4] Naast de eindtermen wordt ook aangegeven of dit PTA onderdeel CE stof bevat
A39: A
A42: Cijfer
A43: OVG
B47: =Netl!B47 -> Norbertus Programma van Toetsing en Afsluiting 2025-2026 | J47: =J1 -> Griekse taal en cultuur | L47: =L1 -> Cohort 24-27
B48: vwo 5
B49: Periode | C49: PTA-code | D49: Toetsvorm [1] | E49: Toetsdoelen | F49: Toetsduur (minuten) | G49: Herkansing [2] | H49: Beoordeling [3] | J49: Eindtermen [4] | K49: Lesmateriaal | L49: Toegestane materialen bij de toets
H50: % | I50: Cijfer of OVG
B52: 1
B57: 2 | C57: VA0601 | D57: S | E57: Je kunt stilistische, inhoudelijke, cultuurhistorische en eventueel metrische vragen beantwoorden over gelezen teksten van een Griekse auteur. Daarnaast kun je een ongezien tekstfragment van dezelfde auteur vertalen. | F57: 100 | G57: Ja | H57: 0.15 | I57: Cijfer | J57: ABCD (SE+CE) | K57: Lesboek/reader met authentieke teksten & achtergrondmateriaal | L57: Woordenboek Grieks-Nederlands
B62: 3
B67: 4 | C67: VA0602 | D67: PR | E67: Je kiest een auteur en een passage in het Grieks van die auteur. Je analyseert de passage grammaticaal en inhoudelijk en stelt een vertaalhulp samen. | F67: - | G67: Nee | H67: 0.1 | I67: Cijfer | J67: ABCD (SE+CE) | K67: - | L67: Woordenboek Grieks-Nederlands
C68: VA0603 | D68: S | E68: Je kunt stilistische, inhoudelijke, cultuurhistorische en eventueel metrische vragen beantwoorden over gelezen teksten van een Griekse auteur. Daarnaast kun je een ongezien tekstfragment van dezelfde auteur vertalen. | F68: 100 | G68: Ja | H68: 0.15 | I68: Cijfer | J68: ABCD (SE+CE) | K68: Lesboek/reader met authentieke teksten & achtergrondmateriaal | L68: Woordenboek Grieks-Nederlands
E74: Beoordeling 5e leerjaar in %
E75: Totaal % leerjaar 4 | H75: =$H$33 -> 0
E76: Totaal % leerjaar 5 periode 1: | H76: =SUM(H52:H55) -> 0
E77: Totaal % leerjaar 5 periode 2: | H77: =SUM(H57:H61) -> 0.15
E78: Totaal % leerjaar 5 periode 3: | H78: =SUM(H62:H65) -> 0
E79: Totaal % leerjaar 5 periode 4: | H79: =SUM(H67:H70) -> 0.25
E80: Totaal % leerjaar 4+5: | H80: =SUM(H76:H79) -> 0.4
B82: [1] s = schriftelijk, m = mondeling, d= digitaal, pr = praktisch, p = presentatie, h = handelingsopdracht, a = anders
B83: [2] De toetsvorm van de herkansing is gelijk aan de toetsvorm van de toets die herkanst wordt. De herkansingen vinden plaats aan het einde van de lesperiode van de toets die herkanst wordt of aan het begin van de volgende lesperiode.
...

Sheet Fatl
B1: =Netl!B1 -> Norbertus Programma van Toetsing en Afsluiting 2024-2025 | J1: ='Lijst van vakken'!A4 -> Franse taal en literatuur | L1: =Netl!L1 -> Cohort 24-27
B2: vwo 4
B3: Periode | C3: PTA-code | D3: Toetsvorm [1] | E3: Toetsdoelen | F3: Toetsduur (minuten) | G3: Herkansing [2] | H3: Beoordeling [3] | J3: Eindtermen [4] | K3: Lesmateriaal | L3: Toegestane materialen bij de toets
H4: % | I4: Cijfer of OVG
B6: 1
B11: 2
B16: 3
B21: 4
E28: Beoordeling 4e leerjaar in %
A29: Ja | E29: Totaal % leerjaar 4 periode 1: | H29: =SUM(H6:H9) -> 0
A30: Nee | E30: Totaal % leerjaar 4 periode 2: | H30: =SUM(H11:H15) -> 0
E31: Totaal % leerjaar 4 periode 3: | H31: =SUM(H16:H19) -> 0
E32: Totaal % leerjaar 4 periode 4: | H32: =SUM(H21:H24) -> 0
A33: S | E33: Totaal % leerjaar 4: | H33: =SUM(H29:H32) -> 0
A34: M
A35: D | B35: [1] s = schriftelijk, m = mondeling, d= digitaal, pr = praktisch, p = presentatie, h = handelingsopdracht, a = anders
A36: PR | B36: [2] De toetsvorm van de herkansing is gelijk aan de toetsvorm van de toets die herkanst wordt. De herkansingen vinden plaats aan het einde van de lesperiode van de toets die herkanst wordt of aan het begin van de volgende lesperiode.
A37: P | B37: [3] Hier wordt het percentage van het schoolexamencijfer vermeld OF aangegeven of een O/V/G (onvoldoende, voldoende, goed) beoordeling van toepassing is.
A38: H | B38: [4] Naast de eindtermen wordt ook aangegeven of dit PTA onderdeel CE stof bevat
A39: A
A42: Cijfer
A43: OVG
B47: =Netl!B47 -> Norbertus Programma van Toetsing en Afsluiting 2025-2026 | J47: =J1 -> Franse taal en literatuur | L47: =L1 -> Cohort 24-27
B48: vwo 5
B49: Periode | C49: PTA-code | D49: Toetsvorm [1] | E49: Toetsdoelen | F49: Toetsduur (minuten) | G49: Herkansing [2] | H49: Beoordeling [3] | J49: Eindtermen [4] | K49: Lesmateriaal | L49: Toegestane materialen bij de toets
H50: % | I50: Cijfer of OVG
B52: 1
C54: VAO901 | D54: S | E54: Literatuurgeschiedenis.Je kunt de belangrijkste personen en werken met elkaar koppelen en open en - gesloten vragen over de schrijvers, werken en periodes beantwoorden ( Moyen-Âge, Renaissance,Classicisme ) .Over het leesboek "Un secret'' worden open,meerkeuze-en matchingsvragen gesteld in het Nederlands die ook in het Nederlands beantwoord mogen worden. | F54: 50 | G54: Ja | H54: 0.09 | I54: Cijfer | J54: E | K54: Literatuur module Gl, literatuur geschiedenis + leesboek '' Un secret ''+ leesbegeleidingsvragen. | L54: Alleen leesboek
B57: 2
B62: 3
C64: VA0902 | D64: S | E64: Literatuurgeschiedenis.Je kunt de belangrijkste personen en werken met elkaar koppelen en open en - gesloten vragen over de schrijvers, werken en periodes beantwoorden( Romantisme, Réalisme, Naturalisme Over het leesboek '' La vie comme elle vient ''woreden open,- meerkeuze en matchingsvragen gesteld in het Nederlands die ook in het Nederlands beantwoord mogen worden. | F64: 50 | G64: Ja | H64: 0.09 | I64: Cijfer | J64: E | K64: Literatuur module Gl, literatuur geschiedenis + leesboek '' La vie comme elle vient ''+ leesbegeleidingsvragen. | L64: Alleen leesboek
B67: 4
E74: Beoordeling 5e leerjaar in %
E75: Totaal % leerjaar 4 | H75: =$H$33 -> 0
E76: Totaal % leerjaar 5 periode 1: | H76: =SUM(H52:H55) -> 0.09
E77: Totaal % leerjaar 5 periode 2: | H77: =SUM(H57:H61) -> 0
E78: Totaal % leerjaar 5 periode 3: | H78: =SUM(H62:H65) -> 0.09
E79: Totaal % leerjaar 5 periode 4: | H79: =SUM(H67:H70) -> 0
E80: Totaal % leerjaar 4+5: | H80: =SUM(H76:H79) -> 0.18
B82: [1] s = schriftelijk, m = mondeling, d= digitaal, pr = praktisch, p = presentatie, h = handelingsopdracht, a = anders
...

Sheet Dutl
B1: =Netl!B1 -> Norbertus Programma van Toetsing en Afsluiting 2024-2025 | J1: ='Lijst van vakken'!A5 -> Duitse taal en literatuur | L1: =Netl!L1 -> Cohort 24-27
B2: vwo 4
B3: Periode | C3: PTA-code | D3: Toetsvorm [1] | E3: Toetsdoelen | F3: Toetsduur (minuten) | G3: Herkansing [2] | H3: Beoordeling [3] | J3: Eindtermen [4] | K3: Lesmateriaal | L3: Toegestane materialen bij de toets
H4: % | I4: Cijfer of OVG
B6: 1
B11: 2
B16: 3
B21: 4
E28: Beoordeling 4e leerjaar in %
A29: Ja | E29: Totaal % leerjaar 4 periode 1: | H29: =SUM(H6:H9) -> 0
A30: Nee | E30: Totaal % leerjaar 4 periode 2: | H30: =SUM(H11:H15) -> 0
E31: Totaal % leerjaar 4 periode 3: | H31: =SUM(H16:H19) -> 0
E32: Totaal % leerjaar 4 periode 4: | H32: =SUM(H21:H24) -> 0
A33: S | E33: Totaal % leerjaar 4: | H33: =SUM(H29:H32) -> 0
A34: M
A35: D | B35: [1] s = schriftelijk, m = mondeling, d= digitaal, pr = praktisch, p = presentatie, h = handelingsopdracht, a = anders
A36: PR | B36: [2] De toetsvorm van de herkansing is gelijk aan de toetsvorm van de toets die herkanst wordt. De herkansingen vinden plaats aan het einde van de lesperiode van de toets die herkanst wordt of aan het begin van de volgende lesperiode.
A37: P | B37: [3] Hier wordt het percentage van het schoolexamencijfer vermeld OF aangegeven of een O/V/G (onvoldoende, voldoende, goed) beoordeling van toepassing is.
A38: H | B38: [4] Naast de eindtermen wordt ook aangegeven of dit PTA onderdeel CE stof bevat
A39: A
A42: Cijfer
A43: OVG
B47: =Netl!B47 -> Norbertus Programma van Toetsing en Afsluiting 2025-2026 | J47: =J1 -> Duitse taal en literatuur | L47: =L1 -> Cohort 24-27
B48: vwo 5
B49: Periode | C49: PTA-code | D49: Toetsvorm [1] | E49: Toetsdoelen | F49: Toetsduur (minuten) | G49: Herkansing [2] | H49: Beoordeling [3] | J49: Eindtermen [4] | K49: Lesmateriaal | L49: Toegestane materialen bij de toets
H50: % | I50: Cijfer of OVG
B52: 1
B57: 2
B62: 3
B67: 4
E74: Beoordeling 5e leerjaar in %
E75: Totaal % leerjaar 4 | H75: =$H$33 -> 0
E76: Totaal % leerjaar 5 periode 1: | H76: =SUM(H52:H55) -> 0
E77: Totaal % leerjaar 5 periode 2: | H77: =SUM(H57:H61) -> 0
E78: Totaal % leerjaar 5 periode 3: | H78: =SUM(H62:H65) -> 0
E79: Totaal % leerjaar 5 periode 4: | H79: =SUM(H67:H70) -> 0
E80: Totaal % leerjaar 4+5: | H80: =SUM(H76:H79) -> 0
B82: [1] s = schriftelijk, m = mondeling, d= digitaal, pr = praktisch, p = presentatie, h = handelingsopdracht, a = anders
B83: [2] De toetsvorm van de herkansing is gelijk aan de toetsvorm van de toets die herkanst wordt. De herkansingen vinden plaats aan het einde van de lesperiode van de toets die herkanst wordt of aan het begin van de volgende lesperiode.
B84: [3] Hier wordt het percentage van het schoolexamencijfer vermeld OF aangegeven of een O/V/G (onvoldoende, voldoende, goed) beoordeling van toepassing is.
...

Sheet Entl
B1: =Netl!B1 -> Norbertus Programma van Toetsing en Afsluiting 2024-2025 | J1: ='Lijst van vakken'!A6 -> Engelse taal en literatuur | L1: =Netl!L1 -> Cohort 24-27
B2: vwo 4
B3: Periode | C3: PTA-code | D3: Toetsvorm [1] | E3: Toetsdoelen | F3: Toetsduur (minuten) | G3: Herkansing [2] | H3: Beoordeling [3] | J3: Eindtermen [4] | K3: Lesmateriaal | L3: Toegestane materialen bij de toets
H4: % | I4: Cijfer of OVG
B6: 1
B11: 2
B16: 3
B21: 4
E28: Beoordeling 4e leerjaar in %
A29: Ja | E29: Totaal % leerjaar 4 periode 1: | H29: =SUM(H6:H9) -> 0
A30: Nee | E30: Totaal % leerjaar 4 periode 2: | H30: =SUM(H11:H15) -> 0
E31: Totaal % leerjaar 4 periode 3: | H31: =SUM(H16:H19) -> 0
E32: Totaal % leerjaar 4 periode 4: | H32: =SUM(H21:H24) -> 0
A33: S | E33: Totaal % leerjaar 4: | H33: =SUM(H29:H32) -> 0
A34: M
A35: D | B35: [1] s = schriftelijk, m = mondeling, d= digitaal, pr = praktisch, p = presentatie, h = handelingsopdracht, a = anders
A36: PR | B36: [2] De toetsvorm van de herkansing is gelijk aan de toetsvorm van de toets die herkanst wordt. De herkansingen vinden plaats aan het einde van de lesperiode van de toets die herkanst wordt of aan het begin van de volgende lesperiode.
A37: P | B37: [3] Hier wordt het percentage van het schoolexamencijfer vermeld OF aangegeven of een O/V/G (onvoldoende, voldoende, goed) beoordeling van toepassing is.
A38: H | B38: [4] Naast de eindtermen wordt ook aangegeven of dit PTA onderdeel CE stof bevat
A39: A
A42: Cijfer
A43: OVG
B47: =Netl!B47 -> Norbertus Programma van Toetsing en Afsluiting 2025-2026 | J47: =J1 -> Engelse taal en literatuur | L47: =L1 -> Cohort 24-27
B48: vwo 5
B49: Periode | C49: PTA-code | D49: Toetsvorm [1] | E49: Toetsdoelen | F49: Toetsduur (minuten) | G49: Herkansing [2] | H49: Beoordeling [3] | J49: Eindtermen [4] | K49: Lesmateriaal | L49: Toegestane materialen bij de toets
H50: % | I50: Cijfer of OVG
B52: 1
B57: 2
B62: 3
B67: 4 | C67: VA1801 | D67: S | E67: Roman: The Picture of Dorian Gray van Oscar Wilde + Richard III van Shakespeare - leerlingen lezen en analyseren roman aan de hand van achtergrond informatie literaire stromingen, info schrijver, thema's, genre, karakterontwikkeling/leerlingen bekijken en bestuderen en analyseren keyscenes van het toneelstuk a.d.h.v. The Hollow Crown Richard III, leerlingen bestuderen de ontwikkeling van de hoofdpersoon aan de hand van een drietal evaluation assignments. Leerlingen kunnen het toneelstuk in een historisch kader plaatsen. (SE) | F67: 50 | G67: Nee | H67: 0.05 | I67: Cijfer | J67: E | K67: Roman Dorian Gray + Reader met culturele en historische context + verwerkingsopdrachten rondom thema's/Reader Richard III met drie Keyscenes + historische context Richard III | L67: Roman Dorian Gray
E74: Beoordeling 5e leerjaar in %
E75: Totaal % leerjaar 4 | H75: =$H$33 -> 0
E76: Totaal % leerjaar 5 periode 1: | H76: =SUM(H52:H55) -> 0
E77: Totaal % leerjaar 5 periode 2: | H77: =SUM(H57:H61) -> 0
E78: Totaal % leerjaar 5 periode 3: | H78: =SUM(H62:H65) -> 0
E79: Totaal % leerjaar 5 periode 4: | H79: =SUM(H67:H70) -> 0.05
E80: Totaal % leerjaar 4+5: | H80: =SUM(H76:H79) -> 0.05
B82: [1] s = schriftelijk, m = mondeling, d= digitaal, pr = praktisch, p = presentatie, h = handelingsopdracht, a = anders
B83: [2] De toetsvorm van de herkansing is gelijk aan de toetsvorm van de toets die herkanst wordt. De herkansingen vinden plaats aan het einde van de lesperiode van de toets die herkanst wordt of aan het begin van de volgende lesperiode.
B84: [3] Hier wordt het percentage van het schoolexamencijfer vermeld OF aangegeven of een O/V/G (onvoldoende, voldoende, goed) beoordeling van toepassing is.
...

Sheet s-e
B1: =Netl!B1 -> Norbertus Programma van Toetsing en Afsluiting 2024-2025 | J1: ='Lijst van vakken'!A7 -> Spaanse taal en literatuur (elem.) | L1: =Netl!L1 -> Cohort 24-27
B2: vwo 4
B3: Periode | C3: PTA-code | D3: Toetsvorm [1] | E3: Toetsdoelen | F3: Toetsduur (minuten) | G3: Herkansing [2] | H3: Beoordeling [3] | J3: Eindtermen [4] | K3: Lesmateriaal | L3: Toegestane materialen bij de toets
H4: % | I4: Cijfer of OVG
B6: 1
B11: 2
B16: 3
B21: 4
E28: Beoordeling 4e leerjaar in %
A29: Ja | E29: Totaal % leerjaar 4 periode 1: | H29: =SUM(H6:H9) -> 0
A30: Nee | E30: Totaal % leerjaar 4 periode 2: | H30: =SUM(H11:H15) -> 0
E31: Totaal % leerjaar 4 periode 3: | H31: =SUM(H16:H19) -> 0
E32: Totaal % leerjaar 4 periode 4: | H32: =SUM(H21:H24) -> 0
A33: S | E33: Totaal % leerjaar 4: | H33: =SUM(H29:H32) -> 0
A34: M
A35: D | B35: [1] s = schriftelijk, m = mondeling, d= digitaal, pr = praktisch, p = presentatie, h = handelingsopdracht, a = anders
A36: PR | B36: [2] De toetsvorm van de herkansing is gelijk aan de toetsvorm van de toets die herkanst wordt. De herkansingen vinden plaats aan het einde van de lesperiode van de toets die herkanst wordt of aan het begin van de volgende lesperiode.
A37: P | B37: [3] Hier wordt het percentage van het schoolexamencijfer vermeld OF aangegeven of een O/V/G (onvoldoende, voldoende, goed) beoordeling van toepassing is.
A38: H | B38: [4] Naast de eindtermen wordt ook aangegeven of dit PTA onderdeel CE stof bevat
A39: A
A42: Cijfer
A43: OVG
B47: =Netl!B47 -> Norbertus Programma van Toetsing en Afsluiting 2025-2026 | J47: =J1 -> Spaanse taal en literatuur (elem.) | L47: =L1 -> Cohort 24-27
B48: vwo 5
B49: Periode | C49: PTA-code | D49: Toetsvorm [1] | E49: Toetsdoelen | F49: Toetsduur (minuten) | G49: Herkansing [2] | H49: Beoordeling [3] | J49: Eindtermen [4] | K49: Lesmateriaal | L49: Toegestane materialen bij de toets
H50: % | I50: Cijfer of OVG
B52: 1
B57: 2
B62: 3
B67: 4
E74: Beoordeling 5e leerjaar in %
E75: Totaal % leerjaar 4 | H75: =$H$33 -> 0
E76: Totaal % leerjaar 5 periode 1: | H76: =SUM(H52:H55) -> 0
E77: Totaal % leerjaar 5 periode 2: | H77: =SUM(H57:H61) -> 0
E78: Totaal % leerjaar 5 periode 3: | H78: =SUM(H62:H65) -> 0
E79: Totaal % leerjaar 5 periode 4: | H79: =SUM(H67:H70) -> 0
E80: Totaal % leerjaar 4+5: | H80: =SUM(H76:H79) -> 0
B82: [1] s = schriftelijk, m = mondeling, d= digitaal, pr = praktisch, p = presentatie, h = handelingsopdracht, a = anders
B83: [2] De toetsvorm van de herkansing is gelijk aan de toetsvorm van de toets die herkanst wordt. De herkansingen vinden plaats aan het einde van de lesperiode van de toets die herkanst wordt of aan het begin van de volgende lesperiode.
B84: [3] Hier wordt het percentage van het schoolexamencijfer vermeld OF aangegeven of een O/V/G (onvoldoende, voldoende, goed) beoordeling van toepassing is.
...

Sheet Sptl
B1: =Netl!B1 -> Norbertus Programma van Toetsing en Afsluiting 2024-2025 | J1: ='Lijst van vakken'!A8 -> Spaanse taal en literatuur | L1: =Netl!L1 -> Cohort 24-27
B2: vwo 4
B3: Periode | C3: PTA-code | D3: Toetsvorm [1] | E3: Toetsdoelen | F3: Toetsduur (minuten) | G3: Herkansing [2] | H3: Beoordeling [3] | J3: Eindtermen [4] | K3: Lesmateriaal | L3: Toegestane materialen bij de toets
H4: % | I4: Cijfer of OVG
B6: 1
B11: 2
B16: 3
B21: 4
E28: Beoordeling 4e leerjaar in %
A29: Ja | E29: Totaal % leerjaar 4 periode 1: | H29: =SUM(H6:H9) -> 0
A30: Nee | E30: Totaal % leerjaar 4 periode 2: | H30: =SUM(H11:H15) -> 0
E31: Totaal % leerjaar 4 periode 3: | H31: =SUM(H16:H19) -> 0
E32: Totaal % leerjaar 4 periode 4: | H32: =SUM(H21:H24) -> 0
A33: S | E33: Totaal % leerjaar 4: | H33: =SUM(H29:H32) -> 0
A34: M
A35: D | B35: [1] s = schriftelijk, m = mondeling, d= digitaal, pr = praktisch, p = presentatie, h = handelingsopdracht, a = anders
A36: PR | B36: [2] De toetsvorm van de herkansing is gelijk aan de toetsvorm van de toets die herkanst wordt. De herkansingen vinden plaats aan het einde van de lesperiode van de toets die herkanst wordt of aan het begin van de volgende lesperiode.
A37: P | B37: [3] Hier wordt het percentage van het schoolexamencijfer vermeld OF aangegeven of een O/V/G (onvoldoende, voldoende, goed) beoordeling van toepassing is.
A38: H | B38: [4] Naast de eindtermen wordt ook aangegeven of dit PTA onderdeel CE stof bevat
A39: A
A42: Cijfer
A43: OVG
B47: =Netl!B47 -> Norbertus Programma van Toetsing en Afsluiting 2025-2026 | J47: =J1 -> Spaanse taal en literatuur | L47: =L1 -> Cohort 24-27
B48: vwo 5
B49: Periode | C49: PTA-code | D49: Toetsvorm [1] | E49: Toetsdoelen | F49: Toetsduur (minuten) | G49: Herkansing [2] | H49: Beoordeling [3] | J49: Eindtermen [4] | K49: Lesmateriaal | L49: Toegestane materialen bij de toets
H50: % | I50: Cijfer of OVG
B52: 1
B57: 2
B62: 3
B67: 4
E74: Beoordeling 5e leerjaar in %
E75: Totaal % leerjaar 4 | H75: =$H$33 -> 0
E76: Totaal % leerjaar 5 periode 1: | H76: =SUM(H52:H55) -> 0
E77: Totaal % leerjaar 5 periode 2: | H77: =SUM(H57:H61) -> 0
E78: Totaal % leerjaar 5 periode 3: | H78: =SUM(H62:H65) -> 0
E79: Totaal % leerjaar 5 periode 4: | H79: =SUM(H67:H70) -> 0
E80: Totaal % leerjaar 4+5: | H80: =SUM(H76:H79) -> 0
B82: [1] s = schriftelijk, m = mondeling, d= digitaal, pr = praktisch, p = presentatie, h = handelingsopdracht, a = anders
B83: [2] De toetsvorm van de herkansing is gelijk aan de toetsvorm van de toets die herkanst wordt. De herkansingen vinden plaats aan het einde van de lesperiode van de toets die herkanst wordt of aan het begin van de volgende lesperiode.
B84: [3] Hier wordt het percentage van het schoolexamencijfer vermeld OF aangegeven of een O/V/G (onvoldoende, voldoende, goed) beoordeling van toepassing is.
...

Sheet Ges
B1: =Netl!B1 -> Norbertus Programma van Toetsing en Afsluiting 2024-2025 | J1: ='Lijst van vakken'!A9 -> geschiedenis | L1: =Netl!L1 -> Cohort 24-27
B2: vwo 4
B3: Periode | C3: PTA-code | D3: Toetsvorm [1] | E3: Toetsdoelen | F3: Toetsduur (minuten) | G3: Herkansing [2] | H3: Beoordeling [3] | J3: Eindtermen [4] | K3: Lesmateriaal | L3: Toegestane materialen bij de toets
H4: % | I4: Cijfer of OVG
B6: 1
B11: 2
B16: 3
B21: 4 | C21: VA2301 | D21: S | E21: Voor elk van de kenmerkende aspecten van tijdvak 1 tot en met 8 moet je ´een passend voorbeeld´ kunnen geven ´van een gebeurtenis, ontwikkeling, verschijnsel of handeling dan wel een gedachtegang van een persoon en vervolgens dit voorbeeld kunnen gebruiken om het betreffende aspect te verduidelijken´. Hierbij moet je gebruik kunnen maken van de historische vaardigheden: causaliteit, tijd en chronologie, continuïteit en verandering, standplaatsgebondenheid, brongebruik en vraagstelling, Je kan aan de hand van de thema’s : 1: Bourgondië(behandeld in P2) en 2: Arminius vs. Gomarus en de komst van de Statenbijbel (behandeld in P3)een beargumenteerd antwoord geven op inhoudelijke vragen over de betreffende thema’s; en op grond van situaties in de verschillende tijdvakken ontwikkelingen op langere termijn beschrijven. | F21: 50 | G21: Ja | H21: 0.1 | I21: Cijfer | J21: ABCC Kenmerkende aspecten zijn ook eindexamenstof. De thema's 1 en 2 zijn schoolexamenstof | K21: Geschiedenis Werkplaats H1 t/m 8 + aantekeningen thema's | L21: Woordenboek
E28: Beoordeling 4e leerjaar in %
A29: Ja | E29: Totaal % leerjaar 4 periode 1: | H29: =SUM(H6:H9) -> 0
A30: Nee | E30: Totaal % leerjaar 4 periode 2: | H30: =SUM(H11:H15) -> 0
E31: Totaal % leerjaar 4 periode 3: | H31: =SUM(H16:H19) -> 0
E32: Totaal % leerjaar 4 periode 4: | H32: =SUM(H21:H24) -> 0.1
A33: S | E33: Totaal % leerjaar 4: | H33: =SUM(H29:H32) -> 0.1
A34: M
A35: D | B35: [1] s = schriftelijk, m = mondeling, d= digitaal, pr = praktisch, p = presentatie, h = handelingsopdracht, a = anders
A36: PR | B36: [2] De toetsvorm van de herkansing is gelijk aan de toetsvorm van de toets die herkanst wordt. De herkansingen vinden plaats aan het einde van de lesperiode van de toets die herkanst wordt of aan het begin van de volgende lesperiode.
A37: P | B37: [3] Hier wordt het percentage van het schoolexamencijfer vermeld OF aangegeven of een O/V/G (onvoldoende, voldoende, goed) beoordeling van toepassing is.
A38: H | B38: [4] Naast de eindtermen wordt ook aangegeven of dit PTA onderdeel CE stof bevat
A39: A
A42: Cijfer
A43: OVG
B47: =Netl!B47 -> Norbertus Programma van Toetsing en Afsluiting 2025-2026 | J47: =J1 -> geschiedenis | L47: =L1 -> Cohort 24-27
B48: vwo 5
B49: Periode | C49: PTA-code | D49: Toetsvorm [1] | E49: Toetsdoelen | F49: Toetsduur (minuten) | G49: Herkansing [2] | H49: Beoordeling [3] | J49: Eindtermen [4] | K49: Lesmateriaal | L49: Toegestane materialen bij de toets
H50: % | I50: Cijfer of OVG
B52: 1 | C52: VA2302 | D52: S | E52: Voor elk van de kenmerkende aspecten van tijdvak 4 tot en met 6 moet je ´een passend voorbeeld´ moet kunnen geven ´van een gebeurtenis, ontwikkeling, verschijnsel of handeling dan wel een gedachtegang van een persoon en vervolgens dit voorbeeld kunnen gebruiken om het betreffende aspect te verduidelijken´. Hierbij moet je gebruik kunnen maken van de historische vaardigheden: causaliteit, tijd en chronologie, continuïteit en verandering, standplaatsgebondenheid, brongebruik en vraagstelling, Nieuwe stof: Verschillende kenmerkende aspecten van tijdvak 4 t/m 6 zijn samengevoegd in de historische context: Steden en burgers in de Lage landen (1050-1700). Hiervan moet je de genoemde voorbeelden en de genoemde jaartallen kennen | F52: 50 | G52: Ja | H52: 0.1 | I52: Cijfer | J52: AB De historische context en Kenmerkende aspecten zijn eindexamenstof | K52: Geschiedenis Werkplaats Oriëntatiekennis H 4 t/m 6.3 en Geschiedenis Werkplaats H1 Context lage landen | L52: Woordenboek NL
B57: 2 | C57: VA2303 | D57: S | E57: Voor elk van de kenmerkende aspecten van tijdvak 6.4 tot en met 8 moet je ´een passend voorbeeld´ moet kunnen geven ´van een gebeurtenis, ontwikkeling, verschijnsel of handeling dan wel een gedachtegang van een persoon en vervolgens dit voorbeeld kunnen gebruiken om het betreffende aspect te verduidelijken´. Hierbij moet je gebruik kunnen maken van de historische vaardigheden: causaliteit, tijd en chronologie, continuïteit en verandering, standplaatsgebondenheid, brongebruik en vraagstelling, Nieuwe stof: Verschillende kenmerkende aspecten van tijdvak 6,4 t/m 8 zijn samengevoegd in de historische context: Verlichting 1650-1900. Hiervan moet je de genoemde voorbeelden en de genoemde jaartallen kennen. Je kan aan de hand van het thema: 3: wetenschap een beargumenteerd antwoord geven op inhoudelijke vragen over het betreffende thema. | F57: 50 | G57: Ja | H57: 0.1 | I57: Cijfer | J57: ABC De historische context en kenmerkende aspecten zijn ook eindexamenstof. thema 3 is schoolexamenstof | K57: Geschiedenis Werkplaats H 6.4 t/m 8 en Geschiedenis Werkplaats historische contexten H2, Aantekeningen thema | L57: Woordenboek NL
B62: 3
B67: 4 | C67: VA2304 | D67: S | E67: Voor elk van de kenmerkende aspecten van tijdvak 9 en met 10 moet je ´een passend voorbeeld´ moet kunnen geven ´van een gebeurtenis, ontwikkeling, verschijnsel of handeling dan wel een gedachtegang van een persoon en vervolgens dit voorbeeld kunnen gebruiken om het betreffende aspect te verduidelijken´. Hierbij moet je gebruik kunnen maken van de historische vaardigheden: causaliteit, tijd en chronologie, continuïteit en verandering, standplaatsgebondenheid, brongebruik en vraagstelling, Nieuwe stof: Verschillende kenmerkende aspecten van tijdvak 9 en 10 zijn samengevoegd in de historische context: Duitsland in Europa 1918-1991. Hiervan moet je de genoemde voorbeelden en de genoemde jaartallen kennen. Je kan aan de hand van de thema's: 4: Frans-Duitse oorlog 1870-1871 en 5: Bismarck vs. Wilhelm II van consolidatie naar Expansionisme een beargumenteerd antwoord geven op inhoudelijke vragen over het betreffende thema. | F67: 50 | G67: Ja | H67: 0.15 | I67: Cijfer | J67: ABC De historische context en kenmerkende aspecten zijn ook eindexamenstof. thema's 4 en 5 zijn s schoolexamenstof | K67: Geschiedenis Werkplaats H9 en 10, Geschiendenis Werkplaats historische contexten H4, Aantekeningen thema's | L67: Woordenboek NL
E74: Beoordeling 5e leerjaar in %
E75: Totaal % leerjaar 4 | H75: =$H$33 -> 0.1
E76: Totaal % leerjaar 5 periode 1: | H76: =SUM(H52:H55) -> 0.1
E77: Totaal % leerjaar 5 periode 2: | H77: =SUM(H57:H61) -> 0.1
E78: Totaal % leerjaar 5 periode 3: | H78: =SUM(H62:H65) -> 0
E79: Totaal % leerjaar 5 periode 4: | H79: =SUM(H67:H70) -> 0.15
E80: Totaal % leerjaar 4+5: | H80: =SUM(H75:H79) -> 0.45
B82: [1] s = schriftelijk, m = mondeling, d= digitaal, pr = praktisch, p = presentatie, h = handelingsopdracht, a = anders
B83: [2] De toetsvorm van de herkansing is gelijk aan de toetsvorm van de toets die herkanst wordt. De herkansingen vinden plaats aan het einde van de lesperiode van de toets die herkanst wordt of aan het begin van de volgende lesperiode.
B84: [3] Hier wordt het percentage van het schoolexamencijfer vermeld OF aangegeven of een O/V/G (onvoldoende, voldoende, goed) beoordeling van toepassing is.
...

Sheet Ak
B1: =Netl!B1 -> Norbertus Programma van Toetsing en Afsluiting 2024-2025 | J1: ='Lijst van vakken'!A10 -> aardrijkskunde | L1: =Netl!L1 -> Cohort 24-27
B2: vwo 4
B3: Periode | C3: PTA-code | D3: Toetsvorm [1] | E3: Toetsdoelen | F3: Toetsduur (minuten) | G3: Herkansing [2] | H3: Beoordeling [3] | J3: Eindtermen [4] | K3: Lesmateriaal | L3: Toegestane materialen bij de toets
H4: % | I4: Cijfer of OVG
B6: 1
B11: 2 | C11: VA2801 | D11: PR | E11: Je laat zien dat je geografische informatie kunt selecteren, verwerken en vragen kunt beantwoorden. Je laat zien hoe verschillende geofactoren in samenhang voor de bewoners van een gebied een onwenselijke situatie veroorzaken. Je presenteert de uitkomst van het onderzoek aan de hand van een oorzaak-gevolgschema. | G11: Nee | H11: 0.05 | I11: Cijfer | J11: A1, A2, C2 (CE), C3 | K11: Leerwerkboek hoofdstuk 3, opdrachtbeschrijving in classroom | L11: Leerwerkboek, Grote Bosatlas 56e druk, Chromebook
B16: 3
B21: 4 | C21: VA2802 | D21: S | E21: Je laat zien dat je de sociaalgeografische (economische, sociaal-culturele, demografisch en politieke) kenmerken van Zuid-Amerika in grote lijnen kunt beschrijven, verklaren en met elkaar in verband kunt brengen. Je laat zien dat je actuele vraagstukken met betrekking tot de ontwikkeling van de stad, het platteland en de positiie van inheemse volken in Zuid-Amerika vanuit verschillende dimensies en op verschillende schaalniveaus kunt beschrijven, analyseren, verklaren en beoordelen. | G21: Nee | H21: 0.05 | I21: Cijfer | J21: A1, D1 (CE) , D2 | K21: Leerwerkboek hoofdstuk 4 | L21: Grote Bosatlas 56e druk, woordenboek
E28: Beoordeling 4e leerjaar in %
A29: Ja | E29: Totaal % leerjaar 4 periode 1: | H29: =SUM(H6:H9) -> 0
A30: Nee | E30: Totaal % leerjaar 4 periode 2: | H30: =SUM(H11:H15) -> 0.05
E31: Totaal % leerjaar 4 periode 3: | H31: =SUM(H16:H19) -> 0
E32: Totaal % leerjaar 4 periode 4: | H32: =SUM(H21:H24) -> 0.05
A33: S | E33: Totaal % leerjaar 4: | H33: =SUM(H29:H32) -> 0.1
A34: M
A35: D | B35: [1] s = schriftelijk, m = mondeling, d= digitaal, pr = praktisch, p = presentatie, h = handelingsopdracht, a = anders
A36: PR | B36: [2] De toetsvorm van de herkansing is gelijk aan de toetsvorm van de toets die herkanst wordt. De herkansingen vinden plaats aan het einde van de lesperiode van de toets die herkanst wordt of aan het begin van de volgende lesperiode.
A37: P | B37: [3] Hier wordt het percentage van het schoolexamencijfer vermeld OF aangegeven of een O/V/G (onvoldoende, voldoende, goed) beoordeling van toepassing is.
A38: H | B38: [4] Naast de eindtermen wordt ook aangegeven of dit PTA onderdeel CE stof bevat
A39: A
A42: Cijfer
A43: OVG
B47: =Netl!B47 -> Norbertus Programma van Toetsing en Afsluiting 2025-2026 | J47: =J1 -> aardrijkskunde | L47: =L1 -> Cohort 24-27
B48: vwo 5
B49: Periode | C49: PTA-code | D49: Toetsvorm [1] | E49: Toetsdoelen | F49: Toetsduur (minuten) | G49: Herkansing [2] | H49: Beoordeling [3] | J49: Eindtermen [4] | K49: Lesmateriaal | L49: Toegestane materialen bij de toets
H50: % | I50: Cijfer of OVG
B52: 1 | C52: VA2803 | D52: PR | E52: Je laat zien dat je geografische informatie uit een geografisch informatiesysteem kunt selecteren en verwerken. Je kunt met behulp van de gevonden informatie ontwikkelingen in een grote of middelgrote Nederlandse stad vanuit verschillende dimensies en op meerdere schaalniveaus beschrijven, analyseren en verklaren en de uitkomst presenteren. | G52: Nee | H52: 0.1 | I52: Cijfer | J52: A1, A2, E1 (CE), E2 | K52: Leerwerkboek hoofdstuk 1, opdrachtbeschrijving in classroom | L52: Lesboek, Grote Bosatlas 56e druk, Chromebook
B57: 2
B62: 3 | C62: VA2804 | D62: PR | E62: Je laat zien dat je geografische informatie kunt selecteren, verwerken en vragen kunt beantwoorden. Je toont aan dat je een complex voedselvraagstuk in een land of regio kunt beschrijven en analyseren, dat je daarbij kunt wisselen tussen schaalniveaus en dimensies. Je kunt het beleid gericht op het oplossen van het voedselvraagstuk kritisch beoordelen en alternatieven formuleren. De uitkomst van het onderzoek wordt gepresenteerd. | G62: Nee | H62: 0.1 | I62: Cijfer | J62: A1, A2, B1 (CE), B2 | K62: Leerwerkboek hoofdstuk 2, opdrachtbeschrijving in classroom | L62: Lesboek, Grote Bosatlas 56e druk, Chromebook
B67: 4 | C67: VA2805 | D67: S | E67: Je laat zien dat je klimaatverschillen en daaraan gerelateerde landschappelijke verschillen in Zuid-Amerika in grote lijnen kunt beschrijven en verklaren. Je laat zien dat je de platentektoniek in Zuid-Amerika en de natuurlijke verschijnselen die daarmee samenhangen in grote lijnen kunt beschrijven en verklaren. Je laat zien dat je endogene krachten, exogene krachten, menselijke activiteiten en het optreden van natuurrampen met elkaar in verband kunt brengen. Je laat zien dat je de interne en externe ontwikkelingen van de Zuid-Amerikaanse economie in grote lijnen kunt beschrijven en verklaren. Je laat zien dat je economische ontwikkelingen in Zuid-Amerika niet altijd duurzaam zijn en gevolgen kunnen hebben voor mens en milieu. | F67: 50 | G67: Ja | H67: 0.1 | I67: Cijfer | J67: A1, D1 (CE), D2 | K67: Leerwerkboek hoofdstuk 4 | L67: Grote Bosatlas 56e druk, woordenboek
E74: Beoordeling 5e leerjaar in %
E75: Totaal % leerjaar 4 | H75: =$H$33 -> 0.1
E76: Totaal % leerjaar 5 periode 1: | H76: =SUM(H52:H55) -> 0.1
E77: Totaal % leerjaar 5 periode 2: | H77: =SUM(H57:H61) -> 0
E78: Totaal % leerjaar 5 periode 3: | H78: =SUM(H62:H65) -> 0.1
E79: Totaal % leerjaar 5 periode 4: | H79: =SUM(H67:H70) -> 0.1
E80: Totaal % leerjaar 4+5: | H80: =SUM(H75:H79) -> 0.4
B82: [1] s = schriftelijk, m = mondeling, d= digitaal, pr = praktisch, p = presentatie, h = handelingsopdracht, a = anders
B83: [2] De toetsvorm van de herkansing is gelijk aan de toetsvorm van de toets die herkanst wordt. De herkansingen vinden plaats aan het einde van de lesperiode van de toets die herkanst wordt of aan het begin van de volgende lesperiode.
B84: [3] Hier wordt het percentage van het schoolexamencijfer vermeld OF aangegeven of een O/V/G (onvoldoende, voldoende, goed) beoordeling van toepassing is.
...

Sheet WisA
B1: =Netl!B1 -> Norbertus Programma van Toetsing en Afsluiting 2024-2025 | J1: ='Lijst van vakken'!A11 -> wiskunde A | L1: =Netl!L1 -> Cohort 24-27
B2: vwo 4
B3: Periode | C3: PTA-code | D3: Toetsvorm [1] | E3: Toetsdoelen | F3: Toetsduur (minuten) | G3: Herkansing [2] | H3: Beoordeling [3] | J3: Eindtermen [4] | K3: Lesmateriaal | L3: Toegestane materialen bij de toets
H4: % | I4: Cijfer of OVG
B6: 1
B11: 2
B16: 3
B21: 4
E28: Beoordeling 4e leerjaar in %
A29: Ja | E29: Totaal % leerjaar 4 periode 1: | H29: =SUM(H6:H9) -> 0
A30: Nee | E30: Totaal % leerjaar 4 periode 2: | H30: =SUM(H11:H15) -> 0
E31: Totaal % leerjaar 4 periode 3: | H31: =SUM(H16:H19) -> 0
E32: Totaal % leerjaar 4 periode 4: | H32: =SUM(H21:H24) -> 0
A33: S | E33: Totaal % leerjaar 4: | H33: =SUM(H29:H32) -> 0
A34: M
A35: D | B35: [1] s = schriftelijk, m = mondeling, d= digitaal, pr = praktisch, p = presentatie, h = handelingsopdracht, a = anders
A36: PR | B36: [2] De toetsvorm van de herkansing is gelijk aan de toetsvorm van de toets die herkanst wordt. De herkansingen vinden plaats aan het einde van de lesperiode van de toets die herkanst wordt of aan het begin van de volgende lesperiode.
A37: P | B37: [3] Hier wordt het percentage van het schoolexamencijfer vermeld OF aangegeven of een O/V/G (onvoldoende, voldoende, goed) beoordeling van toepassing is.
A38: H | B38: [4] Naast de eindtermen wordt ook aangegeven of dit PTA onderdeel CE stof bevat
A39: A
A42: Cijfer
A43: OVG
B47: =Netl!B47 -> Norbertus Programma van Toetsing en Afsluiting 2025-2026 | J47: =J1 -> wiskunde A | L47: =L1 -> Cohort 24-27
B48: vwo 5
B49: Periode | C49: PTA-code | D49: Toetsvorm [1] | E49: Toetsdoelen | F49: Toetsduur (minuten) | G49: Herkansing [2] | H49: Beoordeling [3] | J49: Eindtermen [4] | K49: Lesmateriaal | L49: Toegestane materialen bij de toets
H50: % | I50: Cijfer of OVG
B52: 1
B57: 2
B62: 3 | C62: VA3101 | D62: PR | E62: Je beheerst het gebruik van ICT voor het analyseren en visualiseren van complexe wiskundige problemen. (SE) | F62: 50 | G62: Nee | H62: 0.05 | I62: Cijfer | J62: E + F | K62: Dictaat/stencils behorend bij keuzeonderwerp | L62: Grafische Rekenmachine en/of computer/chromebook
B67: 4
E74: Beoordeling 5e leerjaar in %
E75: Totaal % leerjaar 4 | H75: =$H$33 -> 0
E76: Totaal % leerjaar 5 periode 1: | H76: =SUM(H52:H55) -> 0
E77: Totaal % leerjaar 5 periode 2: | H77: =SUM(H57:H61) -> 0
E78: Totaal % leerjaar 5 periode 3: | H78: =SUM(H62:H65) -> 0.05
E79: Totaal % leerjaar 5 periode 4: | H79: =SUM(H67:H70) -> 0
E80: Totaal % leerjaar 4+5: | H80: =SUM(H76:H79) -> 0.05
B82: [1] s = schriftelijk, m = mondeling, d= digitaal, pr = praktisch, p = presentatie, h = handelingsopdracht, a = anders
B83: [2] De toetsvorm van de herkansing is gelijk aan de toetsvorm van de toets die herkanst wordt. De herkansingen vinden plaats aan het einde van de lesperiode van de toets die herkanst wordt of aan het begin van de volgende lesperiode.
B84: [3] Hier wordt het percentage van het schoolexamencijfer vermeld OF aangegeven of een O/V/G (onvoldoende, voldoende, goed) beoordeling van toepassing is.
...

Sheet WisB
B1: =Netl!B1 -> Norbertus Programma van Toetsing en Afsluiting 2024-2025 | J1: ='Lijst van vakken'!A12 -> wiskunde B | L1: =Netl!L1 -> Cohort 24-27
B2: vwo 4
B3: Periode | C3: PTA-code | D3: Toetsvorm [1] | E3: Toetsdoelen | F3: Toetsduur (minuten) | G3: Herkansing [2] | H3: Beoordeling [3] | J3: Eindtermen [4] | K3: Lesmateriaal | L3: Toegestane materialen bij de toets
H4: % | I4: Cijfer of OVG
B6: 1
B11: 2
B16: 3
B21: 4
E28: Beoordeling 4e leerjaar in %
A29: Ja | E29: Totaal % leerjaar 4 periode 1: | H29: =SUM(H6:H9) -> 0
A30: Nee | E30: Totaal % leerjaar 4 periode 2: | H30: =SUM(H11:H15) -> 0
E31: Totaal % leerjaar 4 periode 3: | H31: =SUM(H16:H19) -> 0
E32: Totaal % leerjaar 4 periode 4: | H32: =SUM(H21:H24) -> 0
A33: S | E33: Totaal % leerjaar 4: | H33: =SUM(H29:H32) -> 0
A34: M
A35: D | B35: [1] s = schriftelijk, m = mondeling, d= digitaal, pr = praktisch, p = presentatie, h = handelingsopdracht, a = anders
A36: PR | B36: [2] De toetsvorm van de herkansing is gelijk aan de toetsvorm van de toets die herkanst wordt. De herkansingen vinden plaats aan het einde van de lesperiode van de toets die herkanst wordt of aan het begin van de volgende lesperiode.
A37: P | B37: [3] Hier wordt het percentage van het schoolexamencijfer vermeld OF aangegeven of een O/V/G (onvoldoende, voldoende, goed) beoordeling van toepassing is.
A38: H | B38: [4] Naast de eindtermen wordt ook aangegeven of dit PTA onderdeel CE stof bevat
A39: A
A42: Cijfer
A43: OVG
B47: =Netl!B47 -> Norbertus Programma van Toetsing en Afsluiting 2025-2026 | J47: =J1 -> wiskunde B | L47: =L1 -> Cohort 24-27
B48: vwo 5
B49: Periode | C49: PTA-code | D49: Toetsvorm [1] | E49: Toetsdoelen | F49: Toetsduur (minuten) | G49: Herkansing [2] | H49: Beoordeling [3] | J49: Eindtermen [4] | K49: Lesmateriaal | L49: Toegestane materialen bij de toets
H50: % | I50: Cijfer of OVG
B52: 1
B57: 2
B62: 3
C65: VA3201 | D65: PR | E65: Je beheerst het gebruik van ICT voor het analyseren en visualiseren van complexe wiskundige problemen. (SE) | F65: 50 | G65: Nee | H65: 0.05 | I65: Cijfer | J65: A en B en C en D en E en F, | K65: Dictaat | L65: Device
B67: 4
E74: Beoordeling 5e leerjaar in %
E75: Totaal % leerjaar 4 | H75: =$H$33 -> 0
E76: Totaal % leerjaar 5 periode 1: | H76: =SUM(H52:H55) -> 0
E77: Totaal % leerjaar 5 periode 2: | H77: =SUM(H57:H61) -> 0
E78: Totaal % leerjaar 5 periode 3: | H78: =SUM(H62:H65) -> 0.05
E79: Totaal % leerjaar 5 periode 4: | H79: =SUM(H67:H70) -> 0
E80: Totaal % leerjaar 4+5: | H80: =SUM(H76:H79) -> 0.05
B82: [1] s = schriftelijk, m = mondeling, d= digitaal, pr = praktisch, p = presentatie, h = handelingsopdracht, a = anders
B83: [2] De toetsvorm van de herkansing is gelijk aan de toetsvorm van de toets die herkanst wordt. De herkansingen vinden plaats aan het einde van de lesperiode van de toets die herkanst wordt of aan het begin van de volgende lesperiode.
...

Sheet WisC
B1: =Netl!B1 -> Norbertus Programma van Toetsing en Afsluiting 2024-2025 | J1: ='Lijst van vakken'!A13 -> wiskunde C | L1: =Netl!L1 -> Cohort 24-27
B2: vwo 4
B3: Periode | C3: PTA-code | D3: Toetsvorm [1] | E3: Toetsdoelen | F3: Toetsduur (minuten) | G3: Herkansing [2] | H3: Beoordeling [3] | J3: Eindtermen [4] | K3: Lesmateriaal | L3: Toegestane materialen bij de toets
H4: % | I4: Cijfer of OVG
B6: 1
B11: 2
B16: 3
B21: 4
E28: Beoordeling 4e leerjaar in %
A29: Ja | E29: Totaal % leerjaar 4 periode 1: | H29: =SUM(H6:H9) -> 0
A30: Nee | E30: Totaal % leerjaar 4 periode 2: | H30: =SUM(H11:H15) -> 0
E31: Totaal % leerjaar 4 periode 3: | H31: =SUM(H16:H19) -> 0
E32: Totaal % leerjaar 4 periode 4: | H32: =SUM(H21:H24) -> 0
A33: S | E33: Totaal % leerjaar 4: | H33: =SUM(H29:H32) -> 0
A34: M
A35: D | B35: [1] s = schriftelijk, m = mondeling, d= digitaal, pr = praktisch, p = presentatie, h = handelingsopdracht, a = anders
A36: PR | B36: [2] De toetsvorm van de herkansing is gelijk aan de toetsvorm van de toets die herkanst wordt. De herkansingen vinden plaats aan het einde van de lesperiode van de toets die herkanst wordt of aan het begin van de volgende lesperiode.
A37: P | B37: [3] Hier wordt het percentage van het schoolexamencijfer vermeld OF aangegeven of een O/V/G (onvoldoende, voldoende, goed) beoordeling van toepassing is.
A38: H | B38: [4] Naast de eindtermen wordt ook aangegeven of dit PTA onderdeel CE stof bevat
A39: A
A42: Cijfer
A43: OVG
B47: =Netl!B47 -> Norbertus Programma van Toetsing en Afsluiting 2025-2026 | J47: =J1 -> wiskunde C | L47: =L1 -> Cohort 24-27
B48: vwo 5
B49: Periode | C49: PTA-code | D49: Toetsvorm [1] | E49: Toetsdoelen | F49: Toetsduur (minuten) | G49: Herkansing [2] | H49: Beoordeling [3] | J49: Eindtermen [4] | K49: Lesmateriaal | L49: Toegestane materialen bij de toets
H50: % | I50: Cijfer of OVG
B52: 1
B57: 2
B62: 3
C63: VA3301 | D63: PR | E63: Je kunt -zelfstandig nieuwe stof tot zich te nemen; -kritisch na te denken en te kijken naar eigen werk; -om samen te werken met andere leerlingen; -een aangegeven tijdpad te bewaken. | F63: 50 | G63: Nee | H63: 0.05 | I63: Cijfer | J63: H | K63: Dictaat/stencils behorend bij keuzeonderwerp | L63: Aantekeningen.
B67: 4
E74: Beoordeling 5e leerjaar in %
E75: Totaal % leerjaar 4 | H75: =$H$33 -> 0
E76: Totaal % leerjaar 5 periode 1: | H76: =SUM(H52:H55) -> 0
E77: Totaal % leerjaar 5 periode 2: | H77: =SUM(H57:H61) -> 0
E78: Totaal % leerjaar 5 periode 3: | H78: =SUM(H62:H65) -> 0.05
E79: Totaal % leerjaar 5 periode 4: | H79: =SUM(H67:H70) -> 0
E80: Totaal % leerjaar 4+5: | H80: =SUM(H76:H79) -> 0.05
B82: [1] s = schriftelijk, m = mondeling, d= digitaal, pr = praktisch, p = presentatie, h = handelingsopdracht, a = anders
B83: [2] De toetsvorm van de herkansing is gelijk aan de toetsvorm van de toets die herkanst wordt. De herkansingen vinden plaats aan het einde van de lesperiode van de toets die herkanst wordt of aan het begin van de volgende lesperiode.
...

Sheet WisD
B1: =Netl!B1 -> Norbertus Programma van Toetsing en Afsluiting 2024-2025 | J1: ='Lijst van vakken'!A14 -> wiskunde D | L1: =Netl!L1 -> Cohort 24-27
B2: vwo 4
B3: Periode | C3: PTA-code | D3: Toetsvorm [1] | E3: Toetsdoelen | F3: Toetsduur (minuten) | G3: Herkansing [2] | H3: Beoordeling [3] | J3: Eindtermen [4] | K3: Lesmateriaal | L3: Toegestane materialen bij de toets
H4: % | I4: Cijfer of OVG
B6: 1
B11: 2
B16: 3
B21: 4
E28: Beoordeling 4e leerjaar in %
A29: Ja | E29: Totaal % leerjaar 4 periode 1: | H29: =SUM(H6:H9) -> 0
A30: Nee | E30: Totaal % leerjaar 4 periode 2: | H30: =SUM(H11:H15) -> 0
E31: Totaal % leerjaar 4 periode 3: | H31: =SUM(H16:H19) -> 0
E32: Totaal % leerjaar 4 periode 4: | H32: =SUM(H21:H24) -> 0
A33: S | E33: Totaal % leerjaar 4: | H33: =SUM(H29:H32) -> 0
A34: M
A35: D | B35: [1] s = schriftelijk, m = mondeling, d= digitaal, pr = praktisch, p = presentatie, h = handelingsopdracht, a = anders
A36: PR | B36: [2] De toetsvorm van de herkansing is gelijk aan de toetsvorm van de toets die herkanst wordt. De herkansingen vinden plaats aan het einde van de lesperiode van de toets die herkanst wordt of aan het begin van de volgende lesperiode.
A37: P | B37: [3] Hier wordt het percentage van het schoolexamencijfer vermeld OF aangegeven of een O/V/G (onvoldoende, voldoende, goed) beoordeling van toepassing is.
A38: H | B38: [4] Naast de eindtermen wordt ook aangegeven of dit PTA onderdeel CE stof bevat
A39: A
A42: Cijfer
A43: OVG
B47: =Netl!B47 -> Norbertus Programma van Toetsing en Afsluiting 2025-2026 | J47: =J1 -> wiskunde D | L47: =L1 -> Cohort 24-27
B48: vwo 5
B49: Periode | C49: PTA-code | D49: Toetsvorm [1] | E49: Toetsdoelen | F49: Toetsduur (minuten) | G49: Herkansing [2] | H49: Beoordeling [3] | J49: Eindtermen [4] | K49: Lesmateriaal | L49: Toegestane materialen bij de toets
H50: % | I50: Cijfer of OVG
B52: 1 | C52: VA3401 | D52: S | E52: Leerlingen kunnen de product en somregel gebruiken om telproblemen op te lossen; Variatie, herhalingsvariaties,permutaties, combinatiies en herhalingscombinaties gebruiken; Combinaties en herhalingscombinaties gebruiken in een rooster; Het aantal rangschikkingen berekenen; Met de kansdefinitie van Laplace kansen berekenen; Het vaasmodel gebruiken bij het berekenen van kansen; Kansen bereken met de productregel, somregel en complementregel; Voorwaardelijke kansen berekenen; Kansen berekenen met de algemene produktregel; Verschil tussen met en zonder teruglegging aantonen; De verwachtingswaarde berekenen; Berekingen uitvoeren met de binomiale kansverdeling; Aangeven wat continue kansverdelingen zijn; De binomaile en normale kansverdeling combineren | F52: 50 | G52: Ja | H52: 0.05 | I52: Cijfer | J52: B | K52: Getal en Ruimte Wiskunde D deel 1, Hoofdstuk 1, Combinatoriek Getal en Ruimte Wiskunde D deel 1, Hoofdstuk 3, Kansrekening Getal en Ruimte Wiskunde D deel 2, Hoofdstuk 5, Discrete Kansverdelingen Getal en Ruimte Wiskunde D deel 3, Hoofdstuk 12, Continue Kansverdelingen | L52: Grafische Rekenmachine in nederlandse examenstand
C54: VA3402 | D54: S | E54: Leerlingen kunnen complexe problemen oplossen. Leerlingen zijn in staat om probleemoplossend te denken. Leerlingen kunnen complexere oplossingen wiskundig juist verwoorden/noteren | F54: 100 | G54: Ja | H54: 0.05 | I54: Cijfer | J54: A,G | K54: Powerpoint/dictaat Problem Solving | L54: geen
B57: 2 | C57: VA3403 | D57: S | E57: Leerlingen kunnen bewijzen in de vlakke meetkunde met bijvoorbeeld gelijkvormige en congruente driehoeken, koordenvierhoeken en de stelling van de constante hoek; Bewijzen met behulp van volledige inductie, bewijzen uit het ongerijmde, het ladenprincipe en bewijzen in de getaltheorie | F57: 50 | G57: Ja | H57: 0.05 | I57: Cijfer | J57: F,G | K57: Getal en Ruimte Wiskunde D deel 2, Hoofdstuk 7, Bewijzen | L57: Grafische Rekenmachine in nederlandse examenstand
C59: VA3404 | D59: S | E59: Leerlingen kunnen complexe problemen oplossen. Leerlingen zijn in staat om probleemoplossend te denken. Leerlingen kunnen complexere oplossingen wiskundig juist verwoorden/noteren. | F59: 100 | G59: Ja | H59: 0.05 | I59: Cijfer | J59: A,G | K59: Dictaat Problem Solving 2 + Wedstrijd : Mathekalender | L59: geen
