Workbook

Sheet Lijst van vakken
A1: Nederlandse taal en literatuur
A2: Latijnse taal en cultuur
A3: Griekse taal en cultuur
A4: Franse taal en literatuur
A5: Duitse taal en literatuur
A6: Engelse taal en literatuur
A7: Spaanse taal en literatuur (elem.)
A8: Spaanse taal en literatuur
A9: geschiedenis
A10: aardrijkskunde
A11: wiskunde A
A12: wiskunde B
... A27: loopbaanontwikkeling en - begeleiding

Sheet Netl
B1: Norbertus Programma van Toetsing en Afsluiting 2024-2025 | J1: ='Lijst van vakken'!A1 -> Nederlandse taal en literatuur | L1: Cohort 24-27
B2: vwo 4
B3: Periode | C3: PTA-code | D3: Toetsvorm [1] | E3: Toetsdoelen | F3: Toetsduur (minuten) | G3: Herkansing [2] | H3: Beoordeling [3] | J3: Eindtermen [4] | K3: Lesmateriaal | L3: Toegestane materialen bij de toets
H4: % | I4: Cijfer of OVG
B6: 1 | D6: H | E6: Op het vwo lees je in drie jaar tijd 12 boeken, waarvan 3 historische werken van voor 1880. Van de 3 moderne romans in vwo 4 maak je bij ieder boek een verslag. De kandidaat laat daarin zien dat hij de literaire tekstsoort kan herkennen en onderscheiden, en de literaire begrippen kan hanteren in de interpretatie v an de gelezen literaire tekst. - ROMAN 1 | G6: Ja | I6: OVG | J6: E | K6: Per boek krijg je een aparte opdracht van je docent via Classroom | L6: NBD Biblion uittrekselbank/literom en de gelezen werken.
D7: H | E7: Op het vwo lees je in drie jaar tijd 12 boeken, waarvan 3 historische werken van voor 1880. Van de 3 moderne romans in vwo 4 maak je bij ieder boek een verslag. De kandidaat laat daarin zien dat hij de literaire tekstsoort kan herkennen en onderscheiden, en de literaire begrippen kan hanteren in de interpretatie v an de gelezen literaire tekst. - ROMAN 2 | G7: Ja | I7: OVG | J7: E | K7: Per boek krijg je een aparte opdracht van je docent via Classroom | L7: NBD Biblion uittrekselbank/literom en de gelezen werken.
B11: 2 | D11: H | E11: Op het vwo lees je in drie jaar tijd 12 boeken, waarvan 3 historische werken van voor 1880. Van de 3 moderne romans in vwo 4 maak je bij ieder boek een verslag. De kandidaat laat daarin zien dat hij de literaire tekstsoort kan herkennen en onderscheiden, en de literaire begrippen kan hanteren in de interpretatie v an de gelezen literaire tekst. - ROMAN 2 | G11: Ja | I11: OVG | J11: E | K11: Per boek krijg je een aparte opdracht van je docent via Classroom | L11: NBD Biblion uittrekselbank/literom en de gelezen werken.
B16: 3 | C16: VA0101 | D16: S | E16: De kandidaat kan literaire tekstsoorten herkennen en onderscheiden, en literaire begrippen hanteren in de interpretatie van literaire teksten. (SE) | F16: 50 | G16: Ja | H16: 0.05 | I16: Cijfer | J16: HD - domein E Literatuur | K16: KERN Literatuur/Proza: hoofdstuk 1-2-3-11-12-13-14-15-16. Daarnaast krijg je van je docent nog extra oefenmateriaal. | L16: Woordenboek
D17: H | E17: Op het vwo lees je in drie jaar tijd 12 boeken, waarvan 3 historische werken van voor 1880. Van de 3 moderne romans in vwo 4 maak je bij ieder boek een verslag. De kandidaat laat daarin zien dat hij de literaire tekstsoort kan herkennen en onderscheiden, en de literaire begrippen kan hanteren in de interpretatie v an de gelezen literaire tekst. - ROMAN 3 | G17: Ja | I17: OVG | J17: E | K17: Per boek krijg je een aparte opdracht van je docent via Classroom | L17: NBD Biblion uittrekselbank/literom en de gelezen werken.
B21: 4 | D21: H | E21: Op het vwo lees je in drie jaar tijd 12 boeken, waarvan 3 historische werken van voor 1880. Van de 3 moderne romans in vwo 4 maak je bij ieder boek een verslag. De kandidaat laat daarin zien dat hij de literaire tekstsoort kan herkennen en onderscheiden, en de literaire begrippen kan hanteren in de interpretatie v an de gelezen literaire tekst. - ROMAN 4 | G21: Ja | I21: OVG | J21: E | K21: Per boek krijg je een aparte opdracht van je docent via Classroom | L21: NBD Biblion uittrekselbank/literom en de gelezen werken.
E28: Beoordeling 4e leerjaar in %
A29: Ja | E29: Totaal % leerjaar 4 periode 1: | H29: =SUM(H6:H9) -> 0
A30: Nee | E30: Totaal % leerjaar 4 periode 2: | H30: =SUM(H11:H15) -> 0
E31: Totaal % leerjaar 4 periode 3: | H31: =SUM(H16:H19) -> 0.05
E32: Totaal % leerjaar 4 periode 4: | H32: =SUM(H21:H24) -> 0
A33: S | E33: Totaal % leerjaar 4: | H33: =SUM(H29:H32) -> 0.05
A34: M
A35: D | B35: [1] s = schriftelijk, m = mondeling, d= digitaal, pr = praktisch, p = presentatie, h = handelingsopdracht, a = anders
A36: PR | B36: [2] De toetsvorm van de herkansing is gelijk aan de toetsvorm van de toets die herkanst wordt. De herkansingen vinden plaats aan het einde van de lesperiode van de toets die herkanst wordt of aan het begin van de volgende lesperiode.
A37: P | B37: [3] Hier wordt het percentage van het schoolexamencijfer vermeld OF aangegeven of een O/V/G (onvoldoende, voldoende, goed) beoordeling van toepassing is.
A38: H | B38: [4] Naast de eindtermen wordt ook aangegeven of dit PTA onderdeel CE stof bevat
A39: A
A42: Cijfer
A43: OVG
B47: Norbertus Programma van Toetsing en Afsluiting 2025-2026 | J47: =J1 -> Nederlandse taal en literatuur | L47: =L1 -> Cohort 24-27
B48: vwo 5
B49: Periode | C49: PTA-code | D49: Toetsvorm [1] | E49: Toetsdoelen | F49: Toetsduur (minuten) | G49: Herkansing [2] | H49: Beoordeling [3] | J49: Eindtermen [4] | K49: Lesmateriaal | L49: Toegestane materialen bij de toets
H50: % | I50: Cijfer of OVG
B52: 1 | D52: H | E52: Op het vwo lees je in drie jaar tijd 12 boeken, waarvan 3 historische werken van voor 1880. Van de 3 moderne romans in vwo 4 maak je bij ieder boek een verslag. De kandidaat laat daarin zien dat hij de literaire tekstsoort kan herkennen en onderscheiden, en de literaire begrippen kan hanteren in de interpretatie v an de gelezen literaire tekst. - ROMAN 5 | G52: Ja | I52: OVG | J52: E | K52: Per boek krijg je een aparte opdracht van je docent via Classroom | L52: NBD Biblion uittrekselbank/literom en de gelezen werken.
B57: 2 | D57: H | E57: Op het vwo lees je in drie jaar tijd 12 boeken, waarvan 3 historische werken van voor 1880. Van de 3 moderne romans in vwo 4 maak je bij ieder boek een verslag. De kandidaat laat daarin zien dat hij de literaire tekstsoort kan herkennen en onderscheiden, en de literaire begrippen kan hanteren in de interpretatie v an de gelezen literaire tekst. - ROMAN 6 | G57: Ja | I57: OVG | J57: E | K57: Per boek krijg je een aparte opdracht van je docent via Classroom | L57: NBD Biblion uittrekselbank/literom en de gelezen werken.
B62: 3 | D62: H | E62: Op het vwo lees je in drie jaar tijd 12 boeken, waarvan 3 historische werken van voor 1880. Van de 3 moderne romans in vwo 4 maak je bij ieder boek een verslag. De kandidaat laat daarin zien dat hij de literaire tekstsoort kan herkennen en onderscheiden, en de literaire begrippen kan hanteren in de interpretatie v an de gelezen literaire tekst. - ROMAN 7 | G62: Ja | I62: OVG | J62: E | K62: Per boek krijg je een aparte opdracht van je docent via Classroom | L62: NBD Biblion uittrekselbank/literom en de gelezen werken.
B67: 4 | C67: VA0102 | D67: P | E67: Je leest drie moderne romans naar keuze en een historisch werk (uit de periode Verlichting/Romantiek) dat door de docent wordt voorgeschreven. In een mondeling examen laat je samen zien dat je de drie moderne werken met elkaar kunt verbinden aan de hand van een presentatie van 10 minuten. Daaruit blijkt dat de romans gelezen zijn, dat je relevante literaire begrippen kunt toepassen, dat er secundaire bronnen zijn geraadpleegd, dat je de gelezen werken met elkaar kunt vergelijken, dat je beargumenteerd duidelijk kunt maken wat je leesontwikkeling is geweest en dat je alle gelezen werken in de juiste literair-historische context kunnen plaatsen. Van het historische werk kun je daarbovenop ook uitleggen wat de kenmerken van de bijbehorende literair-historische periode zijn en hoe je die terugziet in het gelezen werk. Na afloop van jouw presentatie stelt de docent diverse verhelderende vragen en/of geeft enkele stellingen ter discussie, vooral gericht op een van de romans. Voorwaarde voor deelname aan het schoolexamen is dat het handelingsdeel volledig is afgerond: het literatuurdossier v5 moet volledig zijn en op tijd zijn ingeleverd. De bijbehorende opdrachten worden door de docent aangeleverd via Google Classroom. Wanneer je dit schoolexamen wil herkansen vervang je één titel op je lijst door een boek dat je door de docent wordt voorgeschreven. Je mag zelf kiezen welke moderne titel je wil vervangen. (SE) | F67: 20 | G67: Ja | H67: 0.1 | I67: Cijfer | J67: E | K67: Drie moderne romans uit de literatuurlijst en een historisch werk dat door de docent wordt bepaald. Kern Nederlands: blz. 130-136 & blz. 184 t/m 250 + uittreksels en recensies van Biblion Uittrekselbank/Literom | L67: geen
D69: H | E69: Op het vwo lees je in drie jaar tijd 12 boeken, waarvan 3 historische werken van voor 1880. Van de 3 moderne romans in vwo 4 maak je bij ieder boek een verslag. De kandidaat laat daarin zien dat hij de literaire tekstsoort kan herkennen en onderscheiden, en de literaire begrippen kan hanteren in de interpretatie v an de gelezen literaire tekst. - ROMAN 8 | G69: Ja | I69: OVG | J69: E | K69: Per boek krijg je een aparte opdracht van je docent via Classroom | L69: NBD Biblion uittrekselbank/literom en de gelezen werken.
E74: Beoordeling 5e leerjaar in %
E75: Totaal % leerjaar 4 | H75: =$H$33 -> 0.05
E76: Totaal % leerjaar 5 periode 1: | H76: =SUM(H52:H55) -> 0
E77: Totaal % leerjaar 5 periode 2: | H77: =SUM(H57:H61) -> 0
E78: Totaal % leerjaar 5 periode 3: | H78: =SUM(H62:H65) -> 0
E79: Totaal % leerjaar 5 periode 4: | H79: =SUM(H67:H70) -> 0.1
E80: Totaal % leerjaar 4+5: | H80: =SUM(H75:H79) -> 0.15
B82: [1] s = schriftelijk, m = mondeling, d= digitaal, pr = praktisch, p = presentatie, h = handelingsopdracht, a = anders
B83: [2] De toetsvorm van de herkansing is gelijk aan de toetsvorm van de toets die herkanst wordt. De herkansingen vinden plaats aan het einde van de lesperiode van de toets die herkanst wordt of aan het begin van de volgende lesperiode.
B84: [3] Hier wordt het percentage van het schoolexamencijfer vermeld OF aangegeven of een O/V/G (onvoldoende, voldoende, goed) beoordeling van toepassing is.
B85: [4] Naast de eindtermen wordt ook aangegeven of dit PTA onderdeel CE stof bevat
B93: Norbertus Programma van Toetsing en Afsluiting 2026-2027 | J93: =J47 -> Nederlandse taal en literatuur | L93: =L1 -> Cohort 24-27
B94: vwo 6
B95: Periode | C95: PTA-code | D95: Toetsvorm [1] | E95: Toetsdoelen | F95: Toetsduur (minuten) | G95: Herkansing [2] | H95: Beoordeling [3] | J95: Eindtermen [4] | K95: Lesmateriaal | L95: Toegestane materialen bij de toets
H96: % | I96: Cijfer of OVG
B98: 1 | C98: VA0103 | D98: S | E98: Je kunt laten zien dat je complexe leestekesten kunt analyseren, interpreteren en beoordelen op inhoud. Daarnaast kun je laten zien dat je tekstgedeeltes kunt samenvatten en dat je de argumentaieleer op de leesteksten kunt toepassen. | F98: 100 | G98: Ja | H98: 0.1 | I98: Cijfer | J98: A + D - SE en CE | K98: handboek KERN blz. 52 t/m 111 + opdrachtenboek KERN blz. 226-262 | L98: Woordenboek
C99: VA0104 | D99: S | E99: Je kunt ten behoeve van een gedocumenteerd essay relevante informatie verzamelen en verwerken; je presenteert deze informatie in je essay correct met het oog op doel, publiek, tekstsoort en conventies voor geschreven taal; je laat zien dat je vanuit een hoofdvraag je persoonlijke visie kunt geven op een actueel, door de school aangereikt onderwerp; voorafgaand aan het schoolexamen heb je zichtbaar deelgenomen aan de verschillende onderdelen van de voorbereiding.(SE) | F99: 100 | G99: ja | H99: 0.3 | I99: Cijfer | J99: C - SE | K99: KERN blz. 56 t/m 82. Je ontvangt van je docent de eindopdracht en (een deel van) de te verwerken bronnen. | L99: Woordenboek, eigen gemaakt bouwplan, eigen geschreven samenvattingen van de gebruikte bronnen.
D101: H | E101: Op het vwo lees je in drie jaar tijd 12 boeken, waarvan 3 historische werken van voor 1880. Van de 3 moderne romans in vwo 4 maak je bij ieder boek een verslag. De kandidaat laat daarin zien dat hij de literaire tekstsoort kan herkennen en onderscheiden, en de literaire begrippen kan hanteren in de interpretatie v an de gelezen literaire tekst. - ROMAN 9 | G101: Ja | I101: OVG | J101: E - SE | K101: Per boek krijg je een aparte opdracht van je docent via Classroom | L101: NBD Biblion uittrekselbank/literom en de gelezen werken.
B103: 2 | C103: VA0105 | D103: PR | E103: Je presenteert (samen met je onderzoekspartner) de onderzoeksresultaten van je profielwerkstuk aan de hand van een specifieke opdracht uitgereikt door je docent. De presentatie duurt inclusief het beantwoorden van vragen 15 minuten; het schoolexamen duurt in totaal 120 minuten, omdat je bij medeleerlingen aanwezig bent en blijft als publiek. Je laat tijdens je presentatie zien en horen dat je relevante informatie uit bronnen kunt verzamelen en verwerken; je kunt deze informatie adequaat presenteren met het oog op doel, publiek en presentatievorm; je kunt adequaat reageren op bijdragen of vragen van het publiek; je bouwt je presentatie op volgens een voor de toehoorder duidelijk herkenbare structuur. | F103: 120 | G103: Ja | H103: 0.3 | I103: Cijfer | J103: B - SE | K103: Je gebruikt de gegevens en resultaten van je profielwerkstuk als bron voor de presentatie. Kern Nederlands: blz. 84 t/m 110 | L103: PowerPoint/Prezi/Google Slides
D105: H | E105: Op het vwo lees je in drie jaar tijd 12 boeken, waarvan 3 historische werken van voor 1880. Van de 3 moderne romans in vwo 4 maak je bij ieder boek een verslag. De kandidaat laat daarin zien dat hij de literaire tekstsoort kan herkennen en onderscheiden, en de literaire begrippen kan hanteren in de interpretatie v an de gelezen literaire tekst. - ROMAN 10 | G105: Ja | I105: OVG | J105: E - SE | K105: Per boek krijg je een aparte opdracht van je docent via Classroom | L105: NBD Biblion uittrekselbank/literom en de gelezen werken.
B108: 3 | D108: H | E108: Op het vwo lees je in drie jaar tijd 12 boeken, waarvan 3 historische werken van voor 1880. Van de 3 moderne romans in vwo 4 maak je bij ieder boek een verslag. De kandidaat laat daarin zien dat hij de literaire tekstsoort kan herkennen en onderscheiden, en de literaire begrippen kan hanteren in de interpretatie v an de gelezen literaire tekst. - ROMAN 11 en 12 | G108: Ja | I108: OVG | J108: E - SE | K108: Per boek krijg je een aparte opdracht van je docent via Classroom | L108: NBD Biblion uittrekselbank/literom en de gelezen werken.
C110: VA0106 | D110: M | E110: Je leest individueel drie moderne romans naar keuze en een historisch werk dat door de docent wordt voorgeschreven. In een mondeling examen laat je zien dat je de drie moderne werken met elkaar kunt verbinden aan de hand van een presentatie van 10 minuten. Daaruit blijkt dat de romans gelezen zijn, dat je relevante literaire begrippen kunt toepassen, dat er secundaire bronnen zijn geraadpleegd, dat je de gelezen werken met elkaar kunt vergelijken, dat je beargumenteerd duidelijk kunt maken wat je leesontwikkeling is geweest en dat je alle gelezen werken in de juiste literair-historische context kunt plaatsen. Van het historische werk kun je daarbovenop ook uitleggen wat de kenmerken van de bijbehorende literair-historische periode zijn en hoe je die terugziet in het gelezen werk. Na afloop van jouw presentatie stelt de docent diverse verhelderende vragen, vooral gericht op een van de romans. Voorwaarde voor deelname aan het schoolexamen is dat het handelingsdeel volledig is afgerond: het literatuurdossier van v4, v5 én v6 moeten volledig zijn en op tijd zijn ingeleverd. De bijbehorende opdrachten worden door de docent aangeleverd via Google Classroom. Wanneer je dit schoolexamen wil herkansen vervang je één titel op je lijst door een boek dat je door de docent wordt voorgeschreven. Je mag zelf kiezen welke titel je wil vervangen. (SE) | F110: 20 | G110: Ja | H110: 0.15 | I110: Cijfer | J110: E - SE | K110: Drie moderne romans uit de literatuurlijst en een historisch werk dat door de docent wordt bepaald. Kern Nederlands: blz. 130-136 & blz. 184 t/m 250 + uittreksels en recensies van Biblion uittrekselbank/literom | L110: geen
E115: Beoordeling 6e leerjaar in %
E116: Totaal % leerjaar 4+5: | H116: =H80 -> 0.15
E117: Totaal % leerjaar 6 periode 1: | H117: =SUM(H98:H101) -> 0.4
E118: Totaal % leerjaar 6 periode 2: | H118: =SUM(H103:H106) -> 0.3
E119: Totaal % leerjaar 6 periode 3: | H119: =SUM(H108:H111) -> 0.15
E120: Totaal % leerjaar 4+5+6: | H120: =SUM(H116:H119) -> 1
B122: [1] s = schriftelijk, m = mondeling, d= digitaal, pr = praktisch, p = presentatie, h = handelingsopdracht, a = anders
B123: [2] De toetsvorm van de herkansing is gelijk aan de toetsvorm van de toets die herkanst wordt. De herkansingen vinden plaats aan het einde van de lesperiode van de toets die herkanst wordt of aan het begin van de volgende lesperiode.
B124: [3] Hier wordt het percentage van het schoolexamencijfer vermeld OF aangegeven of een O/V/G (onvoldoende, voldoende, goed) beoordeling van toepassing is.
B125: [4] Naast de eindtermen wordt ook aangegeven of dit PTA onderdeel CE stof bevat

Sheet Ltc
B1: =Netl!B1 -> Norbertus Programma van Toetsing en Afsluiting 2024-2025 | J1: ='Lijst van vakken'!A2 -> Latijnse taal en cultuur | L1: =Netl!L1 -> Cohort 24-27
B2: vwo 4
B3: Periode | C3: PTA-code | D3: Toetsvorm [1] | E3: Toetsdoelen | F3: Toetsduur (minuten) | G3: Herkansing [2] | H3: Beoordeling [3] | J3: Eindtermen [4] | K3: Lesmateriaal | L3: Toegestane materialen bij de toets
H4: % | I4: Cijfer of OVG
B6: 1
B11: 2
B16: 3
B21: 4
E28: Beoordeling 4e leerjaar in %
A29: Ja | E29: Totaal % leerjaar 4 periode 1: | H29: =SUM(H6:H9) -> 0
A30: Nee | E30: Totaal % leerjaar 4 periode 2: | H30: =SUM(H11:H15) -> 0
E31: Totaal % leerjaar 4 periode 3: | H31: =SUM(H16:H19) -> 0
E32: Totaal % leerjaar 4 periode 4: | H32: =SUM(H21:H24) -> 0
A33: S | E33: Totaal % leerjaar 4: | H33: =SUM(H29:H32) -> 0
A34: M
A35: D | B35: [1] s = schriftelijk, m = mondeling, d= digitaal, pr = praktisch, p = presentatie, h = handelingsopdracht, a = anders
A36: PR | B36: [2] De toetsvorm van de herkansing is gelijk aan de toetsvorm van de toets die herkanst wordt. De herkansingen vinden plaats aan het einde van de lesperiode van de toets die herkanst wordt of aan het begin van de volgende lesperiode.
A37: P | B37: [3] Hier wordt het percentage van het schoolexamencijfer vermeld OF aangegeven of een O/V/G (onvoldoende, voldoende, goed) beoordeling van toepassing is.
A38: H | B38: [4] Naast de eindtermen wordt ook aangegeven of dit PTA onderdeel CE stof bevat
A39: A
A42: Cijfer
A43: OVG
B47: =Netl!B47 -> Norbertus Programma van Toetsing en Afsluiting 2025-2026 | J47: =J1 -> Latijnse taal en cultuur | L47: =L1 -> Cohort 24-27
B48: vwo 5
B49: Periode | C49: PTA-code | D49: Toetsvorm [1] | E49: Toetsdoelen | F49: Toetsduur (minuten) | G49: Herkansing [2] | H49: Beoordeling [3] | J49: Eindtermen [4] | K49: Lesmateriaal | L49: Toegestane materialen bij de toets
H50: % | I50: Cijfer of OVG
B52: 1
B57: 2 | C57: VA0501 | D57: S | E57: Je kunt stilistische, inhoudelijke, cultuurhistorische en eventueel metrische vragen beantwoorden over gelezen teksten van een Romeinse auteur. Daarnaast kun je een ongezien tekstfragment van dezelfde auteur vertalen. | F57: 100 | G57: Ja | H57: 0.15 | I57: Cijfer | J57: ABCD (SE+CE) | K57: Lesboek/reader met authentieke teksten & achtergrondmateriaal | L57: Woordenboek Latijn-Nederlands
B62: 3
B67: 4 | C67: VA0502 | D67: PR | E67: Je kiest een auteur en een passage in het Latijn van die auteur. Je analyseert de passage grammaticaal en inhoudelijk en stelt een vertaalhulp samen. | F67: - | G67: Nee | H67: 0.1 | I67: Cijfer | J67: ABCD (SE+CE) | K67: - | L67: Woordenboek Latijn-Nederlands
C68: VA0503 | D68: S | E68: Je kunt stilistische, inhoudelijke, cultuurhistorische en eventueel metrische vragen beantwoorden over gelezen teksten van een Romeinse auteur. Daarnaast kun je een ongezien tekstfragment van dezelfde auteur vertalen. | F68: 100 | G68: Ja | H68: 0.15 | I68: Cijfer | J68: ABCD (SE+CE) | K68: Lesboek/reader met authentieke teksten & achtergrondmateriaal | L68: Woordenboek Latijn-Nederlands
E74: Beoordeling 5e leerjaar in %
E75: Totaal % leerjaar 4 | H75: =$H$33 -> 0
E76: Totaal % leerjaar 5 periode 1: | H76: =SUM(H52:H55) -> 0
E77: Totaal % leerjaar 5 periode 2: | H77: =SUM(H57:H61) -> 0.15
E78: Totaal % leerjaar 5 periode 3: | H78: =SUM(H62:H65) -> 0
E79: Totaal % leerjaar 5 periode 4: | H79: =SUM(H67:H70) -> 0.25
E80: Totaal % leerjaar 4+5: | H80: =SUM(H76:H79) -> 0.4
B82: [1] s = schriftelijk, m = mondeling, d= digitaal, pr = praktisch, p = presentatie, h = handelingsopdracht, a = anders
B83: [2] De toetsvorm van de herkansing is gelijk aan de toetsvorm van de toets die herkanst wordt. De herkansingen vinden plaats aan het einde van de lesperiode van de toets die herkanst wordt of aan het begin van de volgende lesperiode.
B84: [3] Hier wordt het percentage van het schoolexamencijfer vermeld OF aangegeven of een O/V/G (onvoldoende, voldoende, goed) beoordeling van toepassing is.
B85: [4] Naast de eindtermen wordt ook aangegeven of dit PTA onderdeel CE stof bevat
B93: =Netl!B93 -> Norbertus Programma van Toetsing en Afsluiting 2026-2027 | J93: =J47 -> Latijnse taal en cultuur | L93: =L1 -> Cohort 24-27
B94: vwo 6
B95: Periode | C95: PTA-code | D95: Toetsvorm [1] | E95: Toetsdoelen | F95: Toetsduur (minuten) | G95: Herkansing [2] | H95: Beoordeling [3] | J95: Eindtermen [4] | K95: Lesmateriaal | L95: Toegestane materialen bij de toets
H96: % | I96: Cijfer of OVG
B98: 1 | C98: VA0504 | D98: S | E98: Je kunt stilistische, inhoudelijke, cultuurhistorische en eventueel metrische vragen beantwoorden over gelezen teksten van de eindexamenauteur. Daarnaast kun je een ongezien tekstfragment van dezelfde auteur vertalen. | F98: 100 | G98: Ja | H98: 0.15 | I98: Cijfer | J98: ABCD (SE+CE) | K98: Eindexamenbundel + Compendium SUMMA | L98: Woordenboek Latijn-Nederlands
B103: 2 | C103: VA0505 | D103: S | E103: Je kunt stilistische, inhoudelijke, cultuurhistorische en eventueel metrische vragen beantwoorden over gelezen teksten van de eindexamenauteur. Daarnaast kun je een ongezien tekstfragment van dezelfde auteur vertalen. | F103: 100 | G103: Ja | H103: 0.2 | I103: Cijfer | J103: ABCD (SE+CE) | K103: Eindexamenbundel + Compendium SUMMA | L103: Woordenboek Latijn-Nederlands
B108: 3 | C108: VA0506 | D108: S | E108: Je kunt stilistische, inhoudelijke, cultuurhistorische en eventueel metrische vragen beantwoorden over gelezen teksten van de eindexamenauteur. Daarnaast kun je een ongezien tekstfragment van dezelfde auteur vertalen. | F108: 100 | G108: Ja | H108: 0.25 | I108: Cijfer | J108: ABCD (SE+CE) | K108: Eindexamenbundel + Compendium SUMMA | L108: Woordenboek Latijn-Nederlands
E115: Beoordeling 6e leerjaar in %
E116: Totaal % leerjaar 4+5: | H116: =H80 -> 0.4
E117: Totaal % leerjaar 6 periode 1: | H117: =SUM(H98:H101) -> 0.15
E118: Totaal % leerjaar 6 periode 2: | H118: =SUM(H103:H106) -> 0.2
E119: Totaal % leerjaar 6 periode 3: | H119: =SUM(H108:H111) -> 0.25
E120: Totaal % leerjaar 4+5+6: | H120: =SUM(H116:H119) -> 1
B122: [1] s = schriftelijk, m = mondeling, d= digitaal, pr = praktisch, p = presentatie, h = handelingsopdracht, a = anders
B123: [2] De toetsvorm van de herkansing is gelijk aan de toetsvorm van de toets die herkanst wordt. De herkansingen vinden plaats aan het einde van de lesperiode van de toets die herkanst wordt of aan het begin van de volgende lesperiode.
B124: [3] Hier wordt het percentage van het schoolexamencijfer vermeld OF aangegeven of een O/V/G (onvoldoende, voldoende, goed) beoordeling van toepassing is.
B125: [4] Naast de eindtermen wordt ook aangegeven of dit PTA onderdeel CE stof bevat

Sheet Gtc
B1: =Netl!B1 -> Norbertus Programma van Toetsing en Afsluiting 2024-2025 | J1: ='Lijst van vakken'!A3 -> Griekse taal en cultuur | L1: =Netl!L1 -> Cohort 24-27
B2: vwo 4
B3: Periode | C3: PTA-code | D3: Toetsvorm [1] | E3: Toetsdoelen | F3: Toetsduur (minuten) | G3: Herkansing [2] | H3: Beoordeling [3] | J3: Eindtermen [4] | K3: Lesmateriaal | L3: Toegestane materialen bij de toets
H4: % | I4: Cijfer of OVG
B6: 1
B11: 2
B16: 3
B21: 4
E28: Beoordeling 4e leerjaar in %
A29: Ja | E29: Totaal % leerjaar 4 periode 1: | H29: =SUM(H6:H9) -> 0
A30: Nee | E30: Totaal % leerjaar 4 periode 2: | H30: =SUM(H11:H15) -> 0
E31: Totaal % leerjaar 4 periode 3: | H31: =SUM(H16:H19) -> 0
E32: Totaal % leerjaar 4 periode 4: | H32: =SUM(H21:H24) -> 0
A33: S | E33: Totaal % leerjaar 4: | H33: =SUM(H29:H32) -> 0
A34: M
A35: D | B35: [1] s = schriftelijk, m = mondeling, d= digitaal, pr = praktisch, p = presentatie, h = handelingsopdracht, a = anders
A36: PR | B36: [2] De toetsvorm van de herkansing is gelijk aan de toetsvorm van de toets die herkanst wordt. De herkansingen vinden plaats aan het einde van de lesperiode van de toets die herkanst wordt of aan het begin van de volgende lesperiode.
A37: P | B37: [3] Hier wordt het percentage van het schoolexamencijfer vermeld OF aangegeven of een O/V/G (onvoldoende, voldoende, goed) beoordeling van toepassing is.
A38: H | B38: [4] Naast de eindtermen wordt ook aangegeven of dit PTA onderdeel CE stof bevat
A39: A
A42: Cijfer
A43: OVG
B47: =Netl!B47 -> Norbertus Programma van Toetsing en Afsluiting 2025-2026 | J47: =J1 -> Griekse taal en cultuur | L47: =L1 -> Cohort 24-27
B48: vwo 5
B49: Periode | C49: PTA-code | D49: Toetsvorm [1] | E49: Toetsdoelen | F49: Toetsduur (minuten) | G49: Herkansing [2] | H49: Beoordeling [3] | J49: Eindtermen [4] | K49: Lesmateriaal | L49: Toegestane materialen bij de toets
H50: % | I50: Cijfer of OVG
B52: 1
B57: 2 | C57: VA0601 | D57: S | E57: Je kunt stilistische, inhoudelijke, cultuurhistorische en eventueel metrische vragen beantwoorden over gelezen teksten van een Griekse auteur. Daarnaast kun je een ongezien tekstfragment van dezelfde auteur vertalen. | F57: 100 | G57: Ja | H57: 0.15 | I57: Cijfer | J57: ABCD (SE+CE) | K57: Lesboek/reader met authentieke teksten & achtergrondmateriaal | L57: Woordenboek Grieks-Nederlands
B62: 3
B67: 4 | C67: VA0602 | D67: PR | E67: Je kiest een auteur en een passage in het Grieks van die auteur. Je analyseert de passage grammaticaal en inhoudelijk en stelt een vertaalhulp samen. | F67: - | G67: Nee | H67: 0.1 | I67: Cijfer | J67: ABCD (SE+CE) | K67: - | L67: Woordenboek Grieks-Nederlands
C68: VA0603 | D68: S | E68: Je kunt stilistische, inhoudelijke, cultuurhistorische en eventueel metrische vragen beantwoorden over gelezen teksten van een Griekse auteur. Daarnaast kun je een ongezien tekstfragment van dezelfde auteur vertalen. | F68: 100 | G68: Ja | H68: 0.15 | I68: Cijfer | J68: ABCD (SE+CE) | K68: Lesboek/reader met authentieke teksten & achtergrondmateriaal | L68: Woordenboek Grieks-Nederlands
E74: Beoordeling 5e leerjaar in %
E75: Totaal % leerjaar 4 | H75: =$H$33 -> 0
E76: Totaal % leerjaar 5 periode 1: | H76: =SUM(H52:H55) -> 0
E77: Totaal % leerjaar 5 periode 2: | H77: =SUM(H57:H61) -> 0.15
E78: Totaal % leerjaar 5 periode 3: | H78: =SUM(H62:H65) -> 0
E79: Totaal % leerjaar 5 periode 4: | H79: =SUM(H67:H70) -> 0.25
E80: Totaal % leerjaar 4+5: | H80: =SUM(H76:H79) -> 0.4
B82: [1] s = schriftelijk, m = mondeling, d= digitaal, pr = praktisch, p = presentatie, h = handelingsopdracht, a = anders
B83: [2] De toetsvorm van de herkansing is gelijk aan de toetsvorm van de toets die herkanst wordt. De herkansingen vinden plaats aan het einde van de lesperiode van de toets die herkanst wordt of aan het begin van de volgende lesperiode.
B84: [3] Hier wordt het percentage van het schoolexamencijfer vermeld OF aangegeven of een O/V/G (onvoldoende, voldoende, goed) beoordeling van toepassing is.
B85: [4] Naast de eindtermen wordt ook aangegeven of dit PTA onderdeel CE stof bevat
B93: =Netl!B93 -> Norbertus Programma van Toetsing en Afsluiting 2026-2027 | J93: =J47 -> Griekse taal en cultuur | L93: =L1 -> Cohort 24-27
B94: vwo 6
B95: Periode | C95: PTA-code | D95: Toetsvorm [1] | E95: Toetsdoelen | F95: Toetsduur (minuten) | G95: Herkansing [2] | H95: Beoordeling [3] | J95: Eindtermen [4] | K95: Lesmateriaal | L95: Toegestane materialen bij de toets
H96: % | I96: Cijfer of OVG
B98: 1 | C98: VA0604 | D98: S | E98: Je kunt stilistische, inhoudelijke, cultuurhistorische en eventueel metrische vragen beantwoorden over gelezen teksten van de eindexamenauteur. Daarnaast kun je een ongezien tekstfragment van dezelfde auteur vertalen. | F98: 100 | G98: Ja | H98: 0.15 | I98: Cijfer | J98: ABCD (SE+CE) | K98: Eindexamenbundel + Compendium PHAROS | L98: Woordenboek Grieks-Nederlands
B103: 2 | C103: VA0605 | D103: S | E103: Je kunt stilistische, inhoudelijke, cultuurhistorische en eventueel metrische vragen beantwoorden over gelezen teksten van de eindexamenauteur. Daarnaast kun je een ongezien tekstfragment van dezelfde auteur vertalen. | F103: 100 | G103: Ja | H103: 0.2 | I103: Cijfer | J103: ABCD (SE+CE) | K103: Eindexamenbundel + Compendium PHAROS | L103: Woordenboek Grieks-Nederlands
B108: 3 | C108: VA0606 | D108: S | E108: Je kunt stilistische, inhoudelijke, cultuurhistorische en eventueel metrische vragen beantwoorden over gelezen teksten van de eindexamenauteur. Daarnaast kun je een ongezien tekstfragment van dezelfde auteur vertalen. | F108: 100 | G108: Ja | H108: 0.25 | I108: Cijfer | J108: ABCD (SE+CE) | K108: Eindexamenbundel + Compendium PHAROS | L108: Woordenboek Grieks-Nederlands
E115: Beoordeling 6e leerjaar in %
E116: Totaal % leerjaar 4+5: | H116: =H80 -> 0.4
E117: Totaal % leerjaar 6 periode 1: | H117: =SUM(H98:H101) -> 0.15
E118: Totaal % leerjaar 6 periode 2: | H118: =SUM(H103:H106) -> 0.2
E119: Totaal % leerjaar 6 periode 3: | H119: =SUM(H108:H111) -> 0.25
E120: Totaal % leerjaar 4+5+6: | H120: =SUM(H116:H119) -> 1
B122: [1] s = schriftelijk, m = mondeling, d= digitaal, pr = praktisch, p = presentatie, h = handelingsopdracht, a = anders
B123: [2] De toetsvorm van de herkansing is gelijk aan de toetsvorm van de toets die herkanst wordt. De herkansingen vinden plaats aan het einde van de lesperiode van de toets die herkanst wordt of aan het begin van de volgende lesperiode.
B124: [3] Hier wordt het percentage van het schoolexamencijfer vermeld OF aangegeven of een O/V/G (onvoldoende, voldoende, goed) beoordeling van toepassing is.
B125: [4] Naast de eindtermen wordt ook aangegeven of dit PTA onderdeel CE stof bevat

Sheet Fatl
B1: =Netl!B1 -> Norbertus Programma van Toetsing en Afsluiting 2024-2025 | J1: ='Lijst van vakken'!A4 -> Franse taal en literatuur | L1: =Netl!L1 -> Cohort 24-27
B2: vwo 4
B3: Periode | C3: PTA-code | D3: Toetsvorm [1] | E3: Toetsdoelen | F3: Toetsduur (minuten) | G3: Herkansing [2] | H3: Beoordeling [3] | J3: Eindtermen [4] | K3: Lesmateriaal | L3: Toegestane materialen bij de toets
H4: % | I4: Cijfer of OVG
B6: 1
B11: 2
B16: 3
B21: 4
E28: Beoordeling 4e leerjaar in %
A29: Ja | E29: Totaal % leerjaar 4 periode 1: | H29: =SUM(H6:H9) -> 0
A30: Nee | E30: Totaal % leerjaar 4 periode 2: | H30: =SUM(H11:H15) -> 0
E31: Totaal % leerjaar 4 periode 3: | H31: =SUM(H16:H19) -> 0
E32: Totaal % leerjaar 4 periode 4: | H32: =SUM(H21:H24) -> 0
A33: S | E33: Totaal % leerjaar 4: | H33: =SUM(H29:H32) -> 0
A34: M
A35: D | B35: [1] s = schriftelijk, m = mondeling, d= digitaal, pr = praktisch, p = presentatie, h = handelingsopdracht, a = anders
A36: PR | B36: [2] De toetsvorm van de herkansing is gelijk aan de toetsvorm van de toets die herkanst wordt. De herkansingen vinden plaats aan het einde van de lesperiode van de toets die herkanst wordt of aan het begin van de volgende lesperiode.
A37: P | B37: [3] Hier wordt het percentage van het schoolexamencijfer vermeld OF aangegeven of een O/V/G (onvoldoende, voldoende, goed) beoordeling van toepassing is.
A38: H | B38: [4] Naast de eindtermen wordt ook aangegeven of dit PTA onderdeel CE stof bevat
A39: A
A42: Cijfer
A43: OVG
B47: =Netl!B47 -> Norbertus Programma van Toetsing en Afsluiting 2025-2026 | J47: =J1 -> Franse taal en literatuur | L47: =L1 -> Cohort 24-27
B48: vwo 5
B49: Periode | C49: PTA-code | D49: Toetsvorm [1] | E49: Toetsdoelen | F49: Toetsduur (minuten) | G49: Herkansing [2] | H49: Beoordeling [3] | J49: Eindtermen [4] | K49: Lesmateriaal | L49: Toegestane materialen bij de toets
H50: % | I50: Cijfer of OVG
B52: 1
C54: VAO901 | D54: S | E54: Literatuurgeschiedenis.Je kunt de belangrijkste personen en werken met elkaar koppelen en open en - gesloten vragen over de schrijvers, werken en periodes beantwoorden ( Moyen-Âge, Renaissance,Classicisme ) .Over het leesboek "Un secret'' worden open,meerkeuze-en matchingsvragen gesteld in het Nederlands die ook in het Nederlands beantwoord mogen worden. | F54: 50 | G54: Ja | H54: 0.09 | I54: Cijfer | J54: E | K54: Literatuur module Gl, literatuur geschiedenis + leesboek '' Un secret ''+ leesbegeleidingsvragen. | L54: Alleen leesboek
B57: 2
B62: 3
C64: VA0902 | D64: S | E64: Literatuurgeschiedenis.Je kunt de belangrijkste personen en werken met elkaar koppelen en open en - gesloten vragen over de schrijvers, werken en periodes beantwoorden( Romantisme, Réalisme, Naturalisme Over het leesboek '' La vie comme elle vient ''woreden open,- meerkeuze en matchingsvragen gesteld in het Nederlands die ook in het Nederlands beantwoord mogen worden. | F64: 50 | G64: Ja | H64: 0.09 | I64: Cijfer | J64: E | K64: Literatuur module Gl, literatuur geschiedenis + leesboek '' La vie comme elle vient ''+ leesbegeleidingsvragen. | L64: Alleen leesboek
B67: 4
E74: Beoordeling 5e leerjaar in %
E75: Totaal % leerjaar 4 | H75: =$H$33 -> 0
E76: Totaal % leerjaar 5 periode 1: | H76: =SUM(H52:H55) -> 0.09
E77: Totaal % leerjaar 5 periode 2: | H77: =SUM(H57:H61) -> 0
E78: Totaal % leerjaar 5 periode 3: | H78: =SUM(H62:H65) -> 0.09
E79: Totaal % leerjaar 5 periode 4: | H79: =SUM(H67:H70) -> 0
E80: Totaal % leerjaar 4+5: | H80: =SUM(H76:H79) -> 0.18
B82: [1] s = schriftelijk, m = mondeling, d= digitaal, pr = praktisch, p = presentatie, h = handelingsopdracht, a = anders
B83: [2] De toetsvorm van de herkansing is gelijk aan de toetsvorm van de toets die herkanst wordt. De herkansingen vinden plaats aan het einde van de lesperiode van de toets die herkanst wordt of aan het begin van de volgende lesperiode.
B84: [3] Hier wordt het percentage van het schoolexamencijfer vermeld OF aangegeven of een O/V/G (onvoldoende, voldoende, goed) beoordeling van toepassing is.
B85: [4] Naast de eindtermen wordt ook aangegeven of dit PTA onderdeel CE stof bevat
B93: =Netl!B93 -> Norbertus Programma van Toetsing en Afsluiting 2026-2027 | J93: =J47 -> Franse taal en literatuur | L93: =L1 -> Cohort 24-27
B94: vwo 6
B95: Periode | C95: PTA-code | D95: Toetsvorm [1] | E95: Toetsdoelen | F95: Toetsduur (minuten) | G95: Herkansing [2] | H95: Beoordeling [3] | J95: Eindtermen [4] | K95: Lesmateriaal | L95: Toegestane materialen bij de toets
H96: % | I96: Cijfer of OVG
B98: 1 | C98: VA0903 | D98: S | E98: Examen Idioom Frans vwo 5/6. Je kunt signaalwoorden en veel voorkomend idioom in vraagstelling CE leesvaardigheid, herkennen en interpreteren. Het betreft de thema's 1 t/m 10: relations,éducation nationale, boire et manger,habitudes et sentiment,qualité/quantité et intensité. êtres vivants et nature, moyens de transport/transports en commun, sports et loisirs, informatique/médias et communication,l' homme et ses traits de caractère. Je kunt signaalwoorden herkennen en toepassen. Je kunt synoniemen, antoniemen en omschrijvingen geven.Afname geIsoleerde woorden , zwevende woorden plaatsen in contekst en relatie leggen via kruismodellen. Alles FN. | F98: 50 | G98: Nee | H98: 0.05 | I98: Cijfer | J98: A | K98: Module Examen Idioom vwo 5/6 | L98: geen
C100: VA0904 | D100: D | E100: Schrijfvaardigheid op de computer.Je kunt adequaat reageren in schriftelijke contacten, informatie vragen en verstrekken,verworven informatie adequaat presenteren. Minimaal 200 woorden. | F100: 100 | G100: Ja | H100: 0.2 | I100: Cijfer | J100: D | K100: Examendossier '' lire ''uit methode Grandes Lignes vwo 6 | L100: woordenboek FN/NF.
B103: 2 | C103: VA0905 | D103: S | E103: Literatuurgeschiedenis.Je kunt de belangrijkste personen en werken met elkaar koppelen en open en gesloten vragen over de schrijvers, werken en perioden met elkaar koppelen ( Symbolisme,Modernisme,L'Après Guerre, l'Extrême Contemporain ). Ook kan je inhoudelijke vragen over het leesboek '' Stupeur et tremblements'' beantwoorden.Op deze manier hebben de leerlingen kennis gemaakt met de Franse literatuurgeschiedenis. Over de literaire perioden alsmede over het leesboek worden open,meerkeuze-en matchingsvragen gesteld in het Nederlands die ook in het Nederlands beantwoord mogen worden. | F103: 50 | G103: Ja | H103: 0.07 | I103: Cijfer | J103: E. | K103: Module literatuur GL H 7 t/m 9 en het leesboek '' Stupeur et tremblements '' | L103: Alleen leesboek
C105: VA0906 | D105: A | E105: Luistervaardigheid Cito KLV-toets. Je kunt aangeven welke informatie relevant is,de hoofdgedachte van een tekst aangeven,de belangrijkste elementen van een tekst aangeven,intenties en gevoelens van de spreker filteren, anticiperen op het vervolg van een gesprek. | F105: 100 | G105: Ja | H105: 0.2 | I105: Cijfer | J105: B | K105: Examendossier '' écouter''uit methode Grandes Lignes vwo 6 en www.woots.nl | L105: geen
B108: 3 | C108: VA0907 | D108: S | E108: Examen Idioom Frans vwo 5/6. Je kunt signaalwoorden en veel voorkomend idioom in vraagstelling CE leesvaardigheid herkennen en interpreteren. Het betreft de thema's 11 t/m 19: questions monétaires, science et technologies, santé, nature et environnement,verbes fréquents,la vie active, le mal et le crime,la vie politique, la vie artistique et culturelle. Je kunt signaalwoorden herkennen en toepassen., synoniemen, antoniemen en omschrijvingen geven.Afname geIsoleerde woorden , zwevende woorden plaatsen in contekst en relatie leggen via kruismodellen. Alles FN. | F108: 50 | G108: Nee | H108: 0.05 | I108: Cijfer | J108: A | K108: Module Examen Idioom vwo 5/6 | L108: geen
C110: VA0908 | D110: M | E110: Mondeling individuele toets spreekvaardigheid.Je kunt adequaat reageren in sociale contacten met doeltaal gebruikers , zaken en personen beschrijven, standpunten en argumenten verwoorden , informatie vragen en verstrekken, uitdrukking geven aan gevoelens. Het mondeling bestaat uit 3 delen. Deel 1: Je vertelt middels een moodboard kort over jezelf, je dagelijks leven, je vervolgopleiding en je vakanties.Deel 2 : Je kunt een afbeelding beschrijven en interpreteren. Mogelijke thema's zijn wonen, winkelen, vrije tijd, studie, cultuur, werken, reizen, gezondheid, milieu, eten en drinken. Deel 3: Je kunt een dialoog met je docent voeren over een artikel / tekst uit jouw belevingswereld met een onderwerp van maatschappelijk belang. Deel 1 kan in de lessen en thuis voorbereid worden. Deel 2 en 3 worden 15 minuten voor het mondeling in een ruimte met toezichthouder voorbereid. | F110: 15 | G110: Ja | H110: 0.25 | I110: Cijfer | J110: C | K110: Examendossier '' parler''uit methode Grandes Lignes vwo 6 | L110: Tijdens het voorbereiden van deel 2 en 3 mag een woordenboek NF/FN gebruikt worden. Ze mogen A4 met aantekeningen in de vorm van steekwoorden/mindmap meebrengen naar het mondeling maar mogen deze niet oplezen , slechts incidenteel raadplegen.
E115: Beoordeling 6e leerjaar in %
E116: Totaal % leerjaar 4+5: | H116: =H80 -> 0.18
E117: Totaal % leerjaar 6 periode 1: | H117: =SUM(H98:H101) -> 0.25
E118: Totaal % leerjaar 6 periode 2: | H118: =SUM(H103:H106) -> 0.27
E119: Totaal % leerjaar 6 periode 3: | H119: =SUM(H108:H111) -> 0.3
E120: Totaal % leerjaar 4+5+6: | H120: =SUM(H116:H119) -> 1
B122: [1] s = schriftelijk, m = mondeling, d= digitaal, pr = praktisch, p = presentatie, h = handelingsopdracht, a = anders
B123: [2] De toetsvorm van de herkansing is gelijk aan de toetsvorm van de toets die herkanst wordt. De herkansingen vinden plaats aan het einde van de lesperiode van de toets die herkanst wordt of aan het begin van de volgende lesperiode.
B124: [3] Hier wordt het percentage van het schoolexamencijfer vermeld OF aangegeven of een O/V/G (onvoldoende, voldoende, goed) beoordeling van toepassing is.
B125: [4] Naast de eindtermen wordt ook aangegeven of dit PTA onderdeel CE stof bevat

Sheet Dutl
B1: =Netl!B1 -> Norbertus Programma van Toetsing en Afsluiting 2024-2025 | J1: ='Lijst van vakken'!A5 -> Duitse taal en literatuur | L1: =Netl!L1 -> Cohort 24-27
B2: vwo 4
B3: Periode | C3: PTA-code | D3: Toetsvorm [1] | E3: Toetsdoelen | F3: Toetsduur (minuten) | G3: Herkansing [2] | H3: Beoordeling [3] | J3: Eindtermen [4] | K3: Lesmateriaal | L3: Toegestane materialen bij de toets
H4: % | I4: Cijfer of OVG
B6: 1
B11: 2
B16: 3
B21: 4
E28: Beoordeling 4e leerjaar in %
A29: Ja | E29: Totaal % leerjaar 4 periode 1: | H29: =SUM(H6:H9) -> 0
A30: Nee | E30: Totaal % leerjaar 4 periode 2: | H30: =SUM(H11:H15) -> 0
E31: Totaal % leerjaar 4 periode 3: | H31: =SUM(H16:H19) -> 0
E32: Totaal % leerjaar 4 periode 4: | H32: =SUM(H21:H24) -> 0
A33: S | E33: Totaal % leerjaar 4: | H33: =SUM(H29:H32) -> 0
A34: M
A35: D | B35: [1] s = schriftelijk, m = mondeling, d= digitaal, pr = praktisch, p = presentatie, h = handelingsopdracht, a = anders
A36: PR | B36: [2] De toetsvorm van de herkansing is gelijk aan de toetsvorm van de toets die herkanst wordt. De herkansingen vinden plaats aan het einde van de lesperiode van de toets die herkanst wordt of aan het begin van de volgende lesperiode.
A37: P | B37: [3] Hier wordt het percentage van het schoolexamencijfer vermeld OF aangegeven of een O/V/G (onvoldoende, voldoende, goed) beoordeling van toepassing is.
A38: H | B38: [4] Naast de eindtermen wordt ook aangegeven of dit PTA onderdeel CE stof bevat
A39: A
A42: Cijfer
A43: OVG
B47: =Netl!B47 -> Norbertus Programma van Toetsing en Afsluiting 2025-2026 | J47: =J1 -> Duitse taal en literatuur | L47: =L1 -> Cohort 24-27
B48: vwo 5
B49: Periode | C49: PTA-code | D49: Toetsvorm [1] | E49: Toetsdoelen | F49: Toetsduur (minuten) | G49: Herkansing [2] | H49: Beoordeling [3] | J49: Eindtermen [4] | K49: Lesmateriaal | L49: Toegestane materialen bij de toets
H50: % | I50: Cijfer of OVG
B52: 1
B57: 2
B62: 3
B67: 4
E74: Beoordeling 5e leerjaar in %
E75: Totaal % leerjaar 4 | H75: =$H$33 -> 0
E76: Totaal % leerjaar 5 periode 1: | H76: =SUM(H52:H55) -> 0
E77: Totaal % leerjaar 5 periode 2: | H77: =SUM(H57:H61) -> 0
E78: Totaal % leerjaar 5 periode 3: | H78: =SUM(H62:H65) -> 0
E79: Totaal % leerjaar 5 periode 4: | H79: =SUM(H67:H70) -> 0
E80: Totaal % leerjaar 4+5: | H80: =SUM(H76:H79) -> 0
B82: [1] s = schriftelijk, m = mondeling, d= digitaal, pr = praktisch, p = presentatie, h = handelingsopdracht, a = anders
B83: [2] De toetsvorm van de herkansing is gelijk aan de toetsvorm van de toets die herkanst wordt. De herkansingen vinden plaats aan het einde van de lesperiode van de toets die herkanst wordt of aan het begin van de volgende lesperiode.
B84: [3] Hier wordt het percentage van het schoolexamencijfer vermeld OF aangegeven of een O/V/G (onvoldoende, voldoende, goed) beoordeling van toepassing is.
B85: [4] Naast de eindtermen wordt ook aangegeven of dit PTA onderdeel CE stof bevat
B93: =Netl!B93 -> Norbertus Programma van Toetsing en Afsluiting 2026-2027 | J93: =J47 -> Duitse taal en literatuur | L93: =L1 -> Cohort 24-27
B94: vwo 6
B95: Periode | C95: PTA-code | D95: Toetsvorm [1] | E95: Toetsdoelen | F95: Toetsduur (minuten) | G95: Herkansing [2] | H95: Beoordeling [3] | J95: Eindtermen [4] | K95: Lesmateriaal | L95: Toegestane materialen bij de toets
H96: % | I96: Cijfer of OVG
B98: 1 | C98: VA1401 | D98: S | E98: Je kunt teksten begrijpen en open en gesloten vragen beantwoorden (CE). Je kunt in teksten de geleerde signaal- en examenwoorden aangeven. Je kunt relaties tussen delen van een tekst aangeven en woorden in de juiste context plaatsen en de vertaling van een woord uit de context afleiden. Je kunt de functie van een woord duiden op zinsniveau. (SE) | F98: 50 | G98: Nee | H98: 0.1 | I98: Cijfer | J98: A, D | K98: Reader signaalwoorden / lijst belangrijke examenwoorden bladzijde 1 tot en met 5 (tot en met "zuverlässig") DuitsNederlands. Lijst wordt uitgedeeld en is op Classroom te vinden. | L98: Je mag een woordenboek D-N meenemen voor het tweede deel van de toets (leesvaardigheid)
C99: VA1402 | D99: S | E99: Je kunt een formele brief schrijven over een onderwerp uit jouw dagelijkse of toekomstige leven inclusief korte stukjes vrij schrijven. Je kunt de inhoud daarvan zelf bepalen aan de hand van een globale opdracht. De brief wordt met pen en papier gemaakt. Het minimum aantal woorden na de aanhef is 225. Maximaal mag je 275 woorden gebruiken. | F99: 100 | G99: Ja | H99: 0.2 | I99: Cijfer | J99: D | K99: Reader schrijfvaardigheid. Wordt uitgedeeld en is op Classroom te vinden. | L99: Woordenboeken D-N en N-D
B103: 2 | C103: VA1403 | D103: S | E103: Je kunt de belangrijkste personen en werken uit de Duitse literatuurgeschiedenis met elkaar koppelen. Je kunt open en gesloten vragen over de schrijvers, werken en periodes (Mittelalter, Aufklärung, Sturm und Drang, Klassik, Romantik, das junge Deutschland/das Biedermeier, der poetische Realismus, Trümmerliteratur, Literatur in der BRD, Literatur in der DDR, Literatur im vereinten Deutschland) beantwoorden. Ook kun je inhoudelijke vragen over de leesboeken "Der Vorleser", "Terror" en "Die Welle" + (eventueel) de bijbehorende films beantwoorden. Op deze manier heb je kennisgemaakt met de Duitse literatuurgeschiedenis. De vragen worden in het Nederlands gesteld en mag je ook in het Nederlands beantwoorden. | F103: 50 | G103: Ja | H103: 0.2 | I103: Cijfer | J103: E | K103: Reader Literaturgeschichte. Deze wordt uitgedeeld en is op Classroom te vinden. Het studiemateriaal uit de literatuurgeschiedenis zijn de volgende periodes: Mittelalter, Aufklärung, Sturm und Drang, Klassik, Romantik, das junge Deutschland/das Biedermeier, der poetische Realismus, Trümmerliteratur, Literatur in der BRD, Literatur in der DDR en Literatur im vereinten Deutschland'. Daarnaast lees je drie boeken: Der Vorleser, Terror en die Welle en kijk je (eventueel) naar de bijbehorende films. | L103: niets
B108: 3 | C108: VA1404 | D108: A | E108: Je kunt aangeven welke informatie relevant is gegeven een vaststaande behoefte. Tevens kun je de hoofdgedachte van een tekst aangeven en conclusies trekken met betrekking tot de intenties, opvattingen en gevoelens van de spreker(s). Ook kun je anticiperen op het meest waarschijnlijke gevolg van een gesprek. In het deel van de globale vraagvorm moet je hoofd- en bijzaken uit een tekst kunnen halen. Je maakt bij dit deel aantekeningen zonder dat de vragen bekend zijn. | F108: 60 | G108: Ja | H108: 0.25 | I108: Cijfer | J108: B | K108: Reader signaalwoorden / lijst belangrijke examenwoorden voor het vergroten van de woordenschat. Oefenmateriaal is beschikbaarop www.woots.nl | L108: niets
C109: VA1405 | D109: M | E109: Je kunt in tweetallen circa 20 minuten spreken en een gesprek voeren. Het mondeling bestaat uit drie delen. Deel 1: je vertelt kort over jezelf, over jouw vervolgopleiding en over de naderende zomervakantie. Deel 2: je vertelt aan de hand van afbeeldingen een verhaal in het Duits na. Deel 3: je voert in tweetallen een gesprek over een casus/thema uit jouw belevingswereld. Deel 1 bereid je thuis voor. Deel 2 en 3 bereid je 20 minuten voor het mondeling voor in een ruimte met toezichthouder zonder overleg met elkaar. | F109: 20 | G109: Ja | H109: 0.25 | I109: Cijfer | J109: C, F | K109: Reader spreekvaardigheid. Wordt uitgedeeld en is op Classroom te vinden. | L109: Tijdens voorbereiding van deel 2 en 3 mag je woordenboeken D-N en N-D gebruiken. Deze worden door de school verstrekt.
E115: Beoordeling 6e leerjaar in %
E116: Totaal % leerjaar 4+5: | H116: =H80 -> 0
E117: Totaal % leerjaar 6 periode 1: | H117: =SUM(H98:H101) -> 0.3
E118: Totaal % leerjaar 6 periode 2: | H118: =SUM(H103:H106) -> 0.2
E119: Totaal % leerjaar 6 periode 3: | H119: =SUM(H108:H111) -> 0.5
E120: Totaal % leerjaar 4+5+6: | H120: =SUM(H116:H119) -> 1
B122: [1] s = schriftelijk, m = mondeling, d= digitaal, pr = praktisch, p = presentatie, h = handelingsopdracht, a = anders
B123: [2] De toetsvorm van de herkansing is gelijk aan de toetsvorm van de toets die herkanst wordt. De herkansingen vinden plaats aan het einde van de lesperiode van de toets die herkanst wordt of aan het begin van de volgende lesperiode.
B124: [3] Hier wordt het percentage van het schoolexamencijfer vermeld OF aangegeven of een O/V/G (onvoldoende, voldoende, goed) beoordeling van toepassing is.
B125: [4] Naast de eindtermen wordt ook aangegeven of dit PTA onderdeel CE stof bevat

Sheet Entl
B1: =Netl!B1 -> Norbertus Programma van Toetsing en Afsluiting 2024-2025 | J1: ='Lijst van vakken'!A6 -> Engelse taal en literatuur | L1: =Netl!L1 -> Cohort 24-27
B2: vwo 4
B3: Periode | C3: PTA-code | D3: Toetsvorm [1] | E3: Toetsdoelen | F3: Toetsduur (minuten) | G3: Herkansing [2] | H3: Beoordeling [3] | J3: Eindtermen [4] | K3: Lesmateriaal | L3: Toegestane materialen bij de toets
H4: % | I4: Cijfer of OVG
B6: 1
B11: 2
B16: 3
B21: 4
E28: Beoordeling 4e leerjaar in %
A29: Ja | E29: Totaal % leerjaar 4 periode 1: | H29: =SUM(H6:H9) -> 0
A30: Nee | E30: Totaal % leerjaar 4 periode 2: | H30: =SUM(H11:H15) -> 0
E31: Totaal % leerjaar 4 periode 3: | H31: =SUM(H16:H19) -> 0
E32: Totaal % leerjaar 4 periode 4: | H32: =SUM(H21:H24) -> 0
A33: S | E33: Totaal % leerjaar 4: | H33: =SUM(H29:H32) -> 0
A34: M
A35: D | B35: [1] s = schriftelijk, m = mondeling, d= digitaal, pr = praktisch, p = presentatie, h = handelingsopdracht, a = anders
A36: PR | B36: [2] De toetsvorm van de herkansing is gelijk aan de toetsvorm van de toets die herkanst wordt. De herkansingen vinden plaats aan het einde van de lesperiode van de toets die herkanst wordt of aan het begin van de volgende lesperiode.
A37: P | B37: [3] Hier wordt het percentage van het schoolexamencijfer vermeld OF aangegeven of een O/V/G (onvoldoende, voldoende, goed) beoordeling van toepassing is.
A38: H | B38: [4] Naast de eindtermen wordt ook aangegeven of dit PTA onderdeel CE stof bevat
A39: A
A42: Cijfer
A43: OVG
B47: =Netl!B47 -> Norbertus Programma van Toetsing en Afsluiting 2025-2026 | J47: =J1 -> Engelse taal en literatuur | L47: =L1 -> Cohort 24-27
B48: vwo 5
B49: Periode | C49: PTA-code | D49: Toetsvorm [1] | E49: Toetsdoelen | F49: Toetsduur (minuten) | G49: Herkansing [2] | H49: Beoordeling [3] | J49: Eindtermen [4] | K49: Lesmateriaal | L49: Toegestane materialen bij de toets
H50: % | I50: Cijfer of OVG
B52: 1
B57: 2
B62: 3
B67: 4 | C67: VA1801 | D67: S | E67: Roman: The Picture of Dorian Gray van Oscar Wilde + Richard III van Shakespeare - leerlingen lezen en analyseren roman aan de hand van achtergrond informatie literaire stromingen, info schrijver, thema's, genre, karakterontwikkeling/leerlingen bekijken en bestuderen en analyseren keyscenes van het toneelstuk a.d.h.v. The Hollow Crown Richard III, leerlingen bestuderen de ontwikkeling van de hoofdpersoon aan de hand van een drietal evaluation assignments. Leerlingen kunnen het toneelstuk in een historisch kader plaatsen. (SE) | F67: 50 | G67: Nee | H67: 0.05 | I67: Cijfer | J67: E | K67: Roman Dorian Gray + Reader met culturele en historische context + verwerkingsopdrachten rondom thema's/Reader Richard III met drie Keyscenes + historische context Richard III | L67: Roman Dorian Gray
E74: Beoordeling 5e leerjaar in %
E75: Totaal % leerjaar 4 | H75: =$H$33 -> 0
E76: Totaal % leerjaar 5 periode 1: | H76: =SUM(H52:H55) -> 0
E77: Totaal % leerjaar 5 periode 2: | H77: =SUM(H57:H61) -> 0
E78: Totaal % leerjaar 5 periode 3: | H78: =SUM(H62:H65) -> 0
E79: Totaal % leerjaar 5 periode 4: | H79: =SUM(H67:H70) -> 0.05
E80: Totaal % leerjaar 4+5: | H80: =SUM(H76:H79) -> 0.05
B82: [1] s = schriftelijk, m = mondeling, d= digitaal, pr = praktisch, p = presentatie, h = handelingsopdracht, a = anders
B83: [2] De toetsvorm van de herkansing is gelijk aan de toetsvorm van de toets die herkanst wordt. De herkansingen vinden plaats aan het einde van de lesperiode van de toets die herkanst wordt of aan het begin van de volgende lesperiode.
B84: [3] Hier wordt het percentage van het schoolexamencijfer vermeld OF aangegeven of een O/V/G (onvoldoende, voldoende, goed) beoordeling van toepassing is.
B85: [4] Naast de eindtermen wordt ook aangegeven of dit PTA onderdeel CE stof bevat
B93: =Netl!B93 -> Norbertus Programma van Toetsing en Afsluiting 2026-2027 | J93: =J47 -> Engelse taal en literatuur | L93: =L1 -> Cohort 24-27
B94: vwo 6
B95: Periode | C95: PTA-code | D95: Toetsvorm [1] | E95: Toetsdoelen | F95: Toetsduur (minuten) | G95: Herkansing [2] | H95: Beoordeling [3] | J95: Eindtermen [4] | K95: Lesmateriaal | L95: Toegestane materialen bij de toets
H96: % | I96: Cijfer of OVG
B98: 1 | C98: VA1802 | D98: S | E98: Adequaat reageren in schriftelijke contacten met doeltaalgebruikers; - informatie vragen en verstrekken; - verworven informatie adequaat presenteren met het oog op doel en publiek, en daarbij zaken of personen beschrijven en uitdrukking geven aan gevoelens en standpunten verwoorden; - een verslag schrijven - Eindproduct: Cambridge Advanced C1 essay 220-260 woorden | F98: 70 | G98: Ja | H98: 0.25 | I98: Cijfer | J98: D Rubric Cambridge C1 | K98: Cambridge Advanced C1 essay tasks + oefenmateriaal in de vorm van ondersteunende grammatica+ vocabulaire oefeningen/toepassen useful phrases t.b.v. organisatie/coherentie van een essay. | L98: Woordenboek E/N + N/E
B103: 2 | C103: VA1803 | D103: S | E103: De kandidaat kan literaire tekstsoorten herkennen en onderscheiden, en literaire begrippen hanteren in de interpretatie van literaire teksten. De kandidaat kan een overzicht geven van de hoofdlijnen van de literatuurgeschiedenis en de gelezen literaire werken plaatsen in dit historisch perspectief. | F103: 50 | G103: Ja | H103: 0.1 | I103: Cijfer | J103: E | K103: Toneelstuk Macbeth - Shakespeare + aanvullende worksheets met opdrachten t.b.v. tekstbegrip en interpretatie /Roman Pride&Prejudice - Jane Austen + aanvullend achtergrond materiaal t.b.v tekstbegrip | L103: Toneelstuk Macbeth. Roman Pride and Prejudice
C105: VA1804 | D105: A | E105: De leerling kan: – aangeven welke informatie relevant is, gegeven een vaststaande behoefte; – de hoofdgedachte van een tekst aangeven; – de betekenis van belangrijke elementen van een tekst aangeven; – conclusies trekken met betrekking tot intenties, opvattingen en gevoelens van de spreker(s); – anticiperen op het meest waarschijnlijke vervolg van een gesprek; – aantekeningen maken als strategie om een luisterfragment aan te pakken. | F105: 60 | G105: Ja | H105: 0.25 | I105: Cijfer | J105: B | K105: Cito kijk luistertoetsen via Woots.nl | L105: Geen
B108: 3 | C108: VA1805 | D108: S | E108: De leerling kan relaties tussen delen van een tekst aangeven; woorden in de juiste context plaatsen; vertaling van een woord uit de context afleiden; functie van een woord duiden op zinsniveau. SE is een combinatie van toepassingsgerichte opdrachten en CE examenteksten om toepassing en inzicht te toetsen. | F108: 50 | G108: Ja | H108: 0.1 | I108: Cijfer | J108: A | K108: Woordenlijsten Engels VWO - Stichting Studiebegeleiding Leiden | L108: Geen
C110: VA1806 | D110: M | E110: De kandidaat kan: - adequaat reageren in sociale contacten met doeltaalgebruikers; - informatie vragen en verstrekken; - uitdrukking geven aan gevoelens; - zaken of personen beschrijven en standpunten en argumenten verwoorden; - strategieën toepassen om een gesprek voortgang te doen vinden.(Gesprekken voeren) De kandidaat kan verworven informatie adequaat presenteren met het oog op doel en publiek, en daarbij zaken of personen beschrijven en standpunten en argumenten verwoorden. (Spreekvaardigheid) | F110: 25 minuten per tweetal/ 50 minuten per viertal | G110: Ja | H110: 0.25 | I110: Cijfer | J110: C1/C2 Rubric - beoordeling wordt gedaan door twee docenten Engels | K110: De leerling krijgt een magazine Wasp Reporter met teksten waarvan de leerling er 4 voorbereidt voor een monoloog. De docent kiest op het moment van het mondeling een tekst uit. De leerling krijgt oefenmateriaal voor de statements, bruikbare zinnen, en handvatten hoe om te gaan met het spreken over foto's. | L110: 5 keywords per voorbereide tekst
E115: Beoordeling 6e leerjaar in %
E116: Totaal % leerjaar 4+5: | H116: =H80 -> 0.05
E117: Totaal % leerjaar 6 periode 1: | H117: =SUM(H98:H101) -> 0.25
E118: Totaal % leerjaar 6 periode 2: | H118: =SUM(H103:H106) -> 0.35
E119: Totaal % leerjaar 6 periode 3: | H119: =SUM(H108:H111) -> 0.35
E120: Totaal % leerjaar 4+5+6: | H120: =SUM(H116:H119) -> 1
B122: [1] s = schriftelijk, m = mondeling, d= digitaal, pr = praktisch, p = presentatie, h = handelingsopdracht, a = anders
B123: [2] De toetsvorm van de herkansing is gelijk aan de toetsvorm van de toets die herkanst wordt. De herkansingen vinden plaats aan het einde van de lesperiode van de toets die herkanst wordt of aan het begin van de volgende lesperiode.
B124: [3] Hier wordt het percentage van het schoolexamencijfer vermeld OF aangegeven of een O/V/G (onvoldoende, voldoende, goed) beoordeling van toepassing is.
B125: [4] Naast de eindtermen wordt ook aangegeven of dit PTA onderdeel CE stof bevat

Sheet s-e
B1: =Netl!B1 -> Norbertus Programma van Toetsing en Afsluiting 2024-2025 | J1: ='Lijst van vakken'!A7 -> Spaanse taal en literatuur (elem.) | L1: =Netl!L1 -> Cohort 24-27
B2: vwo 4
B3: Periode | C3: PTA-code | D3: Toetsvorm [1] | E3: Toetsdoelen | F3: Toetsduur (minuten) | G3: Herkansing [2] | H3: Beoordeling [3] | J3: Eindtermen [4] | K3: Lesmateriaal | L3: Toegestane materialen bij de toets
H4: % | I4: Cijfer of OVG
B6: 1
B11: 2
B16: 3
B21: 4
E28: Beoordeling 4e leerjaar in %
A29: Ja | E29: Totaal % leerjaar 4 periode 1: | H29: =SUM(H6:H9) -> 0
A30: Nee | E30: Totaal % leerjaar 4 periode 2: | H30: =SUM(H11:H15) -> 0
E31: Totaal % leerjaar 4 periode 3: | H31: =SUM(H16:H19) -> 0
E32: Totaal % leerjaar 4 periode 4: | H32: =SUM(H21:H24) -> 0
A33: S | E33: Totaal % leerjaar 4: | H33: =SUM(H29:H32) -> 0
A34: M
A35: D | B35: [1] s = schriftelijk, m = mondeling, d= digitaal, pr = praktisch, p = presentatie, h = handelingsopdracht, a = anders
A36: PR | B36: [2] De toetsvorm van de herkansing is gelijk aan de toetsvorm van de toets die herkanst wordt. De herkansingen vinden plaats aan het einde van de lesperiode van de toets die herkanst wordt of aan het begin van de volgende lesperiode.
A37: P | B37: [3] Hier wordt het percentage van het schoolexamencijfer vermeld OF aangegeven of een O/V/G (onvoldoende, voldoende, goed) beoordeling van toepassing is.
A38: H | B38: [4] Naast de eindtermen wordt ook aangegeven of dit PTA onderdeel CE stof bevat
A39: A
A42: Cijfer
A43: OVG
B47: =Netl!B47 -> Norbertus Programma van Toetsing en Afsluiting 2025-2026 | J47: =J1 -> Spaanse taal en literatuur (elem.) | L47: =L1 -> Cohort 24-27
B48: vwo 5
B49: Periode | C49: PTA-code | D49: Toetsvorm [1] | E49: Toetsdoelen | F49: Toetsduur (minuten) | G49: Herkansing [2] | H49: Beoordeling [3] | J49: Eindtermen [4] | K49: Lesmateriaal | L49: Toegestane materialen bij de toets
H50: % | I50: Cijfer of OVG
B52: 1
B57: 2
B62: 3
B67: 4
E74: Beoordeling 5e leerjaar in %
E75: Totaal % leerjaar 4 | H75: =$H$33 -> 0
E76: Totaal % leerjaar 5 periode 1: | H76: =SUM(H52:H55) -> 0
E77: Totaal % leerjaar 5 periode 2: | H77: =SUM(H57:H61) -> 0
E78: Totaal % leerjaar 5 periode 3: | H78: =SUM(H62:H65) -> 0
E79: Totaal % leerjaar 5 periode 4: | H79: =SUM(H67:H70) -> 0
E80: Totaal % leerjaar 4+5: | H80: =SUM(H76:H79) -> 0
B82: [1] s = schriftelijk, m = mondeling, d= digitaal, pr = praktisch, p = presentatie, h = handelingsopdracht, a = anders
B83: [2] De toetsvorm van de herkansing is gelijk aan de toetsvorm van de toets die herkanst wordt. De herkansingen vinden plaats aan het einde van de lesperiode van de toets die herkanst wordt of aan het begin van de volgende lesperiode.
B84: [3] Hier wordt het percentage van het schoolexamencijfer vermeld OF aangegeven of een O/V/G (onvoldoende, voldoende, goed) beoordeling van toepassing is.
B85: [4] Naast de eindtermen wordt ook aangegeven of dit PTA onderdeel CE stof bevat
B93: =Netl!B93 -> Norbertus Programma van Toetsing en Afsluiting 2026-2027 | J93: =J47 -> Spaanse taal en literatuur (elem.) | L93: =L1 -> Cohort 24-27
B94: vwo 6
B95: Periode | C95: PTA-code | D95: Toetsvorm [1] | E95: Toetsdoelen | F95: Toetsduur (minuten) | G95: Herkansing [2] | H95: Beoordeling [3] | J95: Eindtermen [4] | K95: Lesmateriaal | L95: Toegestane materialen bij de toets
H96: % | I96: Cijfer of OVG
B98: 1 | D98: S | E98: Je kunt op de juiste manier de geleerde grammatica gebruiken bij het vertalen van leesteksten en schrijven van zinnen. Tevens kun je de woordenschat in zinnen en in de Schrijjvaardigheid toets toepassen. Je moet de zinnen, werkwoorden en voortzetsels naar het Spaans kunnen schrijven, evenals het verschil tussen Pefecto en Indefindo. Vorm van de Imperfecto ( in de lessen wordt dit uitgelegd dus zorg dat je alles goed bijhoudt) | F98: 50 | G98: Nee | I98: Cijfer | J98: A,D | K98: Formatieve toets van taalverwerving en woordenschat• Woordenschat, kernwoorden die in Classroom staan. Er wordt altijd vanuit NL – Spaans in de toets gevraagd, dus zorg dat je alle betekenissen in jouw schrift hebt. • Taalverwerving unidad 1 y 2 . Inclusief de grammatica achter in het boek van deze twee unidades. | L98: geen
C101: VA1901 | D101: D | E101: Je kunt adequaat reageren in schriftelijke contacten met doeltaalgebruikers; - informatie vragen en verstrekken; - verworven informatie adequaat presenteren met het oog op doel en publiek dat de brief gaat lezen, en daarbij zaken of personen beschrijven. Tevens kun je uitdrukking geven aan gevoelens en standpunten verwoorden. | F101: 100 | G101: Ja | H101: 0.25 | I101: Cijfer | J101: D | K101: Deze toets wordt in de vorm van een brief afgenomen. Deze wordt met pen en papier gemaakt. Minimum aantal woorden na de aanhef is 200 woorden. Thema's die mogelijk zijn: woning, winkelen, vrije tijd, studie, cultuur, werken, reizen, vervoersmiddelen, gezondheid, eten, uiterlijk/innerlijk mensen. Elke week wordt een brief tijdens de les gemaakt en ingeleverd. | L101: Woordenboek N-S/S-N
B103: 2 | C103: VA1902 | D103: S | E103: Je kunt op de juiste manier de geleerde grammatica gebruiken bij het vertalen van leesteksten en het schrijven van zinnen. Je kunt woordenschat in zinnen en in teksten toepassen. Je kunt op de juiste manier de vragen over het leesboek beantwoorden en in het Nederlands en in het Spaans over de belangrijke thema's van het boek schrijven. | F103: 100 | G103: Nee | H103: 0.1 | I103: Cijfer | J103: A,D, E | K103: De toets bestaat uit grammatica, schrijfopdrachten en teksten. Verschil tussen de drie verleden tijden: Indefinido, Imperfecto, Perfecto Unidad 3 en Unidad 4 Leesboek Lola Lago: Niveau A2. Boek wordt in het begin van de periode bepaald. | L103: geen
C106: VA1903 | D106: D | E106: Kijk- luistertoets. Je kunt: -aangeven welke informatie relevant is, gegeven een vaststaande behoefte. • de hoofdgedachte van een fragment (gedeelte) aangeven. • de betekenis van belangrijke elementen van een fragment aangeven. • aantekeningen maken als strategie om een fragment aan te pakken. Deze wordt op de computer gemaakt. | F106: 70 | G106: Ja | H106: 0.15 | I106: Cijfer | J106: B | K106: Tijdens de lessen wordt geoefend. | L106: geen
B108: 3 | C108: VA1904 | D108: S | E108: Je kunt op de juiste manier de geleerde grammatica gebruiken bij het vertalen van leesteksten en schrijven van zinnen. Je kunt woordenschat in zinnen en in teksten toepassen. | F108: 50 | G108: Nee | H108: 0.1 | I108: Cijfer | J108: A,D | K108: Taalverwerving en woordenschat : • Woordenschat, signaalwoorden. • Grammatica: Unidad 5 en Unidad 6 Tekstboek en woordenlijst in classroom | L108: Geen
C109: VA1905 | D109: M | E109: Je kunt circa 15 minuten spreken en een gesprek voeren. Het mondeling bestaat uit drie delen. Deel 1 Monoloog (5 min.): Je vertelt kort over zichzelf, het dagelijkse leven, zijn vervolgopleiding en vakanties Deel 2 Beschrijving (3 minuten): aan de hand van afbeeldingen vertel je wat je in de foto ziet. Mogelijke thema's: woning, winkelen, vrije tijd, studie, cultuur, werken, reizen, vervoersmiddelen, gezondheid, eten, uiterlijk/innerlijk mensen. Deel 3 Dialoog met de docent (7 min.): over een casus/thema een gesprek uit de belevingswereld van de leerling. Deel 1 kan thuis voorbereid worden. Deel 2 en 3 worden vijftien minuten voor de mondeling in een ruimte met toezichthouder voorbereid. | F109: 15 | G109: Ja | H109: 0.2 | I109: Cijfer | J109: C | K109: Materiaal die in classroom beschibaar is en tijdens de lessen wordt geofend.Materiaal die in classroom is en er wordt in de les geoefend. | L109: tijdens het voorbereiden, mag een woordenboek SN/NS. Je mag een papier met aantekeningen meenemen, maar je mag het niet voorlezen.
C111: VA1906 | D111: S | E111: Leesvaardigheid je kunt: • aangeven welke informatie relevant is, gegeven een vaststaande behoefte. • de hoofdgedachte van een tekst(gedeelte) aangeven. • de betekenis van belangrijke elementen van een tekst aangeven • relaties tussen delen van een tekst aangeven. • conclusies trekken met betrekking tot intenties, opvattingen en gevoelens van de auteur | F111: 60 | G111: Ja | H111: 0.2 | I111: Cijfer | J111: A | K111: Tijdens de lessen wordt dit geoefend | L111: geen
E115: Beoordeling 6e leerjaar in %
E116: Totaal % leerjaar 4+5: | H116: =H80 -> 0
E117: Totaal % leerjaar 6 periode 1: | H117: =SUM(H98:H101) -> 0.25
E118: Totaal % leerjaar 6 periode 2: | H118: =SUM(H103:H106) -> 0.25
E119: Totaal % leerjaar 6 periode 3: | H119: =SUM(H108:H111) -> 0.5
E120: Totaal % leerjaar 4+5+6: | H120: =SUM(H116:H119) -> 1
B122: [1] s = schriftelijk, m = mondeling, d= digitaal, pr = praktisch, p = presentatie, h = handelingsopdracht, a = anders
B123: [2] De toetsvorm van de herkansing is gelijk aan de toetsvorm van de toets die herkanst wordt. De herkansingen vinden plaats aan het einde van de lesperiode van de toets die herkanst wordt of aan het begin van de volgende lesperiode.
B124: [3] Hier wordt het percentage van het schoolexamencijfer vermeld OF aangegeven of een O/V/G (onvoldoende, voldoende, goed) beoordeling van toepassing is.
B125: [4] Naast de eindtermen wordt ook aangegeven of dit PTA onderdeel CE stof bevat

Sheet Sptl
B1: =Netl!B1 -> Norbertus Programma van Toetsing en Afsluiting 2024-2025 | J1: ='Lijst van vakken'!A8 -> Spaanse taal en literatuur | L1: =Netl!L1 -> Cohort 24-27
B2: vwo 4
B3: Periode | C3: PTA-code | D3: Toetsvorm [1] | E3: Toetsdoelen | F3: Toetsduur (minuten) | G3: Herkansing [2] | H3: Beoordeling [3] | J3: Eindtermen [4] | K3: Lesmateriaal | L3: Toegestane materialen bij de toets
H4: % | I4: Cijfer of OVG
B6: 1
B11: 2
B16: 3
B21: 4
E28: Beoordeling 4e leerjaar in %
A29: Ja | E29: Totaal % leerjaar 4 periode 1: | H29: =SUM(H6:H9) -> 0
A30: Nee | E30: Totaal % leerjaar 4 periode 2: | H30: =SUM(H11:H15) -> 0
E31: Totaal % leerjaar 4 periode 3: | H31: =SUM(H16:H19) -> 0
E32: Totaal % leerjaar 4 periode 4: | H32: =SUM(H21:H24) -> 0
A33: S | E33: Totaal % leerjaar 4: | H33: =SUM(H29:H32) -> 0
A34: M
A35: D | B35: [1] s = schriftelijk, m = mondeling, d= digitaal, pr = praktisch, p = presentatie, h = handelingsopdracht, a = anders
A36: PR | B36: [2] De toetsvorm van de herkansing is gelijk aan de toetsvorm van de toets die herkanst wordt. De herkansingen vinden plaats aan het einde van de lesperiode van de toets die herkanst wordt of aan het begin van de volgende lesperiode.
A37: P | B37: [3] Hier wordt het percentage van het schoolexamencijfer vermeld OF aangegeven of een O/V/G (onvoldoende, voldoende, goed) beoordeling van toepassing is.
A38: H | B38: [4] Naast de eindtermen wordt ook aangegeven of dit PTA onderdeel CE stof bevat
A39: A
A42: Cijfer
A43: OVG
B47: =Netl!B47 -> Norbertus Programma van Toetsing en Afsluiting 2025-2026 | J47: =J1 -> Spaanse taal en literatuur | L47: =L1 -> Cohort 24-27
B48: vwo 5
B49: Periode | C49: PTA-code | D49: Toetsvorm [1] | E49: Toetsdoelen | F49: Toetsduur (minuten) | G49: Herkansing [2] | H49: Beoordeling [3] | J49: Eindtermen [4] | K49: Lesmateriaal | L49: Toegestane materialen bij de toets
H50: % | I50: Cijfer of OVG
B52: 1
B57: 2
B62: 3
B67: 4
E74: Beoordeling 5e leerjaar in %
E75: Totaal % leerjaar 4 | H75: =$H$33 -> 0
E76: Totaal % leerjaar 5 periode 1: | H76: =SUM(H52:H55) -> 0
E77: Totaal % leerjaar 5 periode 2: | H77: =SUM(H57:H61) -> 0
E78: Totaal % leerjaar 5 periode 3: | H78: =SUM(H62:H65) -> 0
E79: Totaal % leerjaar 5 periode 4: | H79: =SUM(H67:H70) -> 0
E80: Totaal % leerjaar 4+5: | H80: =SUM(H76:H79) -> 0
B82: [1] s = schriftelijk, m = mondeling, d= digitaal, pr = praktisch, p = presentatie, h = handelingsopdracht, a = anders
B83: [2] De toetsvorm van de herkansing is gelijk aan de toetsvorm van de toets die herkanst wordt. De herkansingen vinden plaats aan het einde van de lesperiode van de toets die herkanst wordt of aan het begin van de volgende lesperiode.
B84: [3] Hier wordt het percentage van het schoolexamencijfer vermeld OF aangegeven of een O/V/G (onvoldoende, voldoende, goed) beoordeling van toepassing is.
B85: [4] Naast de eindtermen wordt ook aangegeven of dit PTA onderdeel CE stof bevat
B93: =Netl!B93 -> Norbertus Programma van Toetsing en Afsluiting 2026-2027 | J93: =J47 -> Spaanse taal en literatuur | L93: =L1 -> Cohort 24-27
B94: vwo 6
B95: Periode | C95: PTA-code | D95: Toetsvorm [1] | E95: Toetsdoelen | F95: Toetsduur (minuten) | G95: Herkansing [2] | H95: Beoordeling [3] | J95: Eindtermen [4] | K95: Lesmateriaal | L95: Toegestane materialen bij de toets
H96: % | I96: Cijfer of OVG
B98: 1
B103: 2
B108: 3
E115: Beoordeling 6e leerjaar in %
E116: Totaal % leerjaar 4+5: | H116: =H80 -> 0
E117: Totaal % leerjaar 6 periode 1: | H117: =SUM(H98:H101) -> 0
E118: Totaal % leerjaar 6 periode 2: | H118: =SUM(H103:H106) -> 0
E119: Totaal % leerjaar 6 periode 3: | H119: =SUM(H108:H111) -> 0
E120: Totaal % leerjaar 4+5+6: | H120: =SUM(H116:H119) -> 0
B122: [1] s = schriftelijk, m = mondeling, d= digitaal, pr = praktisch, p = presentatie, h = handelingsopdracht, a = anders
B123: [2] De toetsvorm van de herkansing is gelijk aan de toetsvorm van de toets die herkanst wordt. De herkansingen vinden plaats aan het einde van de lesperiode van de toets die herkanst wordt of aan het begin van de volgende lesperiode.
B124: [3] Hier wordt het percentage van het schoolexamencijfer vermeld OF aangegeven of een O/V/G (onvoldoende, voldoende, goed) beoordeling van toepassing is.
B125: [4] Naast de eindtermen wordt ook aangegeven of dit PTA onderdeel CE stof bevat

Sheet Ges
B1: =Netl!B1 -> Norbertus Programma van Toetsing en Afsluiting 2024-2025 | J1: ='Lijst van vakken'!A9 -> geschiedenis | L1: =Netl!L1 -> Cohort 24-27
B2: vwo 4
B3: Periode | C3: PTA-code | D3: Toetsvorm [1] | E3: Toetsdoelen | F3: Toetsduur (minuten) | G3: Herkansing [2] | H3: Beoordeling [3] | J3: Eindtermen [4] | K3: Lesmateriaal | L3: Toegestane materialen bij de toets
H4: % | I4: Cijfer of OVG
B6: 1
B11: 2
B16: 3
B21: 4 | C21: VA2301 | D21: S | E21: Voor elk van de kenmerkende aspecten van tijdvak 1 tot en met 8 moet je ´een passend voorbeeld´ kunnen geven ´van een gebeurtenis, ontwikkeling, verschijnsel of handeling dan wel een gedachtegang van een persoon en vervolgens dit voorbeeld kunnen gebruiken om het betreffende aspect te verduidelijken´. Hierbij moet je gebruik kunnen maken van de historische vaardigheden: causaliteit, tijd en chronologie, continuïteit en verandering, standplaatsgebondenheid, brongebruik en vraagstelling, Je kan aan de hand van de thema’s : 1: Bourgondië(behandeld in P2) en 2: Arminius vs. Gomarus en de komst van de Statenbijbel (behandeld in P3)een beargumenteerd antwoord geven op inhoudelijke vragen over de betreffende thema’s; en op grond van situaties in de verschillende tijdvakken ontwikkelingen op langere termijn beschrijven. | F21: 50 | G21: Ja | H21: 0.1 | I21: Cijfer | J21: ABCC Kenmerkende aspecten zijn ook eindexamenstof. De thema's 1 en 2 zijn schoolexamenstof | K21: Geschiedenis Werkplaats H1 t/m 8 + aantekeningen thema's | L21: Woordenboek
E28: Beoordeling 4e leerjaar in %
A29: Ja | E29: Totaal % leerjaar 4 periode 1: | H29: =SUM(H6:H9) -> 0
A30: Nee | E30: Totaal % leerjaar 4 periode 2: | H30: =SUM(H11:H15) -> 0
E31: Totaal % leerjaar 4 periode 3: | H31: =SUM(H16:H19) -> 0
E32: Totaal % leerjaar 4 periode 4: | H32: =SUM(H21:H24) -> 0.1
A33: S | E33: Totaal % leerjaar 4: | H33: =SUM(H29:H32) -> 0.1
A34: M
A35: D | B35: [1] s = schriftelijk, m = mondeling, d= digitaal, pr = praktisch, p = presentatie, h = handelingsopdracht, a = anders
A36: PR | B36: [2] De toetsvorm van de herkansing is gelijk aan de toetsvorm van de toets die herkanst wordt. De herkansingen vinden plaats aan het einde van de lesperiode van de toets die herkanst wordt of aan het begin van de volgende lesperiode.
A37: P | B37: [3] Hier wordt het percentage van het schoolexamencijfer vermeld OF aangegeven of een O/V/G (onvoldoende, voldoende, goed) beoordeling van toepassing is.
A38: H | B38: [4] Naast de eindtermen wordt ook aangegeven of dit PTA onderdeel CE stof bevat
A39: A
A42: Cijfer
A43: OVG
B47: =Netl!B47 -> Norbertus Programma van Toetsing en Afsluiting 2025-2026 | J47: =J1 -> geschiedenis | L47: =L1 -> Cohort 24-27
B48: vwo 5
B49: Periode | C49: PTA-code | D49: Toetsvorm [1] | E49: Toetsdoelen | F49: Toetsduur (minuten) | G49: Herkansing [2] | H49: Beoordeling [3] | J49: Eindtermen [4] | K49: Lesmateriaal | L49: Toegestane materialen bij de toets
H50: % | I50: Cijfer of OVG
B52: 1 | C52: VA2302 | D52: S | E52: Voor elk van de kenmerkende aspecten van tijdvak 4 tot en met 6 moet je ´een passend voorbeeld´ moet kunnen geven ´van een gebeurtenis, ontwikkeling, verschijnsel of handeling dan wel een gedachtegang van een persoon en vervolgens dit voorbeeld kunnen gebruiken om het betreffende aspect te verduidelijken´. Hierbij moet je gebruik kunnen maken van de historische vaardigheden: causaliteit, tijd en chronologie, continuïteit en verandering, standplaatsgebondenheid, brongebruik en vraagstelling, Nieuwe stof: Verschillende kenmerkende aspecten van tijdvak 4 t/m 6 zijn samengevoegd in de historische context: Steden en burgers in de Lage landen (1050-1700). Hiervan moet je de genoemde voorbeelden en de genoemde jaartallen kennen | F52: 50 | G52: Ja | H52: 0.1 | I52: Cijfer | J52: AB De historische context en Kenmerkende aspecten zijn eindexamenstof | K52: Geschiedenis Werkplaats Oriëntatiekennis H 4 t/m 6.3 en Geschiedenis Werkplaats H1 Context lage landen | L52: Woordenboek NL
B57: 2 | C57: VA2303 | D57: S | E57: Voor elk van de kenmerkende aspecten van tijdvak 6.4 tot en met 8 moet je ´een passend voorbeeld´ moet kunnen geven ´van een gebeurtenis, ontwikkeling, verschijnsel of handeling dan wel een gedachtegang van een persoon en vervolgens dit voorbeeld kunnen gebruiken om het betreffende aspect te verduidelijken´. Hierbij moet je gebruik kunnen maken van de historische vaardigheden: causaliteit, tijd en chronologie, continuïteit en verandering, standplaatsgebondenheid, brongebruik en vraagstelling, Nieuwe stof: Verschillende kenmerkende aspecten van tijdvak 6,4 t/m 8 zijn samengevoegd in de historische context: Verlichting 1650-1900. Hiervan moet je de genoemde voorbeelden en de genoemde jaartallen kennen. Je kan aan de hand van het thema: 3: wetenschap een beargumenteerd antwoord geven op inhoudelijke vragen over het betreffende thema. | F57: 50 | G57: Ja | H57: 0.1 | I57: Cijfer | J57: ABC De historische context en kenmerkende aspecten zijn ook eindexamenstof. thema 3 is schoolexamenstof | K57: Geschiedenis Werkplaats H 6.4 t/m 8 en Geschiedenis Werkplaats historische contexten H2, Aantekeningen thema | L57: Woordenboek NL
B62: 3
B67: 4 | C67: VA2304 | D67: S | E67: Voor elk van de kenmerkende aspecten van tijdvak 9 en met 10 moet je ´een passend voorbeeld´ moet kunnen geven ´van een gebeurtenis, ontwikkeling, verschijnsel of handeling dan wel een gedachtegang van een persoon en vervolgens dit voorbeeld kunnen gebruiken om het betreffende aspect te verduidelijken´. Hierbij moet je gebruik kunnen maken van de historische vaardigheden: causaliteit, tijd en chronologie, continuïteit en verandering, standplaatsgebondenheid, brongebruik en vraagstelling, Nieuwe stof: Verschillende kenmerkende aspecten van tijdvak 9 en 10 zijn samengevoegd in de historische context: Duitsland in Europa 1918-1991. Hiervan moet je de genoemde voorbeelden en de genoemde jaartallen kennen. Je kan aan de hand van de thema's: 4: Frans-Duitse oorlog 1870-1871 en 5: Bismarck vs. Wilhelm II van consolidatie naar Expansionisme een beargumenteerd antwoord geven op inhoudelijke vragen over het betreffende thema. | F67: 50 | G67: Ja | H67: 0.15 | I67: Cijfer | J67: ABC De historische context en kenmerkende aspecten zijn ook eindexamenstof. thema's 4 en 5 zijn s schoolexamenstof | K67: Geschiedenis Werkplaats H9 en 10, Geschiendenis Werkplaats historische contexten H4, Aantekeningen thema's | L67: Woordenboek NL
E74: Beoordeling 5e leerjaar in %
E75: Totaal % leerjaar 4 | H75: =$H$33 -> 0.1
E76: Totaal % leerjaar 5 periode 1: | H76: =SUM(H52:H55) -> 0.1
E77: Totaal % leerjaar 5 periode 2: | H77: =SUM(H57:H61) -> 0.1
E78: Totaal % leerjaar 5 periode 3: | H78: =SUM(H62:H65) -> 0
E79: Totaal % leerjaar 5 periode 4: | H79: =SUM(H67:H70) -> 0.15
E80: Totaal % leerjaar 4+5: | H80: =SUM(H75:H79) -> 0.45
B82: [1] s = schriftelijk, m = mondeling, d= digitaal, pr = praktisch, p = presentatie, h = handelingsopdracht, a = anders
B83: [2] De toetsvorm van de herkansing is gelijk aan de toetsvorm van de toets die herkanst wordt. De herkansingen vinden plaats aan het einde van de lesperiode van de toets die herkanst wordt of aan het begin van de volgende lesperiode.
B84: [3] Hier wordt het percentage van het schoolexamencijfer vermeld OF aangegeven of een O/V/G (onvoldoende, voldoende, goed) beoordeling van toepassing is.
B85: [4] Naast de eindtermen wordt ook aangegeven of dit PTA onderdeel CE stof bevat
B93: =Netl!B93 -> Norbertus Programma van Toetsing en Afsluiting 2026-2027 | J93: =J47 -> geschiedenis | L93: =L1 -> Cohort 24-27
B94: vwo 6
B95: Periode | C95: PTA-code | D95: Toetsvorm [1] | E95: Toetsdoelen | F95: Toetsduur (minuten) | G95: Herkansing [2] | H95: Beoordeling [3] | J95: Eindtermen [4] | K95: Lesmateriaal | L95: Toegestane materialen bij de toets
H96: % | I96: Cijfer of OVG
B98: 1 | C98: VA2305 | D98: S | E98: Je beheerst de vakvaardigheden: causaliteit, tijd en chronologie, continuïteit en verandering, standplaatsgebondenheid, feit, mening, bron en vraagstelling: bruikbaarheid, betrouwbaarheid en representativiteit. | F98: 50 | G98: Ja | H98: 0.15 | I98: Cijfer | J98: AD eindexamenstof | K98: Geschiedenis Werkplaats Oriëntatiekennis H1 t/m 10 | L98: Woordenboek NL
B103: 2 | C103: VA2306 | D103: S | E103: Je moet voor alle 49 kenmerkende aspecten ´een passend voorbeeld´ moet kunnen geven ´van een gebeurtenis, ontwikkeling, verschijnsel of handeling dan wel een gedachtegang van een persoon en vervolgens dit voorbeeld kunnen gebruiken om het betreffende aspect te verduidelijken´. Je beheerst de vakvaardigheden: causaliteit, tijd en chronologie, continuïteit en verandering, standplaatsgebondenheid, bron en vraagstelling | F103: 100 | G103: Ja | H103: 0.15 | I103: Cijfer | J103: A,B De kenmerkende aspecten zijn eindexamenstof | K103: Geschiedenis Werkplaats Oriëntatiekennis H1 t/m 10 | L103: Woordenboek NL
B108: 3 | C108: VA2307 | D108: S | E108: Je moet voor elk van bij de contexten behorende kenmerkende aspecten ´een passend voorbeeld´ kunnen geven van een gebeurtenis, ontwikkeling, verschijnsel of handeling dan wel een gedachtegang van een persoon en vervolgens dit voorbeeld kunnen gebruiken om het betreffende aspect te verduidelijken. Je moet ook in staat zijn om gegevens uit verschillende tijdvakken met elkaar in verband te brengen en te verduidelijken. Vakvaardigheden: causaliteit, tijd en chronologie, continuïteit en verandering, standplaatsgebondenheid, bron en vraagstelling. Je moet van de historische contexten: Lage landen, Verlichting, China (nieuwe stof) en Duitsland de genoemde voorbeelden en jaartallen kennen | F108: 100 | G108: Ja | H108: 0.25 | I108: Cijfer | J108: B. De historische contexten en kenmerkende aspecten zijn eindexamenstof | K108: Geschiedenis Werkplaats historische contexten H1 t/m 4 | L108: Woordenboek NL
E115: Beoordeling 6e leerjaar in %
E116: Totaal % leerjaar 4+5: | H116: =H80 -> 0.45
E117: Totaal % leerjaar 6 periode 1: | H117: =SUM(H98:H101) -> 0.15
E118: Totaal % leerjaar 6 periode 2: | H118: =SUM(H103:H106) -> 0.15
E119: Totaal % leerjaar 6 periode 3: | H119: =SUM(H108:H111) -> 0.25
E120: Totaal % leerjaar 4+5+6: | H120: =SUM(H116:H119) -> 1
B122: [1] s = schriftelijk, m = mondeling, d= digitaal, pr = praktisch, p = presentatie, h = handelingsopdracht, a = anders
B123: [2] De toetsvorm van de herkansing is gelijk aan de toetsvorm van de toets die herkanst wordt. De herkansingen vinden plaats aan het einde van de lesperiode van de toets die herkanst wordt of aan het begin van de volgende lesperiode.
B124: [3] Hier wordt het percentage van het schoolexamencijfer vermeld OF aangegeven of een O/V/G (onvoldoende, voldoende, goed) beoordeling van toepassing is.
B125: [4] Naast de eindtermen wordt ook aangegeven of dit PTA onderdeel CE stof bevat

Sheet Ak
B1: =Netl!B1 -> Norbertus Programma van Toetsing en Afsluiting 2024-2025 | J1: ='Lijst van vakken'!A10 -> aardrijkskunde | L1: =Netl!L1 -> Cohort 24-27
B2: vwo 4
B3: Periode | C3: PTA-code | D3: Toetsvorm [1] | E3: Toetsdoelen | F3: Toetsduur (minuten) | G3: Herkansing [2] | H3: Beoordeling [3] | J3: Eindtermen [4] | K3: Lesmateriaal | L3: Toegestane materialen bij de toets
H4: % | I4: Cijfer of OVG
B6: 1
B11: 2 | C11: VA2801 | D11: PR | E11: Je laat zien dat je geografische informatie kunt selecteren, verwerken en vragen kunt beantwoorden. Je laat zien hoe verschillende geofactoren in samenhang voor de bewoners van een gebied een onwenselijke situatie veroorzaken. Je presenteert de uitkomst van het onderzoek aan de hand van een oorzaak-gevolgschema. | G11: Nee | H11: 0.05 | I11: Cijfer | J11: A1, A2, C2 (CE), C3 | K11: Leerwerkboek hoofdstuk 3, opdrachtbeschrijving in classroom | L11: Leerwerkboek, Grote Bosatlas 56e druk, Chromebook
B16: 3
B21: 4 | C21: VA2802 | D21: S | E21: Je laat zien dat je de sociaalgeografische (economische, sociaal-culturele, demografisch en politieke) kenmerken van Zuid-Amerika in grote lijnen kunt beschrijven, verklaren en met elkaar in verband kunt brengen. Je laat zien dat je actuele vraagstukken met betrekking tot de ontwikkeling van de stad, het platteland en de positiie van inheemse volken in Zuid-Amerika vanuit verschillende dimensies en op verschillende schaalniveaus kunt beschrijven, analyseren, verklaren en beoordelen. | G21: Nee | H21: 0.05 | I21: Cijfer | J21: A1, D1 (CE) , D2 | K21: Leerwerkboek hoofdstuk 4 | L21: Grote Bosatlas 56e druk, woordenboek
E28: Beoordeling 4e leerjaar in %
A29: Ja | E29: Totaal % leerjaar 4 periode 1: | H29: =SUM(H6:H9) -> 0
A30: Nee | E30: Totaal % leerjaar 4 periode 2: | H30: =SUM(H11:H15) -> 0.05
E31: Totaal % leerjaar 4 periode 3: | H31: =SUM(H16:H19) -> 0
E32: Totaal % leerjaar 4 periode 4: | H32: =SUM(H21:H24) -> 0.05
A33: S | E33: Totaal % leerjaar 4: | H33: =SUM(H29:H32) -> 0.1
A34: M
A35: D | B35: [1] s = schriftelijk, m = mondeling, d= digitaal, pr = praktisch, p = presentatie, h = handelingsopdracht, a = anders
A36: PR | B36: [2] De toetsvorm van de herkansing is gelijk aan de toetsvorm van de toets die herkanst wordt. De herkansingen vinden plaats aan het einde van de lesperiode van de toets die herkanst wordt of aan het begin van de volgende lesperiode.
A37: P | B37: [3] Hier wordt het percentage van het schoolexamencijfer vermeld OF aangegeven of een O/V/G (onvoldoende, voldoende, goed) beoordeling van toepassing is.
A38: H | B38: [4] Naast de eindtermen wordt ook aangegeven of dit PTA onderdeel CE stof bevat
A39: A
A42: Cijfer
A43: OVG
B47: =Netl!B47 -> Norbertus Programma van Toetsing en Afsluiting 2025-2026 | J47: =J1 -> aardrijkskunde | L47: =L1 -> Cohort 24-27
B48: vwo 5
B49: Periode | C49: PTA-code | D49: Toetsvorm [1] | E49: Toetsdoelen | F49: Toetsduur (minuten) | G49: Herkansing [2] | H49: Beoordeling [3] | J49: Eindtermen [4] | K49: Lesmateriaal | L49: Toegestane materialen bij de toets
H50: % | I50: Cijfer of OVG
B52: 1 | C52: VA2803 | D52: PR | E52: Je laat zien dat je geografische informatie uit een geografisch informatiesysteem kunt selecteren en verwerken. Je kunt met behulp van de gevonden informatie ontwikkelingen in een grote of middelgrote Nederlandse stad vanuit verschillende dimensies en op meerdere schaalniveaus beschrijven, analyseren en verklaren en de uitkomst presenteren. | G52: Nee | H52: 0.1 | I52: Cijfer | J52: A1, A2, E1 (CE), E2 | K52: Leerwerkboek hoofdstuk 1, opdrachtbeschrijving in classroom | L52: Lesboek, Grote Bosatlas 56e druk, Chromebook
B57: 2
B62: 3 | C62: VA2804 | D62: PR | E62: Je laat zien dat je geografische informatie kunt selecteren, verwerken en vragen kunt beantwoorden. Je toont aan dat je een complex voedselvraagstuk in een land of regio kunt beschrijven en analyseren, dat je daarbij kunt wisselen tussen schaalniveaus en dimensies. Je kunt het beleid gericht op het oplossen van het voedselvraagstuk kritisch beoordelen en alternatieven formuleren. De uitkomst van het onderzoek wordt gepresenteerd. | G62: Nee | H62: 0.1 | I62: Cijfer | J62: A1, A2, B1 (CE), B2 | K62: Leerwerkboek hoofdstuk 2, opdrachtbeschrijving in classroom | L62: Lesboek, Grote Bosatlas 56e druk, Chromebook
B67: 4 | C67: VA2805 | D67: S | E67: Je laat zien dat je klimaatverschillen en daaraan gerelateerde landschappelijke verschillen in Zuid-Amerika in grote lijnen kunt beschrijven en verklaren. Je laat zien dat je de platentektoniek in Zuid-Amerika en de natuurlijke verschijnselen die daarmee samenhangen in grote lijnen kunt beschrijven en verklaren. Je laat zien dat je endogene krachten, exogene krachten, menselijke activiteiten en het optreden van natuurrampen met elkaar in verband kunt brengen. Je laat zien dat je de interne en externe ontwikkelingen van de Zuid-Amerikaanse economie in grote lijnen kunt beschrijven en verklaren. Je laat zien dat je economische ontwikkelingen in Zuid-Amerika niet altijd duurzaam zijn en gevolgen kunnen hebben voor mens en milieu. | F67: 50 | G67: Ja | H67: 0.1 | I67: Cijfer | J67: A1, D1 (CE), D2 | K67: Leerwerkboek hoofdstuk 4 | L67: Grote Bosatlas 56e druk, woordenboek
E74: Beoordeling 5e leerjaar in %
E75: Totaal % leerjaar 4 | H75: =$H$33 -> 0.1
E76: Totaal % leerjaar 5 periode 1: | H76: =SUM(H52:H55) -> 0.1
E77: Totaal % leerjaar 5 periode 2: | H77: =SUM(H57:H61) -> 0
E78: Totaal % leerjaar 5 periode 3: | H78: =SUM(H62:H65) -> 0.1
E79: Totaal % leerjaar 5 periode 4: | H79: =SUM(H67:H70) -> 0.1
E80: Totaal % leerjaar 4+5: | H80: =SUM(H75:H79) -> 0.4
B82: [1] s = schriftelijk, m = mondeling, d= digitaal, pr = praktisch, p = presentatie, h = handelingsopdracht, a = anders
B83: [2] De toetsvorm van de herkansing is gelijk aan de toetsvorm van de toets die herkanst wordt. De herkansingen vinden plaats aan het einde van de lesperiode van de toets die herkanst wordt of aan het begin van de volgende lesperiode.
B84: [3] Hier wordt het percentage van het schoolexamencijfer vermeld OF aangegeven of een O/V/G (onvoldoende, voldoende, goed) beoordeling van toepassing is.
B85: [4] Naast de eindtermen wordt ook aangegeven of dit PTA onderdeel CE stof bevat
B93: =Netl!B93 -> Norbertus Programma van Toetsing en Afsluiting 2026-2027 | J93: =J47 -> aardrijkskunde | L93: =L1 -> Cohort 24-27
B94: vwo 6
B95: Periode | C95: PTA-code | D95: Toetsvorm [1] | E95: Toetsdoelen | F95: Toetsduur (minuten) | G95: Herkansing [2] | H95: Beoordeling [3] | J95: Eindtermen [4] | K95: Lesmateriaal | L95: Toegestane materialen bij de toets
H96: % | I96: Cijfer of OVG
B98: 1 | C98: VA2806 | D98: S | E98: Je laat zien dat je de posities van New York, Washington en Los Angeles als machtscentra en als knooppunten van informatie-, geld- en goederenstromen kunt beschrijven en hun positie kunt verklaren vanuit verschillende dimensies en op verschillende schaalniveaus. Extra toevoeging: je kunt de ruimtelijk kenmerken die samenhangen met de positie als mondiaal knooppunt beschrijven en verklaren. Je kunt een vergelijking maken tussen de ontwikkelingen in grootstedelijke gebieden in de VS en Nederland. | F98: 50 | G98: Ja | H98: 0.1 | I98: Cijfer | J98: A1, B1 (CE) | K98: Leerwerkboek hoofdstuk 2 | L98: Grote Bosatlas 56e druk, woordenboek
B103: 2 | C103: VA2807 | D103: S | E103: Je laat zien dat je landschapszones kunt beschrijven als dynamische systemen. Binnen die dynamische systemen kun je relaties tussen de geofactoren beschrijven en verklaren. Je kunt de invloed van de menselijke activiteiten op de andere geofactoren in de verschillende landschapszones beschrijven en verklaren. Je kunt de natuurlijke en landschappelijke kenmerken en processen van het Middellandse Zeegebied beschrijven en in grote lijnen verklaren en aantonen hoe natuur en samenleving in het Middellandse Zeegebied elkaar wederzijds beïnvloeden. | F103: 100 | G103: Ja | H103: 0.2 | I103: Cijfer | J103: A1, C1 (CE) | K103: Leerwerkboek hoofdstuk 1 en 3 | L103: Grote Bosatlas 56e druk, woordenboek
B108: 3 | C108: VA2808 | D108: S | E108: Je laat zien dat je natuurlijke verschijnselen aan het aardoppervlak en in de atmosfeer in grote lijnen kunt beschrijven en verklaren. Je laat zien dat je kunt aangeven hoe natuur en samenleving in een gebied elkaar wederzijds beïnvloeden. Je laat zien dat je het globaliseringsproces, het wereldsysteem en de rol van wereldsteden in dit globaliseringsproces en binnen dit wereldsysteem kunt beschrijven, herkennen en in hoofdlijnen verklaren. Je laat zien dat je in grote lijnen de sociaalgeografische (economische, sociaal-culturele, demografisch en politieke) en fysisch geografische (klimaten, landschappen, vegetatietypen, natuurlijke hulpbronnen) kenmerken van Zuid-Amerika kunt beschrijven, verklaren en met elkaar in verband brengen en de positie van Zuid-Amerika binnen de wereld in grote lijnen kunt beschrijven en verklaren. Je laat zien dat je nationale vraagstukken ten aanzien van wateroverlast en overstromingsgevaar en actuele vraagstukken van stedelijke gebieden in Nederland kunt beschrijven en verklaren en kritisch kunt beoordelen. | F108: 100 | G108: Ja | H108: 0.3 | I108: Cijfer | J108: A1, B1 (CE), C1 (CE), D1 (CE), E1 (CE) | K108: Leerwerkboek hoofdstuk 1 t/m 7 | L108: Grote Bosatlas 56e druk, woordenboek
E115: Beoordeling 6e leerjaar in %
E116: Totaal % leerjaar 4+5: | H116: =H80 -> 0.4
E117: Totaal % leerjaar 6 periode 1: | H117: =SUM(H98:H101) -> 0.1
E118: Totaal % leerjaar 6 periode 2: | H118: =SUM(H103:H106) -> 0.2
E119: Totaal % leerjaar 6 periode 3: | H119: =SUM(H108:H111) -> 0.3
E120: Totaal % leerjaar 4+5+6: | H120: =SUM(H116:H119) -> 1
B122: [1] s = schriftelijk, m = mondeling, d= digitaal, pr = praktisch, p = presentatie, h = handelingsopdracht, a = anders
B123: [2] De toetsvorm van de herkansing is gelijk aan de toetsvorm van de toets die herkanst wordt. De herkansingen vinden plaats aan het einde van de lesperiode van de toets die herkanst wordt of aan het begin van de volgende lesperiode.
B124: [3] Hier wordt het percentage van het schoolexamencijfer vermeld OF aangegeven of een O/V/G (onvoldoende, voldoende, goed) beoordeling van toepassing is.
B125: [4] Naast de eindtermen wordt ook aangegeven of dit PTA onderdeel CE stof bevat

Sheet WisA
B1: =Netl!B1 -> Norbertus Programma van Toetsing en Afsluiting 2024-2025 | J1: ='Lijst van vakken'!A11 -> wiskunde A | L1: =Netl!L1 -> Cohort 24-27
B2: vwo 4
B3: Periode | C3: PTA-code | D3: Toetsvorm [1] | E3: Toetsdoelen | F3: Toetsduur (minuten) | G3: Herkansing [2] | H3: Beoordeling [3] | J3: Eindtermen [4] | K3: Lesmateriaal | L3: Toegestane materialen bij de toets
H4: % | I4: Cijfer of OVG
B6: 1
B11: 2
B16: 3
B21: 4
E28: Beoordeling 4e leerjaar in %
A29: Ja | E29: Totaal % leerjaar 4 periode 1: | H29: =SUM(H6:H9) -> 0
A30: Nee | E30: Totaal % leerjaar 4 periode 2: | H30: =SUM(H11:H15) -> 0
E31: Totaal % leerjaar 4 periode 3: | H31: =SUM(H16:H19) -> 0
E32: Totaal % leerjaar 4 periode 4: | H32: =SUM(H21:H24) -> 0
A33: S | E33: Totaal % leerjaar 4: | H33: =SUM(H29:H32) -> 0
A34: M
A35: D | B35: [1] s = schriftelijk, m = mondeling, d= digitaal, pr = praktisch, p = presentatie, h = handelingsopdracht, a = anders
A36: PR | B36: [2] De toetsvorm van de herkansing is gelijk aan de toetsvorm van de toets die herkanst wordt. De herkansingen vinden plaats aan het einde van de lesperiode van de toets die herkanst wordt of aan het begin van de volgende lesperiode.
A37: P | B37: [3] Hier wordt het percentage van het schoolexamencijfer vermeld OF aangegeven of een O/V/G (onvoldoende, voldoende, goed) beoordeling van toepassing is.
A38: H | B38: [4] Naast de eindtermen wordt ook aangegeven of dit PTA onderdeel CE stof bevat
A39: A
A42: Cijfer
A43: OVG
B47: =Netl!B47 -> Norbertus Programma van Toetsing en Afsluiting 2025-2026 | J47: =J1 -> wiskunde A | L47: =L1 -> Cohort 24-27
B48: vwo 5
B49: Periode | C49: PTA-code | D49: Toetsvorm [1] | E49: Toetsdoelen | F49: Toetsduur (minuten) | G49: Herkansing [2] | H49: Beoordeling [3] | J49: Eindtermen [4] | K49: Lesmateriaal | L49: Toegestane materialen bij de toets
H50: % | I50: Cijfer of OVG
B52: 1
B57: 2
B62: 3 | C62: VA3101 | D62: PR | E62: Je beheerst het gebruik van ICT voor het analyseren en visualiseren van complexe wiskundige problemen. (SE) | F62: 50 | G62: Nee | H62: 0.05 | I62: Cijfer | J62: E + F | K62: Dictaat/stencils behorend bij keuzeonderwerp | L62: Grafische Rekenmachine en/of computer/chromebook
B67: 4
E74: Beoordeling 5e leerjaar in %
E75: Totaal % leerjaar 4 | H75: =$H$33 -> 0
E76: Totaal % leerjaar 5 periode 1: | H76: =SUM(H52:H55) -> 0
E77: Totaal % leerjaar 5 periode 2: | H77: =SUM(H57:H61) -> 0
E78: Totaal % leerjaar 5 periode 3: | H78: =SUM(H62:H65) -> 0.05
E79: Totaal % leerjaar 5 periode 4: | H79: =SUM(H67:H70) -> 0
E80: Totaal % leerjaar 4+5: | H80: =SUM(H76:H79) -> 0.05
B82: [1] s = schriftelijk, m = mondeling, d= digitaal, pr = praktisch, p = presentatie, h = handelingsopdracht, a = anders
B83: [2] De toetsvorm van de herkansing is gelijk aan de toetsvorm van de toets die herkanst wordt. De herkansingen vinden plaats aan het einde van de lesperiode van de toets die herkanst wordt of aan het begin van de volgende lesperiode.
B84: [3] Hier wordt het percentage van het schoolexamencijfer vermeld OF aangegeven of een O/V/G (onvoldoende, voldoende, goed) beoordeling van toepassing is.
B85: [4] Naast de eindtermen wordt ook aangegeven of dit PTA onderdeel CE stof bevat
B93: =Netl!B93 -> Norbertus Programma van Toetsing en Afsluiting 2026-2027 | J93: =J47 -> wiskunde A | L93: =L1 -> Cohort 24-27
B94: vwo 6
B95: Periode | C95: PTA-code | D95: Toetsvorm [1] | E95: Toetsdoelen | F95: Toetsduur (minuten) | G95: Herkansing [2] | H95: Beoordeling [3] | J95: Eindtermen [4] | K95: Lesmateriaal | L95: Toegestane materialen bij de toets
H96: % | I96: Cijfer of OVG
B98: 1 | C98: VA3102 | D98: S | E98: Je beheerst wiskundige vaardigheden zoals modelleren, algebraïseren, ordenen, probleemoplossen en logisch redeneren, met inzet van ICT. Je kunt telproblemen structureren, berekeningen uitvoeren met getallen en variabelen, en formules en functievoorschriften opstellen en bewerken. Je kunt grafieken tekenen, vergelijkingen en ongelijkheden oplossen met algebraïsche en numerieke methoden, en de uitkomsten interpreteren. Je kunt de kenmerken van eerstegraads-, tweedegraads-, machts-, exponentiële en logaritmische functies herkennen, de afgeleide berekenen en het gedrag van rekenkundige en meetkundige rijen beschrijven en berekeningen uitvoeren. Je kunt een plan maken voor statistische probleemoplossing, data verwerken en interpreteren, samenvatten met geschikte maten, kansberekeningen uitvoeren, kansverdelingen herkennen, en op basis van steekproefgegevens uitspraken doen over een populatie en de betrouwbaarheid kwantificeren. | F98: 100 | G98: Ja | H98: 0.3 | I98: Cijfer | J98: A,B,C,D, E (SE + CE) | K98: Lesboeken: Getal en Ruimte 12 ed vwo hoofdstukken 1, 2, 3, 4, 5, 6, 8, 9, 10, 11, 12, 15 + dictaat over tellen. | L98: GRM in de Nederlandse examenstand
B103: 2 | C103: VA3103 | D103: S | E103: Zie VA3102 Je kunt het gedrag van een rij herkennen en beschrijven, en berekeningen uitvoeren bij rekenkundige en meetkundige rijen. Je kunt de afgeleide van eerstegraads-, tweedegraads-, machts-, exponentiële en logaritmische functies bepalen, de rekenregels voor differentiatie toepassen en het veranderingsgedrag van een functie beschrijven. Je kunt ook optimaliseringsproblemen oplossen. | F103: 100 | G103: Ja | H103: 0.3 | J103: A,B,C,D (SE + CE) | K103: Lesboeken: Getal en Ruimte 12 ed vwo hoofdstukken 1, 3, 5, 6, 8, 10, 12, 14, 15 + dictaat over tellen. | L103: GRM in de Nederlandse examenstand
B108: 3 | C108: VA3104 | D108: S | E108: Zie VA3102 + VA3103 Je kunt een plan maken om een probleem op te lossen door geschikte variabelen te kiezen. Je kunt functies zoals eerstegraads-, tweedegraads-, machts-, exponentiële, geometrische en logaritmische functies herleiden naar verschillende wiskundige vormen en de kenmerken van geometrische functies herkennen en gebruiken. | F108: 100 | G108: Ja | H108: 0.35 | I108: Cijfer | J108: A,B,C,D (SE + CE) | K108: Lesboeken: Getal en Ruimte 12 ed vwo hoofdstukken 1, 3, 5, 6, 8, 10, 12, 13, 14, 15 + dictaat over tellen. | L108: GRM in de Nederlandse examenstand
D109: A | E109: Leerlingen die deelnemen aan de wiskunde oplympiade en bij de beste 20% (in jouw categorie) behoren, levert een bonus op van 0.1 punt bij je SE cijfer. Doorgaan naar de volgende ronde (ronde 2), levert een bonus op van 0.2 punt bij je SE cijfer. Doorgaan naar de finale levert een bonus op van 0.4 punt bij je SE cijfer. | F109: 120 | G109: Nee | J109: A | K109: Olympiade materiaal | L109: geen
E115: Beoordeling 6e leerjaar in %
E116: Totaal % leerjaar 4+5: | H116: =H80 -> 0.05
E117: Totaal % leerjaar 6 periode 1: | H117: =SUM(H98:H101) -> 0.3
E118: Totaal % leerjaar 6 periode 2: | H118: =SUM(H103:H106) -> 0.3
E119: Totaal % leerjaar 6 periode 3: | H119: =SUM(H108:H111) -> 0.35
E120: Totaal % leerjaar 4+5+6: | H120: =SUM(H116:H119) -> 1
B122: [1] s = schriftelijk, m = mondeling, d= digitaal, pr = praktisch, p = presentatie, h = handelingsopdracht, a = anders
B123: [2] De toetsvorm van de herkansing is gelijk aan de toetsvorm van de toets die herkanst wordt. De herkansingen vinden plaats aan het einde van de lesperiode van de toets die herkanst wordt of aan het begin van de volgende lesperiode.
B124: [3] Hier wordt het percentage van het schoolexamencijfer vermeld OF aangegeven of een O/V/G (onvoldoende, voldoende, goed) beoordeling van toepassing is.
B125: [4] Naast de eindtermen wordt ook aangegeven of dit PTA onderdeel CE stof bevat

Sheet WisB
B1: =Netl!B1 -> Norbertus Programma van Toetsing en Afsluiting 2024-2025 | J1: ='Lijst van vakken'!A12 -> wiskunde B | L1: =Netl!L1 -> Cohort 24-27
B2: vwo 4
B3: Periode | C3: PTA-code | D3: Toetsvorm [1] | E3: Toetsdoelen | F3: Toetsduur (minuten) | G3: Herkansing [2] | H3: Beoordeling [3] | J3: Eindtermen [4] | K3: Lesmateriaal | L3: Toegestane materialen bij de toets
H4: % | I4: Cijfer of OVG
B6: 1
B11: 2
B16: 3
B21: 4
E28: Beoordeling 4e leerjaar in %
A29: Ja | E29: Totaal % leerjaar 4 periode 1: | H29: =SUM(H6:H9) -> 0
A30: Nee | E30: Totaal % leerjaar 4 periode 2: | H30: =SUM(H11:H15) -> 0
E31: Totaal % leerjaar 4 periode 3: | H31: =SUM(H16:H19) -> 0
E32: Totaal % leerjaar 4 periode 4: | H32: =SUM(H21:H24) -> 0
A33: S | E33: Totaal % leerjaar 4: | H33: =SUM(H29:H32) -> 0
A34: M
A35: D | B35: [1] s = schriftelijk, m = mondeling, d= digitaal, pr = praktisch, p = presentatie, h = handelingsopdracht, a = anders
A36: PR | B36: [2] De toetsvorm van de herkansing is gelijk aan de toetsvorm van de toets die herkanst wordt. De herkansingen vinden plaats aan het einde van de lesperiode van de toets die herkanst wordt of aan het begin van de volgende lesperiode.
A37: P | B37: [3] Hier wordt het percentage van het schoolexamencijfer vermeld OF aangegeven of een O/V/G (onvoldoende, voldoende, goed) beoordeling van toepassing is.
A38: H | B38: [4] Naast de eindtermen wordt ook aangegeven of dit PTA onderdeel CE stof bevat
A39: A
A42: Cijfer
A43: OVG
B47: =Netl!B47 -> Norbertus Programma van Toetsing en Afsluiting 2025-2026 | J47: =J1 -> wiskunde B | L47: =L1 -> Cohort 24-27
B48: vwo 5
B49: Periode | C49: PTA-code | D49: Toetsvorm [1] | E49: Toetsdoelen | F49: Toetsduur (minuten) | G49: Herkansing [2] | H49: Beoordeling [3] | J49: Eindtermen [4] | K49: Lesmateriaal | L49: Toegestane materialen bij de toets
H50: % | I50: Cijfer of OVG
B52: 1
B57: 2
B62: 3
C65: VA3201 | D65: PR | E65: Je beheerst het gebruik van ICT voor het analyseren en visualiseren van complexe wiskundige problemen. (SE) | F65: 50 | G65: Nee | H65: 0.05 | I65: Cijfer | J65: A en B en C en D en E en F, | K65: Dictaat | L65: Device
B67: 4
E74: Beoordeling 5e leerjaar in %
E75: Totaal % leerjaar 4 | H75: =$H$33 -> 0
E76: Totaal % leerjaar 5 periode 1: | H76: =SUM(H52:H55) -> 0
E77: Totaal % leerjaar 5 periode 2: | H77: =SUM(H57:H61) -> 0
E78: Totaal % leerjaar 5 periode 3: | H78: =SUM(H62:H65) -> 0.05
E79: Totaal % leerjaar 5 periode 4: | H79: =SUM(H67:H70) -> 0
E80: Totaal % leerjaar 4+5: | H80: =SUM(H76:H79) -> 0.05
B82: [1] s = schriftelijk, m = mondeling, d= digitaal, pr = praktisch, p = presentatie, h = handelingsopdracht, a = anders
B83: [2] De toetsvorm van de herkansing is gelijk aan de toetsvorm van de toets die herkanst wordt. De herkansingen vinden plaats aan het einde van de lesperiode van de toets die herkanst wordt of aan het begin van de volgende lesperiode.
B84: [3] Hier wordt het percentage van het schoolexamencijfer vermeld OF aangegeven of een O/V/G (onvoldoende, voldoende, goed) beoordeling van toepassing is.
B85: [4] Naast de eindtermen wordt ook aangegeven of dit PTA onderdeel CE stof bevat
B93: =Netl!B93 -> Norbertus Programma van Toetsing en Afsluiting 2026-2027 | J93: =J47 -> wiskunde B | L93: =L1 -> Cohort 24-27
B94: vwo 6
B95: Periode | C95: PTA-code | D95: Toetsvorm [1] | E95: Toetsdoelen | F95: Toetsduur (minuten) | G95: Herkansing [2] | H95: Beoordeling [3] | J95: Eindtermen [4] | K95: Lesmateriaal | L95: Toegestane materialen bij de toets
H96: % | I96: Cijfer of OVG
B98: 1
C101: VA3202 | D101: S | E101: "Je kunt de rol van wiskunde begrijpen, informatie verzamelen en communiceren. Je kunt profielspecifieke problemen wiskundig analyseren, oplossen en terugvertalen. Je kunt wiskundige denkactiviteiten uitvoeren, zoals modelleren, algebraïseren, logisch redeneren en ICT gebruiken. Je kunt formules interpreteren, bewerken en grafieken tekenen bij verbanden tussen variabelen. Je kunt functies opstellen, bewerken, grafieken tekenen en eigenschappen gebruiken. Je kunt de inverse van een functie begrijpen en gebruiken. Je kunt vergelijkingen, ongelijkheden en stelsels oplossen en interpreteren. Je kunt het asymptotisch gedrag van functies bepalen met limieten en de eerste afgeleide gebruiken voor functieonderzoek. Je kunt differentiëren, integreren en periodieke verschijnselen analyseren. Je kunt meetkundige eigenschappen onderzoeken, bewijzen en algebraïsch oplossen. Je kunt vectoren en inproducten gebruiken voor geometrische berekeningen en technieken toepassen in natuurwetenschappelijke en technische situaties. (CSE+SE)" | F101: 100 | G101: Ja | H101: 0.3 | I101: Cijfer | J101: A,B,C,D,E | K101: Lesboeken: Getal en Ruimte 12 ed vwo deel 3 bovenbouw en Getal en Ruimte 12 ed vwo deel 4 bovenbouw H7 : Meetkunde met coördinaten, H9 : Exponentiële en logaritmische functies, H10 : Meetkunde met vectoren, H11 : Integraalrekening, H12 : Goniometrische formules, H13 : Limieten en asymptoten | L101: GRM in de nederlandse examenstand
B103: 2
C106: VA3203 | D106: S | E106: Je kunt de rol van wiskunde in de maatschappij begrijpen, informatie verzamelen en communiceren. Je kunt profielspecifieke problemen analyseren, oplossen en terugvertalen. Je kunt wiskundige denkactiviteiten uitvoeren zoals modelleren, algebraïseren, logisch redeneren en ICT gebruiken. Je kunt formules bewerken, grafieken tekenen en functievoorschriften opstellen. Je kunt standaardfuncties herkennen, eigenschappen benoemen en de inverse van functies gebruiken. Je kunt vergelijkingen, ongelijkheden en stelsels oplossen en het gedrag van functies onderzoeken. Je kunt differentiëren, integreren en limieten toepassen in verschillende contexten. Je kunt meetkundige eigenschappen onderzoeken met algebraïsche technieken en vectoren gebruiken voor berekeningen.(CSE+SE) | F106: 100 | G106: Ja | H106: 0.3 | I106: Cijfer | J106: A,B,C,D,E | K106: Lesboeken: Getal en Ruimte 12 ed vwo deel 3 bovenbouw en Getal en Ruimte 12 ed vwo deel 4 bovenbouw H7 : Meetkunde met coördinaten, H9 : Exponentiële en logaritmische functies, H10 : Meetkunde met vectoren, H11 : Integraalrekening, H12 : Goniometrische formules, H13 : Limieten en asymptoten, H14 : Meetkunde toepassen. | L106: GRM in de nederlandse examenstand
B108: 3
C110: VA3204 | D110: S | E110: Je kunt de rol van wiskunde in de maatschappij begrijpen, informatie verzamelen en communiceren. Je kunt profielspecifieke problemen analyseren, oplossen en terugvertalen. Je kunt wiskundige denkactiviteiten uitvoeren zoals modelleren, algebraïseren, logisch redeneren en ICT gebruiken. Je kunt formules bewerken, grafieken tekenen en functievoorschriften opstellen. Je kunt standaardfuncties herkennen, eigenschappen benoemen en de inverse gebruiken. Je kunt vergelijkingen oplossen, het gedrag van functies onderzoeken en limieten toepassen. Je kunt de afgeleide gebruiken voor functieonderzoek en toepassingen, integralen berekenen en periodieke verschijnselen analyseren. Je kunt meetkundige eigenschappen onderzoeken met algebraïsche technieken, vectoren gebruiken voor berekeningen en de technieken toepassen in natuurwetenschappelijke en technische situaties. (CSE+SE) | F110: 100 | G110: Ja | H110: 0.35 | I110: Cijfer | J110: A,B,C,D,E | K110: Lesboeken: Getal en Ruimte 12 ed vwo deel 3 bovenbouw en Getal en Ruimte 12 ed vwo deel 4 bovenbouw H7: Meetkunde met coördinaten, H9 : Exponentiële en logaritmische functies, H10 : Meetkunde met vectoren, H11 : Integraalrekening, H12 : Goniometrische formules, H13 : Limieten en asymptoten, H14 : Meetkunde toepassen, H15 : Afgeleiden en primitieven, H16 : Examentraining | L110: GRM in de nederlandse examenstand
D111: A | E111: Leerlingen die deelnemen aan de wiskunde oplympiade en bij de beste 20% (in jouw categorie) behoren, levert een bonus op van 0.1 punt bij je SE cijfer. Doorgaan naar de volgende ronde (ronde 2), levert een bonus op van 0.2 punt bij je SE cijfer. Doorgaan naar de finale levert een bonus op van 0.4 punt bij je SE cijfer. | F111: 120 | G111: Nee | K111: Olympiade materiaal | L111: geen
E115: Beoordeling 6e leerjaar in %
E116: Totaal % leerjaar 4+5: | H116: =H80 -> 0.05
E117: Totaal % leerjaar 6 periode 1: | H117: =SUM(H98:H101) -> 0.3
E118: Totaal % leerjaar 6 periode 2: | H118: =SUM(H103:H106) -> 0.3
E119: Totaal % leerjaar 6 periode 3: | H119: =SUM(H108:H110) -> 0.35
E120: Totaal % leerjaar 4+5+6: | H120: =SUM(H116:H119) -> 1
B122: [1] s = schriftelijk, m = mondeling, d= digitaal, pr = praktisch, p = presentatie, h = handelingsopdracht, a = anders
B123: [2] De toetsvorm van de herkansing is gelijk aan de toetsvorm van de toets die herkanst wordt. De herkansingen vinden plaats aan het einde van de lesperiode van de toets die herkanst wordt of aan het begin van de volgende lesperiode.
B124: [3] Hier wordt het percentage van het schoolexamencijfer vermeld OF aangegeven of een O/V/G (onvoldoende, voldoende, goed) beoordeling van toepassing is.
B125: [4] Naast de eindtermen wordt ook aangegeven of dit PTA onderdeel CE stof bevat

Sheet WisC
B1: =Netl!B1 -> Norbertus Programma van Toetsing en Afsluiting 2024-2025 | J1: ='Lijst van vakken'!A13 -> wiskunde C | L1: =Netl!L1 -> Cohort 24-27
B2: vwo 4
B3: Periode | C3: PTA-code | D3: Toetsvorm [1] | E3: Toetsdoelen | F3: Toetsduur (minuten) | G3: Herkansing [2] | H3: Beoordeling [3] | J3: Eindtermen [4] | K3: Lesmateriaal | L3: Toegestane materialen bij de toets
H4: % | I4: Cijfer of OVG
B6: 1
B11: 2
B16: 3
B21: 4
E28: Beoordeling 4e leerjaar in %
A29: Ja | E29: Totaal % leerjaar 4 periode 1: | H29: =SUM(H6:H9) -> 0
A30: Nee | E30: Totaal % leerjaar 4 periode 2: | H30: =SUM(H11:H15) -> 0
E31: Totaal % leerjaar 4 periode 3: | H31: =SUM(H16:H19) -> 0
E32: Totaal % leerjaar 4 periode 4: | H32: =SUM(H21:H24) -> 0
A33: S | E33: Totaal % leerjaar 4: | H33: =SUM(H29:H32) -> 0
A34: M
A35: D | B35: [1] s = schriftelijk, m = mondeling, d= digitaal, pr = praktisch, p = presentatie, h = handelingsopdracht, a = anders
A36: PR | B36: [2] De toetsvorm van de herkansing is gelijk aan de toetsvorm van de toets die herkanst wordt. De herkansingen vinden plaats aan het einde van de lesperiode van de toets die herkanst wordt of aan het begin van de volgende lesperiode.
A37: P | B37: [3] Hier wordt het percentage van het schoolexamencijfer vermeld OF aangegeven of een O/V/G (onvoldoende, voldoende, goed) beoordeling van toepassing is.
A38: H | B38: [4] Naast de eindtermen wordt ook aangegeven of dit PTA onderdeel CE stof bevat
A39: A
A42: Cijfer
A43: OVG
B47: =Netl!B47 -> Norbertus Programma van Toetsing en Afsluiting 2025-2026 | J47: =J1 -> wiskunde C | L47: =L1 -> Cohort 24-27
B48: vwo 5
B49: Periode | C49: PTA-code | D49: Toetsvorm [1] | E49: Toetsdoelen | F49: Toetsduur (minuten) | G49: Herkansing [2] | H49: Beoordeling [3] | J49: Eindtermen [4] | K49: Lesmateriaal | L49: Toegestane materialen bij de toets
H50: % | I50: Cijfer of OVG
B52: 1
B57: 2
B62: 3
C63: VA3301 | D63: PR | E63: Je kunt -zelfstandig nieuwe stof tot zich te nemen; -kritisch na te denken en te kijken naar eigen werk; -om samen te werken met andere leerlingen; -een aangegeven tijdpad te bewaken. | F63: 50 | G63: Nee | H63: 0.05 | I63: Cijfer | J63: H | K63: Dictaat/stencils behorend bij keuzeonderwerp | L63: Aantekeningen.
B67: 4
E74: Beoordeling 5e leerjaar in %
E75: Totaal % leerjaar 4 | H75: =$H$33 -> 0
E76: Totaal % leerjaar 5 periode 1: | H76: =SUM(H52:H55) -> 0
E77: Totaal % leerjaar 5 periode 2: | H77: =SUM(H57:H61) -> 0
E78: Totaal % leerjaar 5 periode 3: | H78: =SUM(H62:H65) -> 0.05
E79: Totaal % leerjaar 5 periode 4: | H79: =SUM(H67:H70) -> 0
E80: Totaal % leerjaar 4+5: | H80: =SUM(H76:H79) -> 0.05
B82: [1] s = schriftelijk, m = mondeling, d= digitaal, pr = praktisch, p = presentatie, h = handelingsopdracht, a = anders
B83: [2] De toetsvorm van de herkansing is gelijk aan de toetsvorm van de toets die herkanst wordt. De herkansingen vinden plaats aan het einde van de lesperiode van de toets die herkanst wordt of aan het begin van de volgende lesperiode.
B84: [3] Hier wordt het percentage van het schoolexamencijfer vermeld OF aangegeven of een O/V/G (onvoldoende, voldoende, goed) beoordeling van toepassing is.
B85: [4] Naast de eindtermen wordt ook aangegeven of dit PTA onderdeel CE stof bevat
B93: =Netl!B93 -> Norbertus Programma van Toetsing en Afsluiting 2026-2027 | J93: =J47 -> wiskunde C | L93: =L1 -> Cohort 24-27
B94: vwo 6
B95: Periode | C95: PTA-code | D95: Toetsvorm [1] | E95: Toetsdoelen | F95: Toetsduur (minuten) | G95: Herkansing [2] | H95: Beoordeling [3] | J95: Eindtermen [4] | K95: Lesmateriaal | L95: Toegestane materialen bij de toets
H96: % | I96: Cijfer of OVG
B98: 1
C99: VA3302 | D99: S | E99: Je beheerst de bij het examenprogramma passende wiskundigevaardigheden, waaronder modelleren en algebraïseren, ordenen en structureren,analytisch denken en probleemoplossen, formules manipuleren, abstraheren, en logisch redeneren – en kan daarbij ICT functioneel gebruiken. Je kunt telproblemen structureren en schematiseren en dat gebruiken bij berekeningen en redeneringen. tevens kan je berekeningen uitvoeren met getallen en variabelen, daarbij gebruik maken van rekenkundige en algebraïsche basisbewerkingen en van het werken met haakjes. Je kunt tevens formules en functievoorschriften opstellen en bewerken, de bijbehorende grafieken tekenen, vergelijkingen en ongelijkheden oplossen met algebraïsche methoden zonder gebruik van ICT, en daar waar nodig met numerieke of grafische methoden met inzet van ICT, en de uitkomst interpreteren in termen van een context. Je kunt tenslotte van eerstegraadsfuncties, tweedegraadsfuncties, machtsfuncties, exponentiële functies en logaritmische functies de kenmerken in grafiek, tabel en formule herkennen en gebruiken. Tevens kan de kandidaat de afgeleide bepalen en de rekenregels voor het differentiëren gebruiken. Je kunt het gedrag van een rij herkennen en beschrijven en berekeningen aan een rij uitvoeren, ten minste in het geval van rekenkundige en meetkundige rijen. Je kunt logische redeneringen analyseren op correct gebruik. Je kunt van een ruimtelijk object aanzichten en perspectieftekeningen maken, er berekeningen aan uitvoeren en op basis daarvan conclusies trekken over dit object. | F99: 100 | G99: Ja | H99: 0.3 | I99: Cijfer | J99: A,B,C,D,E,F,G | K99: Lesboeken: Getal en Ruimte 12 ed vwo hoofdstukken 1, 2, 3, 5, 6, 8, 9, 10, 11, 12, 15 + dictaat over tellen. | L99: Grafische rekenmachine in de nederlandse examenstand
B103: 2
C104: VA3303 | D104: S | E104: Je beheerst de bij het examenprogramma passende wiskundigevaardigheden, waaronder modelleren en algebraïseren, ordenen en structureren,analytisch denken en probleemoplossen, formules manipuleren, abstraheren, en logisch redeneren – en kan daarbij ICT functioneel gebruiken Je kunt telproblemen structureren en schematiseren en dat gebruiken bij berekeningen en redeneringen. tevens kan je berekeningen uitvoeren met getallen en variabelen, daarbij gebruik maken van rekenkundige en algebraïsche basisbewerkingen en van het werken met haakjes. Je kunt tevens formules en functievoorschriften opstellen en bewerken, de bijbehorende grafieken tekenen, vergelijkingen en ongelijkheden oplossen met algebraïsche methoden zonder gebruik van ICT, en daar waar nodig met numerieke of grafische methoden met inzet van ICT, en de uitkomst interpreteren in termen van een context. Je kunt tenslotte van eerstegraadsfuncties, tweedegraadsfuncties, machtsfuncties, exponentiële functies en logaritmische functies de kenmerken in grafiek, tabel en formule herkennen en gebruiken. Tevens kun je de afgeleide bepalen en de rekenregels voor het differentiëren gebruiken. Je kunt het gedrag van een rij herkennen en beschrijven en berekeningen aan een rij uitvoeren, ten minste in het geval van rekenkundige en meetkundige rijen. Je kunt logische redeneringen analyseren op correct gebruik. Je kunt van een ruimtelijk object aanzichten en perspectieftekeningen maken, er berekeningen aan uitvoeren en op basis daarvan conclusies trekken over dit object. | F104: 100 | G104: Ja | H104: 0.3 | I104: Cijfer | J104: A,B,C,D,E,F,G | K104: Lesboeken: Getal en Ruimte 12 ed vwo hoofdstukken 1, 2, 3, 5, 6, 8, 9, 10, 11, 12, 13, 15 + dictaat over tellen. | L104: Grafische rekenmachine in de nederlandse examenstand
B108: 3
C109: VA3304 | D109: S | E109: Je beheerst de bij het examenprogramma passende wiskundigevaardigheden, waaronder modelleren en algebraïseren, ordenen en structureren,analytisch denken en probleemoplossen, formules manipuleren, abstraheren, en logisch redeneren – en kan daarbij ICT functioneel gebruiken Je kunt telproblemen structureren en schematiseren en dat gebruiken bij berekeningen en redeneringen. tevens kan je berekeningen uitvoeren met getallen en variabelen, daarbij gebruik maken van rekenkundige en algebraïsche basisbewerkingen en van het werken met haakjes. Je kunt tevens formules en functievoorschriften opstellen en bewerken, de bijbehorende grafieken tekenen, vergelijkingen en ongelijkheden oplossen met algebraïsche methoden zonder gebruik van ICT, en daar waar nodig met numerieke of grafische methoden met inzet van ICT, en de uitkomst interpreteren in termen van een context. Je kunt tenslotte van eerstegraadsfuncties, tweedegraadsfuncties, machtsfuncties, exponentiële functies en logaritmische functies de kenmerken in grafiek, tabel en formule herkennen en gebruiken. Tevens kan de kandidaat de afgeleide bepalen en de rekenregels voor het differentiëren gebruiken. Je kunt het gedrag van een rij herkennen en beschrijven en berekeningen aan een rij uitvoeren, ten minste in het geval van rekenkundige en meetkundige rijen. Je kunt logische redeneringen analyseren op correct gebruik. Je kunt van een ruimtelijk object aanzichten en perspectieftekeningen maken, er berekeningen aan uitvoeren en op basis daarvan conclusies trekken over dit object. | F109: 100 | G109: Ja | H109: 0.35 | I109: Cijfer | J109: A,B,C,D,E,F,G | K109: Lesboeken: Getal en Ruimte 12 ed vwo hoofdstukken 1, 2, 3, 5, 6, 8, 9, 10, 11, 12, 13, 14, 15 + dictaat over tellen. | L109: Grafische rekenmachine in de nederlandse examenstand
D110: A | E110: Leerlingen die deelnemen aan de wiskunde oplympiade en bij de beste 20% (in jouw categorie) behoren, levert een bonus op van 0.1 punt bij je SE cijfer. Doorgaan naar de volgende ronde (ronde 2), levert een bonus op van 0.2 punt bij je SE cijfer. Doorgaan naar de finale levert een bonus op van 0.4 punt bij je SE cijfer. | F110: 120 | G110: Nee | J110: A | K110: Olympiade materiaal | L110: geen
E115: Beoordeling 6e leerjaar in %
E116: Totaal % leerjaar 4+5: | H116: =H80 -> 0.05
E117: Totaal % leerjaar 6 periode 1: | H117: =SUM(H98:H101) -> 0.3
E118: Totaal % leerjaar 6 periode 2: | H118: =SUM(H103:H106) -> 0.3
E119: Totaal % leerjaar 6 periode 3: | H119: =SUM(H108:H111) -> 0.35
E120: Totaal % leerjaar 4+5+6: | H120: =SUM(H116:H119) -> 1
B122: [1] s = schriftelijk, m = mondeling, d= digitaal, pr = praktisch, p = presentatie, h = handelingsopdracht, a = anders
B123: [2] De toetsvorm van de herkansing is gelijk aan de toetsvorm van de toets die herkanst wordt. De herkansingen vinden plaats aan het einde van de lesperiode van de toets die herkanst wordt of aan het begin van de volgende lesperiode.
B124: [3] Hier wordt het percentage van het schoolexamencijfer vermeld OF aangegeven of een O/V/G (onvoldoende, voldoende, goed) beoordeling van toepassing is.
B125: [4] Naast de eindtermen wordt ook aangegeven of dit PTA onderdeel CE stof bevat

Sheet WisD
B1: =Netl!B1 -> Norbertus Programma van Toetsing en Afsluiting 2024-2025 | J1: ='Lijst van vakken'!A14 -> wiskunde D | L1: =Netl!L1 -> Cohort 24-27
B2: vwo 4
B3: Periode | C3: PTA-code | D3: Toetsvorm [1] | E3: Toetsdoelen | F3: Toetsduur (minuten) | G3: Herkansing [2] | H3: Beoordeling [3] | J3: Eindtermen [4] | K3: Lesmateriaal | L3: Toegestane materialen bij de toets
H4: % | I4: Cijfer of OVG
B6: 1
B11: 2
B16: 3
B21: 4
E28: Beoordeling 4e leerjaar in %
A29: Ja | E29: Totaal % leerjaar 4 periode 1: | H29: =SUM(H6:H9) -> 0
A30: Nee | E30: Totaal % leerjaar 4 periode 2: | H30: =SUM(H11:H15) -> 0
E31: Totaal % leerjaar 4 periode 3: | H31: =SUM(H16:H19) -> 0
E32: Totaal % leerjaar 4 periode 4: | H32: =SUM(H21:H24) -> 0
A33: S | E33: Totaal % leerjaar 4: | H33: =SUM(H29:H32) -> 0
A34: M
A35: D | B35: [1] s = schriftelijk, m = mondeling, d= digitaal, pr = praktisch, p = presentatie, h = handelingsopdracht, a = anders
A36: PR | B36: [2] De toetsvorm van de herkansing is gelijk aan de toetsvorm van de toets die herkanst wordt. De herkansingen vinden plaats aan het einde van de lesperiode van de toets die herkanst wordt of aan het begin van de volgende lesperiode.
A37: P | B37: [3] Hier wordt het percentage van het schoolexamencijfer vermeld OF aangegeven of een O/V/G (onvoldoende, voldoende, goed) beoordeling van toepassing is.
A38: H | B38: [4] Naast de eindtermen wordt ook aangegeven of dit PTA onderdeel CE stof bevat
A39: A
A42: Cijfer
A43: OVG
B47: =Netl!B47 -> Norbertus Programma van Toetsing en Afsluiting 2025-2026 | J47: =J1 -> wiskunde D | L47: =L1 -> Cohort 24-27
B48: vwo 5
B49: Periode | C49: PTA-code | D49: Toetsvorm [1] | E49: Toetsdoelen | F49: Toetsduur (minuten) | G49: Herkansing [2] | H49: Beoordeling [3] | J49: Eindtermen [4] | K49: Lesmateriaal | L49: Toegestane materialen bij de toets
H50: % | I50: Cijfer of OVG
B52: 1 | C52: VA3401 | D52: S | E52: Leerlingen kunnen de product en somregel gebruiken om telproblemen op te lossen; Variatie, herhalingsvariaties,permutaties, combinatiies en herhalingscombinaties gebruiken; Combinaties en herhalingscombinaties gebruiken in een rooster; Het aantal rangschikkingen berekenen; Met de kansdefinitie van Laplace kansen berekenen; Het vaasmodel gebruiken bij het berekenen van kansen; Kansen bereken met de productregel, somregel en complementregel; Voorwaardelijke kansen berekenen; Kansen berekenen met de algemene produktregel; Verschil tussen met en zonder teruglegging aantonen; De verwachtingswaarde berekenen; Berekingen uitvoeren met de binomiale kansverdeling; Aangeven wat continue kansverdelingen zijn; De binomaile en normale kansverdeling combineren | F52: 50 | G52: Ja | H52: 0.05 | I52: Cijfer | J52: B | K52: Getal en Ruimte Wiskunde D deel 1, Hoofdstuk 1, Combinatoriek Getal en Ruimte Wiskunde D deel 1, Hoofdstuk 3, Kansrekening Getal en Ruimte Wiskunde D deel 2, Hoofdstuk 5, Discrete Kansverdelingen Getal en Ruimte Wiskunde D deel 3, Hoofdstuk 12, Continue Kansverdelingen | L52: Grafische Rekenmachine in nederlandse examenstand
C54: VA3402 | D54: S | E54: Leerlingen kunnen complexe problemen oplossen. Leerlingen zijn in staat om probleemoplossend te denken. Leerlingen kunnen complexere oplossingen wiskundig juist verwoorden/noteren | F54: 100 | G54: Ja | H54: 0.05 | I54: Cijfer | J54: A,G | K54: Powerpoint/dictaat Problem Solving | L54: geen
B57: 2 | C57: VA3403 | D57: S | E57: Leerlingen kunnen bewijzen in de vlakke meetkunde met bijvoorbeeld gelijkvormige en congruente driehoeken, koordenvierhoeken en de stelling van de constante hoek; Bewijzen met behulp van volledige inductie, bewijzen uit het ongerijmde, het ladenprincipe en bewijzen in de getaltheorie | F57: 50 | G57: Ja | H57: 0.05 | I57: Cijfer | J57: F,G | K57: Getal en Ruimte Wiskunde D deel 2, Hoofdstuk 7, Bewijzen | L57: Grafische Rekenmachine in nederlandse examenstand
C59: VA3404 | D59: S | E59: Leerlingen kunnen complexe problemen oplossen. Leerlingen zijn in staat om probleemoplossend te denken. Leerlingen kunnen complexere oplossingen wiskundig juist verwoorden/noteren. | F59: 100 | G59: Ja | H59: 0.05 | I59: Cijfer | J59: A,G | K59: Dictaat Problem Solving 2 + Wedstrijd : Mathekalender | L59: geen
B62: 3 | C62: VA3405 | D62: S | E62: Leerlingen kunnen primitieven berekenen met de substitutiemethode en met partieel integreren; Aangeven wat cyclometrische functies zijn; Met behulp van breuksplitsen primitieven berekenen De oppervalkte berekenen van een vlakdeel dat wordt ingesloten door een parameterkromme | F62: 50 | G62: Ja | H62: 0.05 | I62: Cijfer | J62: A | K62: Getal en Ruimte Wiskunde B deel 3, keuze Hoofdstuk | L62: Grafische Rekenmachine in nederlandse examenstand
C64: VA3406 | D64: S | E64: Leerlingen kunnen werken met coordinaten in de ruimte; berekenen van coordinaten van snijpunten in de ruimte; Een vergelijking van een vlak opstellen en een normaalvector van een vlak berekenen; Hoeken in de ruimte berekenen met vectoren; Met vectoren afstanden in de ruimte berekenen. | F64: 50 | G64: Ja | H64: 0.05 | I64: Cijfer | J64: A,D | K64: Getal en Ruimte Wiskunde D deel 2, Hoofdstuk 8, Vectormeetkunde | L64: Grafische Rekenmachine in nederlandse examenstand
B67: 4 | C67: VA3407 | D67: S | E67: Leerlingen kennen : de onmogelijkheid van de klassiek passer en liniaal constructieproblemen, bewijs van de onmogelijkheid van verdubbeling van de kubus en het bewijs van de onmogelijkheid van de driedeling van een willekeurige hoek. Het onderzoeken van een meetkundige rekenmachine (Geogebra) Verschil tussen de spelregels van passer-liniaal constructies en origami wat de mogelijkheden zijn van origami t.o.v. passer en liniaal constructies | F67: 100 | G67: Ja | H67: 0.1 | I67: Cijfer | J67: A,F | K67: Dictaat Passer, Liniaal en Origami , Luuk Hoevenaars, Universiteit van Utrecht Boek, Project Origami (second edition), Thomas Hull | L67: Grafische Rekenmachine in nederlandse examenstand
E74: Beoordeling 5e leerjaar in %
E75: Totaal % leerjaar 4 | H75: =$H$33 -> 0
E76: Totaal % leerjaar 5 periode 1: | H76: =SUM(H52:H55) -> 0.1
E77: Totaal % leerjaar 5 periode 2: | H77: =SUM(H57:H61) -> 0.1
E78: Totaal % leerjaar 5 periode 3: | H78: =SUM(H62:H65) -> 0.1
E79: Totaal % leerjaar 5 periode 4: | H79: =SUM(H67:H70) -> 0.1
E80: Totaal % leerjaar 4+5: | H80: =SUM(H76:H79) -> 0.4
B82: [1] s = schriftelijk, m = mondeling, d= digitaal, pr = praktisch, p = presentatie, h = handelingsopdracht, a = anders
B83: [2] De toetsvorm van de herkansing is gelijk aan de toetsvorm van de toets die herkanst wordt. De herkansingen vinden plaats aan het einde van de lesperiode van de toets die herkanst wordt of aan het begin van de volgende lesperiode.
B84: [3] Hier wordt het percentage van het schoolexamencijfer vermeld OF aangegeven of een O/V/G (onvoldoende, voldoende, goed) beoordeling van toepassing is.
B85: [4] Naast de eindtermen wordt ook aangegeven of dit PTA onderdeel CE stof bevat
B93: =Netl!B93 -> Norbertus Programma van Toetsing en Afsluiting 2026-2027 | J93: =J47 -> wiskunde D | L93: =L1 -> Cohort 24-27
B94: vwo 6
B95: Periode | C95: PTA-code | D95: Toetsvorm [1] | E95: Toetsdoelen | F95: Toetsduur (minuten) | G95: Herkansing [2] | H95: Beoordeling [3] | J95: Eindtermen [4] | K95: Lesmateriaal | L95: Toegestane materialen bij de toets
H96: % | I96: Cijfer of OVG
B98: 1 | C98: VB3408 | D98: S | E98: De leerling toont aan dat hij de volgende zaken beheerst: De definitie van de complexe getallen en de notatie C kent; Getallen in C kunt optellen, aftrekken, vermenigvuldigen en delen; Het reële en imaginaire deel van een complex getal kunt bepalen; De complex geconjugeerde van een complex getal kunt bepalen; Kwadratische vergelijkingen met reële coëfficiënten in C kunt oplossen; Weet dat getallen in C niet in grootte met elkaar te vergelijken zijn; Complexe getallen met punten in het vlak kunt weergeven; Optellen en complex conjugeren in het vlak kunt weergeven; De modulus en het argument van een getal in C kunt bepalen; Weet dat het argument slechts op een veelvoud van 2π na bepaald is; Ieder complex getal z kunt schrijven als r(cosφ + isinφ) waarbij r demodulus en φ het argument is van z; Weet hoe het vermenigvuldigen en delen van complexe getallen isuit te drukken in moduli en argumenten; De formule van De Moivre kent en kunt toepassen; Een complex getal z = a + ib met behulp van de formule van Euler alsz = reiφ kunt schrijven en omgekeerd; De definitie van de complexe e-macht kent en kunt gebruiken; Het begrip differentiaalvergelijking kent; Het onderscheid kent tussen gewone en partiële differentiaal-vergelijkingen; De orde van een differentiaalvergelijking vast kunt stellen–weet wat het richtingsveld van een eersteordedifferentiaal-vergelijking is; Door substitutie kunt controleren of een gegeven functie oplossing isvan een differentiaalvergelijking; Uit het richtingsveld en de differentiaalvergelijking kunt bepalenwaar oplossingen stijgend of dalend zijn en waar extremen optreden; Weet wat een oplossing van een beginwaardeprobleem is; De stelling over existentie en eenduidigheid kent; Het principe kent van de methode van Euler om oplossingen vanbeginwaardeproblemen te benaderen; Weet wat een tweedeorde lineaire differentiaalvergelijking metconstante coëfficiënten is; Bij een homogene tweedeorde lineaire differentiaalvergelijking metconstante coëfficiënten de karakteristieke vergelijking kunt opstellenen alle oplossingen van de differentiaalvergelijking kunt bepalen; Weet wat een particuliere oplossing is van een inhomogene tweede-orde lineaire differentiaalvergelijking met constante coëfficiënten endeze voor drie gevallen kunt bepalen: het polynomiale, exponentiëleen sinus/cosinusgeval; Weet hoe alle oplossingen van een tweedeorde lineairedifferentiaalvergelijking met constante coëfficiënten bepaald kunnenworden als een particuliere oplossing bekend is; Eenvoudige beginwaardeproblemen bij tweedeorde lineaire differen-tiaalvergelijkingen met constante coëfficiënten kunt oplossen; Lineaire stelsels met constante coëfficiënten kunt oplossen door ze teherleiden tot tweedeorde lineaire differentiaalvergelijkingen metconstante coëfficiënten; Van homogene lineaire stelsels met constante coëfficiënten alleoplossingen kunt bepalen, deze in het fasevlak kunt schetsen en kuntbepalen of de evenwichtsoplossing een stabiele of onstabiele knoop,een stabiel of onstabiel spiraalpunt of een zadelpunt is. | F98: 100 | G98: Ja | H98: 0.2 | I98: Cijfer | J98: C,E | K98: Dictaat van de Open Universiteit Complexe Getallen Dictaat van de Open Universiteit Differentiaalvergelijkingen 1 Dictaat van de Open Universiteit Differentiaalvergelijkingen 2 | L98: Grafische rekenmachine in de nederlandse examenstand
B103: 2 | C103: VB3409 | D103: S | E103: De leerling toont aan dat hij de volgende zaken beheerst: Lineaire vergelijkingen opstellen en oplossen, zij het exact met Gaussische eliminatie. In laag-dimensionale gevallen kan de student de lineaire vergelijkingen met de hand opstellen en oplossen; De basisoperaties en basisalgorithmes van lineaire algebra uitleggen, en met de hand uitvoeren (in laag-dimensionale gevallen). Dit zijn de Gaussian elimination, matrixvermenigvuldiging, berekening van de deelruimtes van een transformatie, berekening van de inverse, orthogonaliseren, determinantberekening, diagonaliseren, eigenanalyse, kwadratische vormen op hoofdassen brengen en de SVD van een matrix bepalen; De belangrijkste vormen van transformaties herkennen en karakteriseren door middel van hun eigenschappen; Uitleggen wat determinanten geometrisch betekenen, hun algebraïsche eigenschappen gebruiken in berekeningen, en de Laplace-expansie in laag-dimensionale gevallen met de hand uitvoeren; De oplossingen van hogere ordes van differentiaalvergelijkingen kunnen bereken door gebruik te maken van Lineaire Algebra. | F103: 100 | G103: Ja | H103: 0.2 | I103: Cijfer | J103: D,F | K103: Dictaat Lineaire Algebra | L103: Grafische rekenmachine in de nederlandse examenstand
B108: 3 | C108: VZ3410 | D108: S | E108: De leerling toont aan dat hij de volgende zaken beheerst: Wat zijn meetkundige plaatsen; Meetkundige plaatsen onderzoeken met geogebra; De parabool, ellips en hyperbooltak zien als meetkundige plaasten; Raaklijneigenschappen van parabolen ellipsen en hyperbolen; Dat cirkels, parabolen, ellipsen en hyperbolen kegelsneden zijn; Vergelijkingen van kegelsneden opstellen en gebruiken; vergelijkingen opstellen van raaklijnen en poollijnen van kegelsneden; Wat zijn spiralen, lemniscaten en roulettes; Wiskundige eigenschappen van verschillende krommen onderzoeken mbv Geogebra; | F108: 100 | G108: Ja | H108: 0.2 | I108: Cijfer | J108: D,E,F,G | K108: Onderwerp : Allerlei (meetkundige) functies mbv eigen dictaat en het boekje uit de Zebra-reeks : een verkenning van krommen | L108: Grafische rekenmachine in de nederlandse examenstand
E115: Beoordeling 6e leerjaar in %
E116: Totaal % leerjaar 4+5: | H116: =H80 -> 0.4
E117: Totaal % leerjaar 6 periode 1: | H117: =SUM(H98:H101) -> 0.2
E118: Totaal % leerjaar 6 periode 2: | H118: =SUM(H103:H106) -> 0.2
E119: Totaal % leerjaar 6 periode 3: | H119: =SUM(H108:H111) -> 0.2
E120: Totaal % leerjaar 4+5+6: | H120: =SUM(H116:H119) -> 1
B122: [1] s = schriftelijk, m = mondeling, d= digitaal, pr = praktisch, p = presentatie, h = handelingsopdracht, a = anders
B123: [2] De toetsvorm van de herkansing is gelijk aan de toetsvorm van de toets die herkanst wordt. De herkansingen vinden plaats aan het einde van de lesperiode van de toets die herkanst wordt of aan het begin van de volgende lesperiode.
B124: [3] Hier wordt het percentage van het schoolexamencijfer vermeld OF aangegeven of een O/V/G (onvoldoende, voldoende, goed) beoordeling van toepassing is.
B125: [4] Naast de eindtermen wordt ook aangegeven of dit PTA onderdeel CE stof bevat

Sheet In
B1: =Netl!B1 -> Norbertus Programma van Toetsing en Afsluiting 2024-2025 | J1: ='Lijst van vakken'!A15 -> informatica | L1: =Netl!L1 -> Cohort 24-27
B2: vwo 4
B3: Periode | C3: PTA-code | D3: Toetsvorm [1] | E3: Toetsdoelen | F3: Toetsduur (minuten) | G3: Herkansing [2] | H3: Beoordeling [3] | J3: Eindtermen [4] | K3: Lesmateriaal | L3: Toegestane materialen bij de toets
H4: % | I4: Cijfer of OVG
B6: 1 | C6: VA3801 | D6: D | E6: Je kunt doelgericht informatie zoeken, beoordelen, selecteren en verwerken. Je kunt gegevens representeren in een geschikte datastructuur, daarbij rekening houdend met de doelstelling, en kan daarbij verschillende representaties met elkaar vergelijken op elegantie, efficiëntie en implementeerbaarheid. Je kunt standaardrepresentaties van numerieke gegevens en media gebruiken en aan elkaar relateren. | F6: 50 | G6: Nee | H6: 0.03 | I6: Cijfer | J6: A, C | K6: Informatica Actief: Informatie digitaal | L6: Computer
C7: VA3802 | D7: PR | E7: Je kunt een website maken met HTML+CSS | G7: Nee | H7: 0.05 | I7: Cijfer | J7: A, B, C | K7: Informatica Actief: Representatieve gegevens | L7: Computer
B11: 2 | C11: VA3803 | D11: D | E11: Je hebt kennis over hardware en de bijbehorende besturingssysteem. | F11: 50 | G11: Nee | H11: 0.03 | I11: Cijfer | J11: A,B,C,E,F | K11: Informatica Actief: Computerarchitectuur | L11: Computer
B16: 3 | C16: VA3804 | D16: PR | E16: Het opstellen van een hardware advies (Domotica) Je kunt een hardwareadvies opstellen | G16: Nee | H16: 0.05 | I16: Cijfer | J16: A,C,E,F | K16: Informatica Actief: Computerarchitectuur | L16: Computer
B21: 4 | C21: VA3805 | D21: PR | E21: Je leert Algoritmisch denken en gestructureerd programmeren op een leuke manier de basisvaardigheden voor programmeren. Je bent in staat om programmeerbasisvaardigheden in andere (objectgeorïenteerde) talen eigen te maken. | G21: Nee | H21: 0.1 | I21: Cijfer | J21: A, B, C, D | K21: Informatica Actief: Inleiding programmeren | L21: Computer
E28: Beoordeling 4e leerjaar in %
A29: Ja | E29: Totaal % leerjaar 4 periode 1: | H29: =SUM(H6:H9) -> 0.08
A30: Nee | E30: Totaal % leerjaar 4 periode 2: | H30: =SUM(H11:H15) -> 0.03
E31: Totaal % leerjaar 4 periode 3: | H31: =SUM(H16:H19) -> 0.05
E32: Totaal % leerjaar 4 periode 4: | H32: =SUM(H21:H24) -> 0.1
A33: S | E33: Totaal % leerjaar 4: | H33: =SUM(H29:H32) -> 0.26
A34: M
A35: D | B35: [1] s = schriftelijk, m = mondeling, d= digitaal, pr = praktisch, p = presentatie, h = handelingsopdracht, a = anders
A36: PR | B36: [2] De toetsvorm van de herkansing is gelijk aan de toetsvorm van de toets die herkanst wordt. De herkansingen vinden plaats aan het einde van de lesperiode van de toets die herkanst wordt of aan het begin van de volgende lesperiode.
A37: P | B37: [3] Hier wordt het percentage van het schoolexamencijfer vermeld OF aangegeven of een O/V/G (onvoldoende, voldoende, goed) beoordeling van toepassing is.
A38: H | B38: [4] Naast de eindtermen wordt ook aangegeven of dit PTA onderdeel CE stof bevat
A39: A
A42: Cijfer
A43: OVG
B47: =Netl!B47 -> Norbertus Programma van Toetsing en Afsluiting 2025-2026 | J47: =J1 -> informatica | L47: =L1 -> Cohort 24-27
B48: vwo 5
B49: Periode | C49: PTA-code | D49: Toetsvorm [1] | E49: Toetsdoelen | F49: Toetsduur (minuten) | G49: Herkansing [2] | H49: Beoordeling [3] | J49: Eindtermen [4] | K49: Lesmateriaal | L49: Toegestane materialen bij de toets
H50: % | I50: Cijfer of OVG
B52: 1 | C52: VA3806 | D52: D | E52: De leerling kan enkele security-bedreigingen en veelgebruikte socio-technische maatregelen benoemen en deze relateren aan sociale en menselijke factoren. Je kunt de manier waarop netwerkcomponenten met elkaar communiceren beschrijven en analyseren, en kan schalingseffecten bij communicatie herkennen, er voorbeelden van geven en de gevolgen ervan uitleggen. | F52: 50 | G52: Ja | H52: 0.03 | I52: Cijfer | J52: A,C,E,F | K52: Informatica Actief: Netwerktopologiën, Security & Privacy | L52: Computer
C53: VA3807 | D53: PR | E53: Je kunt een netwerkadvies opstellen. Hierbij moet men denken aan de hardware en het bijbehorende besturingssysteem. | G53: Nee | H53: 0.06 | I53: Cijfer | J53: A,C,E,F | K53: Informatica Actief: Netwerktopologiën, Security & Privacy | L53: Computer
B57: 2 | C57: VA3808 | D57: PR | E57: Je kunt een relationale database ontwerpen en daarbij kunnen ze Query opstellen. Dit wordt gedaan met SQL (Structured Query Language). Dit is een programeertaal, die bij veel databasesystemen worden gebruikt. | G57: Nee | H57: 0.1 | I57: Cijfer | J57: A, B, C, D, H | K57: Informatica Actief: Acces en SQL | L57: Computer
B62: 3
B67: 4 | C67: VA3809 | D67: PR | E67: Je kunt een webapp bouwen met JQuery Mobile, PHP en MySQL. | G67: Nee | H67: 0.15 | I67: Cijfer | J67: A, C, D, E,F, H, J, O, P | K67: Informatica Actief: Webapps Informatica Actief : DB en MySQL | L67: Computer
E74: Beoordeling 5e leerjaar in %
E75: Totaal % leerjaar 4 | H75: =$H$33 -> 0.26
E76: Totaal % leerjaar 5 periode 1: | H76: =SUM(H52:H55) -> 0.09
E77: Totaal % leerjaar 5 periode 2: | H77: =SUM(H57:H61) -> 0.1
E78: Totaal % leerjaar 5 periode 3: | H78: =SUM(H62:H65) -> 0
E79: Totaal % leerjaar 5 periode 4: | H79: =SUM(H67:H70) -> 0.15
E80: Totaal % leerjaar 4+5: | H80: =SUM(H75:H79) -> 0.6
B82: [1] s = schriftelijk, m = mondeling, d= digitaal, pr = praktisch, p = presentatie, h = handelingsopdracht, a = anders
B83: [2] De toetsvorm van de herkansing is gelijk aan de toetsvorm van de toets die herkanst wordt. De herkansingen vinden plaats aan het einde van de lesperiode van de toets die herkanst wordt of aan het begin van de volgende lesperiode.
B84: [3] Hier wordt het percentage van het schoolexamencijfer vermeld OF aangegeven of een O/V/G (onvoldoende, voldoende, goed) beoordeling van toepassing is.
B85: [4] Naast de eindtermen wordt ook aangegeven of dit PTA onderdeel CE stof bevat
B93: =Netl!B93 -> Norbertus Programma van Toetsing en Afsluiting 2026-2027 | J93: =J47 -> informatica | L93: =L1 -> Cohort 24-27
B94: vwo 6
B95: Periode | C95: PTA-code | D95: Toetsvorm [1] | E95: Toetsdoelen | F95: Toetsduur (minuten) | G95: Herkansing [2] | H95: Beoordeling [3] | J95: Eindtermen [4] | K95: Lesmateriaal | L95: Toegestane materialen bij de toets
H96: % | I96: Cijfer of OVG
B98: 1
B103: 2 | C103: VA3810 | D103: PR | E103: Je kunt een project ontwerpen en uitvoeren uit de domeinen G t/m N. Hierbij moeten onderzoeksvragen geformuleerd worden, die vervolgens te beantwoorden zijn met onderzoeksresultaten. | G103: Nee | H103: 0.2 | I103: Cijfer | J103: G, H, I, J, K, L, M, N | K103: Informatica Actief | L103: Computer
B108: 3 | C108: VA3811 | D108: PR | E108: Je kunt een project ontwerpen en uitvoeren uit de domeinen O t/m R. Hierbij moeten onderzoeksvragen geformuleerd worden, die vervolgens te beantwoorden zijn met onderzoeksresultaten. | G108: Nee | H108: 0.2 | I108: Cijfer | J108: O, P, Q, R | K108: Informatica Actief | L108: Computer
E115: Beoordeling 6e leerjaar in %
E116: Totaal % leerjaar 4+5: | H116: =H80 -> 0.6
E117: Totaal % leerjaar 6 periode 1: | H117: =SUM(H98:H101) -> 0
E118: Totaal % leerjaar 6 periode 2: | H118: =SUM(H103:H106) -> 0.2
E119: Totaal % leerjaar 6 periode 3: | H119: =SUM(H108:H111) -> 0.2
E120: Totaal % leerjaar 4+5+6: | H120: =SUM(H116:H119) -> 1
B122: [1] s = schriftelijk, m = mondeling, d= digitaal, pr = praktisch, p = presentatie, h = handelingsopdracht, a = anders
B123: [2] De toetsvorm van de herkansing is gelijk aan de toetsvorm van de toets die herkanst wordt. De herkansingen vinden plaats aan het einde van de lesperiode van de toets die herkanst wordt of aan het begin van de volgende lesperiode.
B124: [3] Hier wordt het percentage van het schoolexamencijfer vermeld OF aangegeven of een O/V/G (onvoldoende, voldoende, goed) beoordeling van toepassing is.
B125: [4] Naast de eindtermen wordt ook aangegeven of dit PTA onderdeel CE stof bevat

Sheet Nat
B1: =Netl!B1 -> Norbertus Programma van Toetsing en Afsluiting 2024-2025 | J1: ='Lijst van vakken'!A16 -> natuurkunde | L1: =Netl!L1 -> Cohort 24-27
B2: vwo 4
B3: Periode | C3: PTA-code | D3: Toetsvorm [1] | E3: Toetsdoelen | F3: Toetsduur (minuten) | G3: Herkansing [2] | H3: Beoordeling [3] | J3: Eindtermen [4] | K3: Lesmateriaal | L3: Toegestane materialen bij de toets
H4: % | I4: Cijfer of OVG
B6: 1
B11: 2
B16: 3 | D16: A | E16: Deelname aan de natuurkunde olympiade is vrijwillig. Tijdens drie rondes werk je bij de Natuurkundeolympiade aan verschillende onderwerpen. Ronde 1 is gebaseerd op de leerstof van school, waar je bij de andere rondes werk thuisgestuurd krijgt. Meedoen kan je een bonus opleveren: 1. Scorepunten ≥ 100% van landelijk gemiddelde alle deelnemers 1e ronde: + 0,1 op het SE-eindcijfer 2. Certificaat, dus bij de beste 10% deelnemers 1e ronde: + 0,2 op het SE-eindcijfer 3. Toegelaten worden tot de 2e ronde van de olympiade: + 0,4 op het SE-eindcijfer | F16: 120 | G16: Nee | J16: A t/m H (SE + CE) | K16: Het materiaal van de Olympiade vind je in jouw lesboeken en krijg je in de tweede ronde van de organisatie toegestuurd. | L16: Rekenmachine, BINAS
C17: VA4001 | D17: S | E17: (CE) Je kunt in contexten de relatie tussen kracht en bewegingsveranderingen kwalitatief en kwantitatief analyseren en verklaren met behulp van de wetten van newton. Je kunt in contexten de begrippen energiebehoud, rendement, arbeid en warmte gebruiken om energieomzettingen te beschrijven en te analyseren | F17: 100 | G17: Nee | H17: 0.05 | I17: Cijfer | J17: C1, C2 (CE) | K17: H1 (beweging in beeld), H3 (krachten) en H6 (arbeid en energie) | L17: Niet-grafisch rekenmachine, BINAS
B21: 4
E28: Beoordeling 4e leerjaar in %
A29: Ja | E29: Totaal % leerjaar 4 periode 1: | H29: =SUM(H6:H9) -> 0
A30: Nee | E30: Totaal % leerjaar 4 periode 2: | H30: =SUM(H11:H15) -> 0
E31: Totaal % leerjaar 4 periode 3: | H31: =SUM(H16:H19) -> 0.05
E32: Totaal % leerjaar 4 periode 4: | H32: =SUM(H21:H24) -> 0
A33: S | E33: Totaal % leerjaar 4: | H33: =SUM(H29:H32) -> 0.05
A34: M
A35: D | B35: [1] s = schriftelijk, m = mondeling, d= digitaal, pr = praktisch, p = presentatie, h = handelingsopdracht, a = anders
A36: PR | B36: [2] De toetsvorm van de herkansing is gelijk aan de toetsvorm van de toets die herkanst wordt. De herkansingen vinden plaats aan het einde van de lesperiode van de toets die herkanst wordt of aan het begin van de volgende lesperiode.
A37: P | B37: [3] Hier wordt het percentage van het schoolexamencijfer vermeld OF aangegeven of een O/V/G (onvoldoende, voldoende, goed) beoordeling van toepassing is.
A38: H | B38: [4] Naast de eindtermen wordt ook aangegeven of dit PTA onderdeel CE stof bevat
A39: A
A42: Cijfer
A43: OVG
B47: =Netl!B47 -> Norbertus Programma van Toetsing en Afsluiting 2025-2026 | J47: =J1 -> natuurkunde | L47: =L1 -> Cohort 24-27
B48: vwo 5
B49: Periode | C49: PTA-code | D49: Toetsvorm [1] | E49: Toetsdoelen | F49: Toetsduur (minuten) | G49: Herkansing [2] | H49: Beoordeling [3] | J49: Eindtermen [4] | K49: Lesmateriaal | L49: Toegestane materialen bij de toets
H50: % | I50: Cijfer of OVG
B52: 1
B57: 2
B62: 3 | D62: A | E62: Deelname aan de natuurkunde olympiade is vrijwillig. Tijdens drie rondes werk je bij de Natuurkundeolympiade aan verschillende onderwerpen. Ronde 1 is gebaseerd op de leerstof van school, waar je bij de andere rondes werk thuisgestuurd krijgt. Meedoen kan je een bonus opleveren: 1. Scorepunten ≥ 100% van landelijk gemiddelde alle deelnemers 1e ronde: + 0,1 op het SE-eindcijfer 2. Certificaat, dus bij de beste 10% deelnemers 1e ronde: + 0,2 op het SE-eindcijfer 3. Toegelaten worden tot de 2e ronde van de olympiade: + 0,4 op het SE-eindcijfer | F62: 120 | G62: Nee | J62: A t/m H (SE + CE) | K62: Het materiaal van de Olympiade vind je in jouw lesboeken en krijg je in de tweede ronde van de organisatie toegestuurd. | L62: Rekenmachine, BINAS
C63: VA4002 | D63: S | E63: (SE) Je kunt een (aanvulling op een) model schrijven naar aanleiding van een beschreven context en hiermee een beperkt onderzoek uitvoeren. | F63: 150 | G63: Nee | H63: 0.05 | I63: Cijfer | J63: A, H, I1, I2, I3 (SE) | K63: module handleiding voor modelleren | L63: computer, rekenmachine (niet grafisch), BINAS
B67: 4 | C67: VA4003 | D67: PR | E67: (SE) Je kunt een natuurwetenschappelijk verslag schrijven over een eigen opgestelde onderzoeksvraag bij het onderwerp bio- of geofysica. | F67: NVT | G67: Nee | H67: 0.05 | I67: Cijfer | J67: G1, G2 (SE) | K67: Keuzekatern A geofysica, keuzekatern B biofysica | L67: computer, rekenmachine (niet grafisch), BINAS
C68: VA4004 | D68: S | E68: (SE en CE) Je kunt in contexten eigenschappen van trillingen en golven gebruiken bij het analyseren en verklaren van onder andere informatieoverdracht. Je kunteigenschappen van ioniserende straling en de effecten van deze straling op mens en milieu beschrijven. Ook kun je medische beeldvormende techniekenbeschrijven en analyseren aan de hand van fysiche principes en de diagnostische functie van deze beeldvormingstechnieken voor de gezondheid toelichten. Je kunt, ten minste in de context van het heelal, bewegingen analyseren en verklaren aan de hand van de gravitatiewisselwerking. Je kunt in astrofysische en andere contexten de wisselwerking tussen straling en materie beschrijven en verklaren aan de hand van de begrippen atoomspectrum, absorptie, emissie en stralingsenergie. Je kunt kern- en deeltjesprocessen analyseren en beschrijven. Je kunt de relativiteitsbegrippen herkenne, verklaren en toepassen. | F68: 100 | G68: Ja | H68: 0.15 | I68: Cijfer | J68: A, B1, B2, C3, E2, E3/F2 (SE + CE) | K68: Hoofdstuk 5, 7 t/m 11 + Keuzekatern relativiteit of kern en deeltjes | L68: rekenmachine (niet grafisch), binas
E74: Beoordeling 5e leerjaar in %
E75: Totaal % leerjaar 4 | H75: =$H$33 -> 0.05
E76: Totaal % leerjaar 5 periode 1: | H76: =SUM(H52:H55) -> 0
E77: Totaal % leerjaar 5 periode 2: | H77: =SUM(H57:H61) -> 0
E78: Totaal % leerjaar 5 periode 3: | H78: =SUM(H62:H65) -> 0.05
E79: Totaal % leerjaar 5 periode 4: | H79: =SUM(H67:H70) -> 0.2
E80: Totaal % leerjaar 4+5: | H80: =SUM(H75:H79) -> 0.3
B82: [1] s = schriftelijk, m = mondeling, d= digitaal, pr = praktisch, p = presentatie, h = handelingsopdracht, a = anders
B83: [2] De toetsvorm van de herkansing is gelijk aan de toetsvorm van de toets die herkanst wordt. De herkansingen vinden plaats aan het einde van de lesperiode van de toets die herkanst wordt of aan het begin van de volgende lesperiode.
B84: [3] Hier wordt het percentage van het schoolexamencijfer vermeld OF aangegeven of een O/V/G (onvoldoende, voldoende, goed) beoordeling van toepassing is.
B85: [4] Naast de eindtermen wordt ook aangegeven of dit PTA onderdeel CE stof bevat
B93: =Netl!B93 -> Norbertus Programma van Toetsing en Afsluiting 2026-2027 | J93: =J47 -> natuurkunde | L93: =L1 -> Cohort 24-27
B94: vwo 6
B95: Periode | C95: PTA-code | D95: Toetsvorm [1] | E95: Toetsdoelen | F95: Toetsduur (minuten) | G95: Herkansing [2] | H95: Beoordeling [3] | J95: Eindtermen [4] | K95: Lesmateriaal | L95: Toegestane materialen bij de toets
H96: % | I96: Cijfer of OVG
B98: 1 | C98: VA4005 | D98: S | E98: (CE) Je kunt in contexten de relatie tussen kracht en bewegingsveranderingen kwalitatief en kwantitatief analyseren en verklaren met behulp van de wetten van newton. Je kunt in contexten de begrippen energiebehoud, rendement, arbeid en warmte gebruiken om energieomzettingen te beschrijven en te analyseren. Je kunt, ten minste in de context van het heelal, bewegingen analyseren en verklaren aan de hand van de gravitatiewisselwerking. Je kunt in astrofysische en andere contexten de wisselwerking tussen straling en materie beschrijven en verklaren aan de hand van de begrippen atoomspectrum, absorptie, emissie en stralingsenergie. | F98: 100 | G98: Ja | H98: 0.25 | I98: Cijfer | J98: A, C1, C2, C3, E2 (CE) | K98: (hemel)mechanica (H1, H3, H4, H6, H8, H11, H14) | L98: Rekenmachine (niet grafisch), binas
B103: 2 | C103: VA4006 | D103: PR | E103: (SE) In de les wordt bepaald wat het onderwerp is en welke doelen hierbij horen. Daarnaast moet je de praktische vaardigheden beheersen zoals grafieken tekenen, interpreteren, rekenen met meetonnauwkeurigheden en omgaan met meetapparatuur en de verschillende instrumenten die in een laboratoriumomgeving voorkomen. | F103: 100 | G103: Nee | H103: 0.2 | I103: Cijfer | J103: A t/m H (SE + CE) | K103: alle tot nu toe behandelde lesstof | L103: Rekenmachine (niet grafisch), binas
B108: 3 | D108: A | E108: Deelname aan de natuurkunde olympiade is vrijwillig. Tijdens drie rondes werk je bij de Natuurkundeolympiade aan verschillende onderwerpen. Ronde 1 is gebaseerd op de leerstof van school, waar je bij de andere rondes werk thuisgestuurd krijgt. Meedoen kan je een bonus opleveren: 1. Scorepunten ≥ 100% van landelijk gemiddelde alle deelnemers 1e ronde: + 0,1 op het SE-eindcijfer 2. Certificaat, dus bij de beste 10% deelnemers 1e ronde: + 0,2 op het SE-eindcijfer 3. Toegelaten worden tot de 2e ronde van de olympiade: + 0,4 op het SE-eindcijfer | F108: 120 | G108: Nee | J108: A t/m H (SE + CE) | K108: Het materiaal van de Olympiade vind je in jouw lesboeken en krijg je in de tweede ronde van de organisatie toegestuurd. | L108: Rekenmachine, BINAS
C109: VA4007 | D109: S | E109: (SE en CE) Je beheerst alle bij de vorige toetsen benoemde vaardigheden + Je kunt in contexten elektrische schakelingen analyseren, waarbij je ook energieomzettingen kunt analyseren. Je kunt in contexten elektromagnetische verschijnselen beschrijven, analyseren en verklaren, met behulp van elektrische en magnetische velden. Je kunt in contexten fysische eigenschappen van stoffen en materialen beschrijven en kan deze eigenschappen verklaren en analyseren aan de hand van deeltjesmodellen. Je kunt in contexten de golf-deeltjesdualiteit en de onbepaaldheidsrelatie van Heisenberg toepassen en de quantisatie van energieniveaus in enkele voorbeelden verklaren aan de hand van een eenvoudig quantumfysisch model | F109: 100 | G109: Ja | H109: 0.25 | I109: Cijfer | J109: A, B1, B2, C1, C2, C3, D1, D2, E1, E2, F1 (CE) | K109: C3, D1, D2, E1, E2, F1 (SE + CE) alle behandelde lesstof (exclusief keuzemodules kern- en deeltjesprocessen en bio-/geofysica) | L109: Rekenmachine (niet grafisch), binas
E115: Beoordeling 6e leerjaar in %
E116: Totaal % leerjaar 4+5: | H116: =H80 -> 0.3
E117: Totaal % leerjaar 6 periode 1: | H117: =SUM(H98:H101) -> 0.25
E118: Totaal % leerjaar 6 periode 2: | H118: =SUM(H103:H106) -> 0.2
E119: Totaal % leerjaar 6 periode 3: | H119: =SUM(H108:H111) -> 0.25
E120: Totaal % leerjaar 4+5+6: | H120: =SUM(H116:H119) -> 1
B122: [1] s = schriftelijk, m = mondeling, d= digitaal, pr = praktisch, p = presentatie, h = handelingsopdracht, a = anders
B123: [2] De toetsvorm van de herkansing is gelijk aan de toetsvorm van de toets die herkanst wordt. De herkansingen vinden plaats aan het einde van de lesperiode van de toets die herkanst wordt of aan het begin van de volgende lesperiode.
B124: [3] Hier wordt het percentage van het schoolexamencijfer vermeld OF aangegeven of een O/V/G (onvoldoende, voldoende, goed) beoordeling van toepassing is.
B125: [4] Naast de eindtermen wordt ook aangegeven of dit PTA onderdeel CE stof bevat

Sheet Schk
B1: =Netl!B1 -> Norbertus Programma van Toetsing en Afsluiting 2024-2025 | J1: ='Lijst van vakken'!A17 -> scheikunde | L1: =Netl!L1 -> Cohort 24-27
B2: vwo 4
B3: Periode | C3: PTA-code | D3: Toetsvorm [1] | E3: Toetsdoelen | F3: Toetsduur (minuten) | G3: Herkansing [2] | H3: Beoordeling [3] | J3: Eindtermen [4] | K3: Lesmateriaal | L3: Toegestane materialen bij de toets
H4: % | I4: Cijfer of OVG
B6: 1
B11: 2
B16: 3
B21: 4
E28: Beoordeling 4e leerjaar in %
A29: Ja | E29: Totaal % leerjaar 4 periode 1: | H29: =SUM(H6:H9) -> 0
A30: Nee | E30: Totaal % leerjaar 4 periode 2: | H30: =SUM(H11:H15) -> 0
E31: Totaal % leerjaar 4 periode 3: | H31: =SUM(H16:H19) -> 0
E32: Totaal % leerjaar 4 periode 4: | H32: =SUM(H21:H24) -> 0
A33: S | E33: Totaal % leerjaar 4: | H33: =SUM(H29:H32) -> 0
A34: M
A35: D | B35: [1] s = schriftelijk, m = mondeling, d= digitaal, pr = praktisch, p = presentatie, h = handelingsopdracht, a = anders
A36: PR | B36: [2] De toetsvorm van de herkansing is gelijk aan de toetsvorm van de toets die herkanst wordt. De herkansingen vinden plaats aan het einde van de lesperiode van de toets die herkanst wordt of aan het begin van de volgende lesperiode.
A37: P | B37: [3] Hier wordt het percentage van het schoolexamencijfer vermeld OF aangegeven of een O/V/G (onvoldoende, voldoende, goed) beoordeling van toepassing is.
A38: H | B38: [4] Naast de eindtermen wordt ook aangegeven of dit PTA onderdeel CE stof bevat
A39: A
A42: Cijfer
A43: OVG
B47: =Netl!B47 -> Norbertus Programma van Toetsing en Afsluiting 2025-2026 | J47: =J1 -> scheikunde | L47: =L1 -> Cohort 24-27
B48: vwo 5
B49: Periode | C49: PTA-code | D49: Toetsvorm [1] | E49: Toetsdoelen | F49: Toetsduur (minuten) | G49: Herkansing [2] | H49: Beoordeling [3] | J49: Eindtermen [4] | K49: Lesmateriaal | L49: Toegestane materialen bij de toets
H50: % | I50: Cijfer of OVG
B52: 1
B57: 2
B62: 3
C64: VA4301 | D64: S | E64: Je kunt chemische berekeningen maken, bindingstypen herkennen en benoemen, organische structuren tekenen en namen aan toekennen, met zouten beredeneringen en berekeningen maken, reactiewarmtes en reactiesnelheden berekenen, evenwichtsreacties noteren en mee redeneren, zuur base reacties opstellen en berekeningen mee maken, ruimtelijke structuren benoemen en redoxreacties opstellen en afleiden | F64: 100 | G64: Ja | H64: 0.1 | I64: Cijfer | J64: M1.1-18, 2.3, 3.1-11, 4.1-2 R&A 1.1 t/m 1.6, A8.3, R1.1-11,2.1, 4.2-3,T2.1-2, 3.1,3.2,4.2,5,6.5 | K64: NOVA MAX V5 Deel A (Hoofdstuk 7 t/m 9) als voorkennis NOVA MAX V4 Deel A en B | L64: Wetenschappelijke rekenmachine + BINAS (verstrekt door school)
B67: 4
C70: VA4302 | D70: PR | E70: Je kunt op basis van waarnemingen bij reacties aangeven of het om neerslag, evenwichts, zuur-base of redoxreacties gaat. Daarnaast kun je ook binnen deze contexten vraagstukken beantwoorden en rekenen | F70: 100 | G70: Nee | H70: 0.1 | I70: Cijfer | J70: M1.1-18, 2.3, 3.1-11, 4.1-2 R&A 1.1 t/m 1.6, A, R1.1-11,2.1, 4.2-3,T2.1-2, 3.1,3.2,4.2,5,6.5 | K70: NOVA MAX V5 Deel A (Hoofdstuk 7 t/m 9) als voorkennis NOVA MAX V4 Deel A en B | L70: Wetenschappelijke rekenmachine + BINAS (verstrekt door school)
E74: Beoordeling 5e leerjaar in %
E75: Totaal % leerjaar 4 | H75: =$H$33 -> 0
E76: Totaal % leerjaar 5 periode 1: | H76: =SUM(H52:H55) -> 0
E77: Totaal % leerjaar 5 periode 2: | H77: =SUM(H57:H61) -> 0
E78: Totaal % leerjaar 5 periode 3: | H78: =SUM(H62:H65) -> 0.1
E79: Totaal % leerjaar 5 periode 4: | H79: =SUM(H67:H70) -> 0.1
E80: Totaal % leerjaar 4+5: | H80: =SUM(H76:H79) -> 0.2
B82: [1] s = schriftelijk, m = mondeling, d= digitaal, pr = praktisch, p = presentatie, h = handelingsopdracht, a = anders
B83: [2] De toetsvorm van de herkansing is gelijk aan de toetsvorm van de toets die herkanst wordt. De herkansingen vinden plaats aan het einde van de lesperiode van de toets die herkanst wordt of aan het begin van de volgende lesperiode.
B84: [3] Hier wordt het percentage van het schoolexamencijfer vermeld OF aangegeven of een O/V/G (onvoldoende, voldoende, goed) beoordeling van toepassing is.
B85: [4] Naast de eindtermen wordt ook aangegeven of dit PTA onderdeel CE stof bevat
B93: =Netl!B93 -> Norbertus Programma van Toetsing en Afsluiting 2026-2027 | J93: =J47 -> scheikunde | L93: =L1 -> Cohort 24-27
B94: vwo 6
B95: Periode | C95: PTA-code | D95: Toetsvorm [1] | E95: Toetsdoelen | F95: Toetsduur (minuten) | G95: Herkansing [2] | H95: Beoordeling [3] | J95: Eindtermen [4] | K95: Lesmateriaal | L95: Toegestane materialen bij de toets
H96: % | I96: Cijfer of OVG
B98: 1 | C98: VA4303 | D98: PR | E98: Je kunt een titratie uitvoeren en op basis van de waarnemingen en verkregen gegevens berekeningen en beredeneringen maken | F98: 100 | G98: Nee | H98: 0.1 | I98: Cijfer | J98: M1.1-18, 2.3, 3.1-11, 4.1-2,5.1,6.1 R&A 1.1 t/m 1.6,2.1-4. A, R1.1-11,2.1-5, 4.2-3,T2.1-2, 3.1,3.2,4.2,5,6.5 | K98: NOVA MAX VWO 4 (Hfd. 1) + NOVA MAX VWO 6 (Hfd. 13) | L98: Wetenschappelijke rekenmachine + BINAS (verstrekt door school)
C101: VA4304 | D101: S | E101: Zie VA4301 + organische structuren tekenen en aangeven hoe elektronen(paren) verplaatsen binnen een reactiemechanisme en dit tekenen | F101: 100 | G101: Ja | H101: 0.2 | I101: Cijfer | J101: M1.1-16, 2,4,5,6,7, 3.1-9, R&A 1.1 t/m 1.4, 2,3.1,7, R1.1-3,1.7-11, 2.1, 2.2,4,5.1-5.5,11, T2.1-2, 2.2,3.1, 3.2,4.1-3, C4, D, E3 | K101: NOVA MAX VWO 4 (deel A en B) + NOVA MAX VWO 5 (deel A en B) | L101: Wetenschappelijke rekenmachine + BINAS (verstrekt door school)
B103: 2
C106: VA4305 | D106: S | E106: Zie VA4304 + soorten polymeerstructuren herkennen en tekenen en chemische analysemethodes herkennen, mee rekenenen en aangeven welke methode geschikt is binnen een context | F106: 100 | G106: Ja | H106: 0.2 | I106: Cijfer | J106: M1.1-16, 2,4,5,6,7, 3.1-9, R&A 1.1 t/m 1.4, 2,3.1,7, R1.1-3,1.7-11, 2.1, 2.2,4,5.1-5.5,11, T2.1-2, 2.2,3.1, 3.2,4.1-3, C4, D, E3 | K106: NOVA MAX VWO 4 (deel A en B) + NOVA MAX VWO 5 (deel A en B) + NOVA MAX VWO 6 (Deel A) | L106: Wetenschappelijke rekenmachine + BINAS (verstrekt door school)
B108: 3 | D108: A | E108: Leerlingen die deelnemen aan olympiade kunnen op drie manieren bonuspunten scoren: 1. Scorepunten ≥ 75% van landelijk gemiddelde alle deelnemers 1e ronde: + 0,1 op het SE-eindcijfer 2. Certificaat, dus bij de beste 10% deelnemers 1e ronde: + 0,2 op het SE-eindcijfer 3. Toegelaten worden tot de 2e ronde van de olympiade: + 0,4 op het SE-eindcijfer. Let op beste deelname telt; scorepunten zijn niet stapelbaar | F108: 120 | G108: Nee | J108: A1-13, M1-7, R1-5. R&A1-3, T1-4, L1 | K108: Olympiade materiaal van eerdere schooljaren | L108: BINAS en Grafische rekenmachine
C111: VA4306 | D111: S | E111: Zie VA4305 + biologische moleculen herkennen en tekenen (vetten, koolhydraten, eiwitten, RNA/DNA) en chemische processen weergeven in blokschema's en beoordelen of processen groen zijn | F111: 100 | G111: Ja | H111: 0.3 | I111: Cijfer | J111: M1-6, R1-5, R&A 1-3, T1-6, L1-2 | K111: NOVA MAX VWO 4 (deel A en B) + NOVA MAX VWO 5 (deel A en B) + NOVA MAX VWO 6 (Deel A en B) | L111: Wetenschappelijke rekenmachine + BINAS (verstrekt door school)
E115: Beoordeling 6e leerjaar in %
E116: Totaal % leerjaar 4+5: | H116: =H80 -> 0.2
E117: Totaal % leerjaar 6 periode 1: | H117: =SUM(H98:H101) -> 0.3
E118: Totaal % leerjaar 6 periode 2: | H118: =SUM(H103:H106) -> 0.2
E119: Totaal % leerjaar 6 periode 3: | H119: =SUM(H108:H111) -> 0.3
E120: Totaal % leerjaar 4+5+6: | H120: =SUM(H116:H119) -> 1
B122: [1] s = schriftelijk, m = mondeling, d= digitaal, pr = praktisch, p = presentatie, h = handelingsopdracht, a = anders
B123: [2] De toetsvorm van de herkansing is gelijk aan de toetsvorm van de toets die herkanst wordt. De herkansingen vinden plaats aan het einde van de lesperiode van de toets die herkanst wordt of aan het begin van de volgende lesperiode.
B124: [3] Hier wordt het percentage van het schoolexamencijfer vermeld OF aangegeven of een O/V/G (onvoldoende, voldoende, goed) beoordeling van toepassing is.
B125: [4] Naast de eindtermen wordt ook aangegeven of dit PTA onderdeel CE stof bevat

Sheet Biol
B1: =Netl!B1 -> Norbertus Programma van Toetsing en Afsluiting 2024-2025 | J1: ='Lijst van vakken'!A18 -> biologie | L1: =Netl!L1 -> Cohort 24-27
B2: vwo 4
B3: Periode | C3: PTA-code | D3: Toetsvorm [1] | E3: Toetsdoelen | F3: Toetsduur (minuten) | G3: Herkansing [2] | H3: Beoordeling [3] | J3: Eindtermen [4] | K3: Lesmateriaal | L3: Toegestane materialen bij de toets
H4: % | I4: Cijfer of OVG
B6: 1
B11: 2
B16: 3
B21: 4
E28: Beoordeling 4e leerjaar in %
A29: Ja | E29: Totaal % leerjaar 4 periode 1: | H29: =SUM(H6:H9) -> 0
A30: Nee | E30: Totaal % leerjaar 4 periode 2: | H30: =SUM(H11:H15) -> 0
E31: Totaal % leerjaar 4 periode 3: | H31: =SUM(H16:H19) -> 0
E32: Totaal % leerjaar 4 periode 4: | H32: =SUM(H21:H24) -> 0
A33: S | E33: Totaal % leerjaar 4: | H33: =SUM(H29:H32) -> 0
A34: M
A35: D | B35: [1] s = schriftelijk, m = mondeling, d= digitaal, pr = praktisch, p = presentatie, h = handelingsopdracht, a = anders
A36: PR | B36: [2] De toetsvorm van de herkansing is gelijk aan de toetsvorm van de toets die herkanst wordt. De herkansingen vinden plaats aan het einde van de lesperiode van de toets die herkanst wordt of aan het begin van de volgende lesperiode.
A37: P | B37: [3] Hier wordt het percentage van het schoolexamencijfer vermeld OF aangegeven of een O/V/G (onvoldoende, voldoende, goed) beoordeling van toepassing is.
A38: H | B38: [4] Naast de eindtermen wordt ook aangegeven of dit PTA onderdeel CE stof bevat
A39: A
A42: Cijfer
A43: OVG
B47: =Netl!B47 -> Norbertus Programma van Toetsing en Afsluiting 2025-2026 | J47: =J1 -> biologie | L47: =L1 -> Cohort 24-27
B48: vwo 5
B49: Periode | C49: PTA-code | D49: Toetsvorm [1] | E49: Toetsdoelen | F49: Toetsduur (minuten) | G49: Herkansing [2] | H49: Beoordeling [3] | J49: Eindtermen [4] | K49: Lesmateriaal | L49: Toegestane materialen bij de toets
H50: % | I50: Cijfer of OVG
B52: 1
B57: 2
B62: 3
B67: 4
E74: Beoordeling 5e leerjaar in %
E75: Totaal % leerjaar 4 | H75: =$H$33 -> 0
E76: Totaal % leerjaar 5 periode 1: | H76: =SUM(H52:H55) -> 0
E77: Totaal % leerjaar 5 periode 2: | H77: =SUM(H57:H61) -> 0
E78: Totaal % leerjaar 5 periode 3: | H78: =SUM(H62:H65) -> 0
E79: Totaal % leerjaar 5 periode 4: | H79: =SUM(H67:H70) -> 0
E80: Totaal % leerjaar 4+5: | H80: =SUM(H76:H79) -> 0
B82: [1] s = schriftelijk, m = mondeling, d= digitaal, pr = praktisch, p = presentatie, h = handelingsopdracht, a = anders
B83: [2] De toetsvorm van de herkansing is gelijk aan de toetsvorm van de toets die herkanst wordt. De herkansingen vinden plaats aan het einde van de lesperiode van de toets die herkanst wordt of aan het begin van de volgende lesperiode.
B84: [3] Hier wordt het percentage van het schoolexamencijfer vermeld OF aangegeven of een O/V/G (onvoldoende, voldoende, goed) beoordeling van toepassing is.
B85: [4] Naast de eindtermen wordt ook aangegeven of dit PTA onderdeel CE stof bevat
B93: =Netl!B93 -> Norbertus Programma van Toetsing en Afsluiting 2026-2027 | J93: =J47 -> biologie | L93: =L1 -> Cohort 24-27
B94: vwo 6
B95: Periode | C95: PTA-code | D95: Toetsvorm [1] | E95: Toetsdoelen | F95: Toetsduur (minuten) | G95: Herkansing [2] | H95: Beoordeling [3] | J95: Eindtermen [4] | K95: Lesmateriaal | L95: Toegestane materialen bij de toets
H96: % | I96: Cijfer of OVG
B98: 1 | C98: VA5201 | D98: S | E98: Je kent de cel en zijn organellen met bijbehorende functies. Je weet wat osmose inhoudt en kent bij dit proces de bijbehorende begrippen. Je kunt verschillende kruisingen uitwerken zoals autosomaal, X-chromomaal etc. Je kunt soortverandering uitleggen met begrippen zoals genetische variatie, natuurlijke selectie en weet daarnaast meerdere 'bewijzen' voor evolutie te overleggen. Je kunt daarnaast rekenen met Hardy en Weinberg opdrachten. Je kent de structuur van DNA en weet hoe genexpressie in totaliteit in zijn werk gaat. Daarnaast ken je de technieken die in laboratoria gebruikt worden die betrekking hebben op DNA zoals gelelektroforese, PCR en sequencing. Verder ken je ook voorbeelden van genetische modificatie en hoe dit in zijn werk gaat. Uiteraard wordt er in de lessen verduidelijkt wat er precies geleerd moet worden van de opgegeven hoofdstukken. | F98: 100 | G98: Ja | H98: 0.2 | I98: Cijfer | J98: A, B1, B2, B5, C1, C2, D1, D2, D4, E1, E2, F1, F2, F3, F4 | K98: Toets H1 t/m H17 met de nadruk op H2 (cel en leven, H5 (erfelijkheid), H7 (evolutie, H16 (afweer) en H17 (DNA) | L98: Gewone rekenmachine en Binas 7e editie. Geodriehoek.
C99: VA5202 | D99: S | E99: Je kunt volgens de wetenschappelijke methode een practicum opzetten, uitvoeren en verwerken. Hiervoor worden twee practica gegeven die bestaan uit een praktisch deel en een verwerkingsdeel. | F99: nvt | G99: Nee | H99: 0.13 | I99: Cijfer | J99: A | K99: Hoofdstuk 3: onderzoek doen en prakticumvoorschrift | L99: Gewone rekenmachine en Binas 7e editie. Geodriehoek.
B103: 2 | C103: VA5203 | D103: S | E103: Je kent de begrippen die passen bij de ecologie en kunt hiermee werken. Je weet dus wat biotische en abiotische factoren inhouden. Je kent de binaire naamgeving. Je kunt ecologische processen en situaties herkennen en verklaren. Denk hierbij aan kringlopen, (voedsel)relaties, biodiversiteit en duurzaamheid. Je kent de werking van de spieren en kunt werken met alle processen van de (aerobe) dissimilatie. Daarnaast kun je ook werken met alle begrippen die horen bij de fotosynthese reactie. Je kent de anatomie van planten en de bijbehorende functionele redenen en kunt uitleggen hoe er moleculen in planten getransporteerd worden. Uiteraard wordt er in de lessen verduidelijkt wat er precies geleerd moet worden van de opgegeven hoofdstukken. | F103: 100 | G103: Ja | H103: 0.25 | I103: Cijfer | J103: A, B2, B3, B6, B8, C3, D5, F2 | K103: Toets H1 t/m H20 met de nadruk op H6 (soorten en populaties), H8 (kenmerken van een ecosysteem), H9 (systeem aarde en de mens), H19 (sport) en H20 (planten) | L103: Gewone rekenmachine en Binas 7e editie. Geodriehoek.
C104: VA5204 | D104: PR | E104: Je kunt volgens de wetenschappelijke methode een practicum opzetten, uitvoeren en verwerken. Hiervoor worden twee practica gegeven die bestaan uit een praktisch deel en een verwerkingsdeel. | G104: Nee | H104: 0.12 | I104: Cijfer | J104: A | K104: Hoofdstuk 3: onderzoek doen en prakticumvoorschrift | L104: Gewone rekenmachine en Binas 7e editie. Geodriehoek.
B108: 3 | C108: VA5205 | D108: S | E108: Je kent de volledige examenleerstof en de bijbehorende begrippen. Je kent de biologische definities en begrippen en kunt deze verwerken en toepassen in (on)bekende contexten. | F108: 100 | G108: Ja | H108: 0.3 | I108: Cijfer | J108: A1 t/m F4. (Exclusief E1, E2, B6, B7, C2, D3, D4, F3, F4) | K108: Toets H1 t/m 20. Volledige examenstof. | L108: Gewone rekenmachine en Binas 7e editie. Geodriehoek.
E115: Beoordeling 6e leerjaar in %
E116: Totaal % leerjaar 4+5: | H116: =H80 -> 0
E117: Totaal % leerjaar 6 periode 1: | H117: =SUM(H98:H101) -> 0.33
E118: Totaal % leerjaar 6 periode 2: | H118: =SUM(H103:H106) -> 0.37
E119: Totaal % leerjaar 6 periode 3: | H119: =SUM(H108:H111) -> 0.3
E120: Totaal % leerjaar 4+5+6: | H120: =SUM(H116:H119) -> 1
B122: [1] s = schriftelijk, m = mondeling, d= digitaal, pr = praktisch, p = presentatie, h = handelingsopdracht, a = anders
B123: [2] De toetsvorm van de herkansing is gelijk aan de toetsvorm van de toets die herkanst wordt. De herkansingen vinden plaats aan het einde van de lesperiode van de toets die herkanst wordt of aan het begin van de volgende lesperiode.
B124: [3] Hier wordt het percentage van het schoolexamencijfer vermeld OF aangegeven of een O/V/G (onvoldoende, voldoende, goed) beoordeling van toepassing is.
B125: [4] Naast de eindtermen wordt ook aangegeven of dit PTA onderdeel CE stof bevat

Sheet Econ
B1: =Netl!B1 -> Norbertus Programma van Toetsing en Afsluiting 2024-2025 | J1: ='Lijst van vakken'!A19 -> economie | L1: =Netl!L1 -> Cohort 24-27
B2: vwo 4
B3: Periode | C3: PTA-code | D3: Toetsvorm [1] | E3: Toetsdoelen | F3: Toetsduur (minuten) | G3: Herkansing [2] | H3: Beoordeling [3] | J3: Eindtermen [4] | K3: Lesmateriaal | L3: Toegestane materialen bij de toets
H4: % | I4: Cijfer of OVG
B6: 1
B11: 2
B16: 3
B21: 4
E28: Beoordeling 4e leerjaar in %
A29: Ja | E29: Totaal % leerjaar 4 periode 1: | H29: =SUM(H6:H9) -> 0
A30: Nee | E30: Totaal % leerjaar 4 periode 2: | H30: =SUM(H11:H15) -> 0
E31: Totaal % leerjaar 4 periode 3: | H31: =SUM(H16:H19) -> 0
E32: Totaal % leerjaar 4 periode 4: | H32: =SUM(H21:H24) -> 0
A33: S | E33: Totaal % leerjaar 4: | H33: =SUM(H29:H32) -> 0
A34: M
A35: D | B35: [1] s = schriftelijk, m = mondeling, d= digitaal, pr = praktisch, p = presentatie, h = handelingsopdracht, a = anders
A36: PR | B36: [2] De toetsvorm van de herkansing is gelijk aan de toetsvorm van de toets die herkanst wordt. De herkansingen vinden plaats aan het einde van de lesperiode van de toets die herkanst wordt of aan het begin van de volgende lesperiode.
A37: P | B37: [3] Hier wordt het percentage van het schoolexamencijfer vermeld OF aangegeven of een O/V/G (onvoldoende, voldoende, goed) beoordeling van toepassing is.
A38: H | B38: [4] Naast de eindtermen wordt ook aangegeven of dit PTA onderdeel CE stof bevat
A39: A
A42: Cijfer
A43: OVG
B47: =Netl!B47 -> Norbertus Programma van Toetsing en Afsluiting 2025-2026 | J47: =J1 -> economie | L47: =L1 -> Cohort 24-27
B48: vwo 5
B49: Periode | C49: PTA-code | D49: Toetsvorm [1] | E49: Toetsdoelen | F49: Toetsduur (minuten) | G49: Herkansing [2] | H49: Beoordeling [3] | J49: Eindtermen [4] | K49: Lesmateriaal | L49: Toegestane materialen bij de toets
H50: % | I50: Cijfer of OVG
B52: 1
B57: 2
B62: 3
B67: 4
E74: Beoordeling 5e leerjaar in %
E75: Totaal % leerjaar 4 | H75: =$H$33 -> 0
E76: Totaal % leerjaar 5 periode 1: | H76: =SUM(H52:H55) -> 0
E77: Totaal % leerjaar 5 periode 2: | H77: =SUM(H57:H61) -> 0
E78: Totaal % leerjaar 5 periode 3: | H78: =SUM(H62:H65) -> 0
E79: Totaal % leerjaar 5 periode 4: | H79: =SUM(H67:H70) -> 0
E80: Totaal % leerjaar 4+5: | H80: =SUM(H76:H79) -> 0
B82: [1] s = schriftelijk, m = mondeling, d= digitaal, pr = praktisch, p = presentatie, h = handelingsopdracht, a = anders
B83: [2] De toetsvorm van de herkansing is gelijk aan de toetsvorm van de toets die herkanst wordt. De herkansingen vinden plaats aan het einde van de lesperiode van de toets die herkanst wordt of aan het begin van de volgende lesperiode.
B84: [3] Hier wordt het percentage van het schoolexamencijfer vermeld OF aangegeven of een O/V/G (onvoldoende, voldoende, goed) beoordeling van toepassing is.
B85: [4] Naast de eindtermen wordt ook aangegeven of dit PTA onderdeel CE stof bevat
B93: =Netl!B93 -> Norbertus Programma van Toetsing en Afsluiting 2026-2027 | J93: =J47 -> economie | L93: =L1 -> Cohort 24-27
B94: vwo 6
B95: Periode | C95: PTA-code | D95: Toetsvorm [1] | E95: Toetsdoelen | F95: Toetsduur (minuten) | G95: Herkansing [2] | H95: Beoordeling [3] | J95: Eindtermen [4] | K95: Lesmateriaal | L95: Toegestane materialen bij de toets
H96: % | I96: Cijfer of OVG
B98: 1
B103: 2
B108: 3
E115: Beoordeling 6e leerjaar in %
E116: Totaal % leerjaar 4+5: | H116: =H80 -> 0
E117: Totaal % leerjaar 6 periode 1: | H117: =SUM(H98:H101) -> 0
E118: Totaal % leerjaar 6 periode 2: | H118: =SUM(H103:H106) -> 0
E119: Totaal % leerjaar 6 periode 3: | H119: =SUM(H108:H111) -> 0
E120: Totaal % leerjaar 4+5+6: | H120: =SUM(H116:H119) -> 0
B122: [1] s = schriftelijk, m = mondeling, d= digitaal, pr = praktisch, p = presentatie, h = handelingsopdracht, a = anders
B123: [2] De toetsvorm van de herkansing is gelijk aan de toetsvorm van de toets die herkanst wordt. De herkansingen vinden plaats aan het einde van de lesperiode van de toets die herkanst wordt of aan het begin van de volgende lesperiode.
B124: [3] Hier wordt het percentage van het schoolexamencijfer vermeld OF aangegeven of een O/V/G (onvoldoende, voldoende, goed) beoordeling van toepassing is.
B125: [4] Naast de eindtermen wordt ook aangegeven of dit PTA onderdeel CE stof bevat

Sheet Beco
B1: =Netl!B1 -> Norbertus Programma van Toetsing en Afsluiting 2024-2025 | J1: ='Lijst van vakken'!A20 -> bedrijfseconomie | L1: =Netl!L1 -> Cohort 24-27
B2: vwo 4
B3: Periode | C3: PTA-code | D3: Toetsvorm [1] | E3: Toetsdoelen | F3: Toetsduur (minuten) | G3: Herkansing [2] | H3: Beoordeling [3] | J3: Eindtermen [4] | K3: Lesmateriaal | L3: Toegestane materialen bij de toets
H4: % | I4: Cijfer of OVG
B6: 1
B11: 2
B16: 3
B21: 4
E28: Beoordeling 4e leerjaar in %
A29: Ja | E29: Totaal % leerjaar 4 periode 1: | H29: =SUM(H6:H9) -> 0
A30: Nee | E30: Totaal % leerjaar 4 periode 2: | H30: =SUM(H11:H15) -> 0
E31: Totaal % leerjaar 4 periode 3: | H31: =SUM(H16:H19) -> 0
E32: Totaal % leerjaar 4 periode 4: | H32: =SUM(H21:H24) -> 0
A33: S | E33: Totaal % leerjaar 4: | H33: =SUM(H29:H32) -> 0
A34: M
A35: D | B35: [1] s = schriftelijk, m = mondeling, d= digitaal, pr = praktisch, p = presentatie, h = handelingsopdracht, a = anders
A36: PR | B36: [2] De toetsvorm van de herkansing is gelijk aan de toetsvorm van de toets die herkanst wordt. De herkansingen vinden plaats aan het einde van de lesperiode van de toets die herkanst wordt of aan het begin van de volgende lesperiode.
A37: P | B37: [3] Hier wordt het percentage van het schoolexamencijfer vermeld OF aangegeven of een O/V/G (onvoldoende, voldoende, goed) beoordeling van toepassing is.
A38: H | B38: [4] Naast de eindtermen wordt ook aangegeven of dit PTA onderdeel CE stof bevat
A39: A
A42: Cijfer
A43: OVG
B47: =Netl!B47 -> Norbertus Programma van Toetsing en Afsluiting 2025-2026 | J47: =J1 -> bedrijfseconomie | L47: =L1 -> Cohort 24-27
B48: vwo 5
B49: Periode | C49: PTA-code | D49: Toetsvorm [1] | E49: Toetsdoelen | F49: Toetsduur (minuten) | G49: Herkansing [2] | H49: Beoordeling [3] | J49: Eindtermen [4] | K49: Lesmateriaal | L49: Toegestane materialen bij de toets
H50: % | I50: Cijfer of OVG
B52: 1
B57: 2
B62: 3
B67: 4
E74: Beoordeling 5e leerjaar in %
E75: Totaal % leerjaar 4 | H75: =$H$33 -> 0
E76: Totaal % leerjaar 5 periode 1: | H76: =SUM(H52:H55) -> 0
E77: Totaal % leerjaar 5 periode 2: | H77: =SUM(H57:H61) -> 0
E78: Totaal % leerjaar 5 periode 3: | H78: =SUM(H62:H65) -> 0
E79: Totaal % leerjaar 5 periode 4: | H79: =SUM(H67:H70) -> 0
E80: Totaal % leerjaar 4+5: | H80: =SUM(H76:H79) -> 0
B82: [1] s = schriftelijk, m = mondeling, d= digitaal, pr = praktisch, p = presentatie, h = handelingsopdracht, a = anders
B83: [2] De toetsvorm van de herkansing is gelijk aan de toetsvorm van de toets die herkanst wordt. De herkansingen vinden plaats aan het einde van de lesperiode van de toets die herkanst wordt of aan het begin van de volgende lesperiode.
B84: [3] Hier wordt het percentage van het schoolexamencijfer vermeld OF aangegeven of een O/V/G (onvoldoende, voldoende, goed) beoordeling van toepassing is.
B85: [4] Naast de eindtermen wordt ook aangegeven of dit PTA onderdeel CE stof bevat
B93: =Netl!B93 -> Norbertus Programma van Toetsing en Afsluiting 2026-2027 | J93: =J47 -> bedrijfseconomie | L93: =L1 -> Cohort 24-27
B94: vwo 6
B95: Periode | C95: PTA-code | D95: Toetsvorm [1] | E95: Toetsdoelen | F95: Toetsduur (minuten) | G95: Herkansing [2] | H95: Beoordeling [3] | J95: Eindtermen [4] | K95: Lesmateriaal | L95: Toegestane materialen bij de toets
H96: % | I96: Cijfer of OVG
B98: 1 | C98: VA6501 | D98: S | E98: CE: De kandidaat kan (maatschappelijke) vraagstukken met persoonlijke financiële consequenties herkennen en financieel onderbouwde keuzes maken. Hij kan kenmerken van verschillende rechtsvormen beschrijven en, in het bijzonder, het proces voor en rond de oprichting van een eenmanszaak beschrijven en de rol van de ondernemer beoordelen. De kandidaat kan uitleggen wat marketing inhoudt, kan marketingdoelstellingen opstellen en kan uitleggen op welke wijze deze doelen gerealiseerd kunnen worden en op welke wijze marketing uitwerkt op de consument en de maatschappij. De kandidaat kan vanuit het perspectief van een organisatie de werking van de vermogensmarkt beschrijven. | F98: 100 | G98: Ja | H98: 0.35 | I98: Cijfer | J98: B1 (CE), B2 (CE), B3 (CE), B4 (CE), D2 (CE), E1 (SE), E2 (CE), E3 (SE) | K98: Werkboek + online Cumulus. Thema geldzaken + ondernemerschap. | L98: Gewone rekenmachine en woordenboek
B103: 2 | C103: VA6502 | D103: S | E103: CE: De kandidaat kan het proces voor en rond de oprichting van een eenmanszaak beschrijven, in de rol van ondernemer toepassen en analyseren. De kandidaat kan de interne organisatie van een organisatie beschrijven en deze relateren aan de doelstelling en aard van de organisatie. Hij kan personeelsbeleid beschrijven en daarbij de relatie leggen met de doelstelling en de aard van de organisatie.Hij kan vanuit het perspectief van een organisatie de werking van de vermogensmarkt uitleggen. De kandidaat kan in de context van een financieringsvraagstuk de redenen voor het aantrekken van verschillende types vermogen noemen en uitleggen welke risico’s financiering met vreemd vermogen met zich meebrengen. De kandidaat kan financiële feiten inventariseren en verwerken tot financiële overzichten. SE: De kandidaat kan bij een investeringsvraagstuk noemen welke gegevens relevant zijn, uitleggen of een investering economisch zinvol is en hierbij verschillende investeringsselectiemethoden analyseren en beoordelen. | F103: 100 | G103: Ja | H103: 0.3 | I103: Cijfer | J103: B2 (CE), C1 (SE), C2 (CE), D1 (SE), D2 (CE), F1 (CE) | K103: Werkboek + online Cumulus. Thema de eenmanszaak + de besloten venootschap t/m 4.3 | L103: Gewone rekenmachine en woordenboek
B108: 3 | C108: VA6503 | D108: S | E108: CE: De kandidaat kan de rol en plaats van de organisatie in de maatschappij beschrijven.De kandidaat kan vanuit het perspectief van een organisatie de werking van de vermogensmarkt beschrijven. De kandidaat kan financiële feiten inventariseren en financiële overzichten opstellen. Hij kan financiële en niet-financiële informatie analyseren en het belang van beide uitleggen voor het besturen van de organisatie. Hij kan voor een handelsonderneming of dienstenonderneming de verschillende kostensoorten noemen, de winst berekenen en de verschillen analyseren.De kandidaat kan een eenvoudige jaarrekening van een organisatie analyseren. | F108: 100 | G108: Ja | H108: 0.35 | I108: Cijfer | J108: B4 (CE), D2 (CE), F1 (CE), F2 (CE), G (CE) | K108: Werkboek + online Cumulus. Thema de besloten vennootschap 4.4 en 4.5 + Thema de naamloze vennootschap | L108: Gewone rekenmachine en woordenboek
E115: Beoordeling 6e leerjaar in %
E116: Totaal % leerjaar 4+5: | H116: =H80 -> 0
E117: Totaal % leerjaar 6 periode 1: | H117: =SUM(H98:H101) -> 0.35
E118: Totaal % leerjaar 6 periode 2: | H118: =SUM(H103:H106) -> 0.3
E119: Totaal % leerjaar 6 periode 3: | H119: =SUM(H108:H111) -> 0.35
E120: Totaal % leerjaar 4+5+6: | H120: =SUM(H116:H119) -> 1
B122: [1] s = schriftelijk, m = mondeling, d= digitaal, pr = praktisch, p = presentatie, h = handelingsopdracht, a = anders
B123: [2] De toetsvorm van de herkansing is gelijk aan de toetsvorm van de toets die herkanst wordt. De herkansingen vinden plaats aan het einde van de lesperiode van de toets die herkanst wordt of aan het begin van de volgende lesperiode.
B124: [3] Hier wordt het percentage van het schoolexamencijfer vermeld OF aangegeven of een O/V/G (onvoldoende, voldoende, goed) beoordeling van toepassing is.
B125: [4] Naast de eindtermen wordt ook aangegeven of dit PTA onderdeel CE stof bevat

Sheet CKV
B1: =Netl!B1 -> Norbertus Programma van Toetsing en Afsluiting 2024-2025 | J1: ='Lijst van vakken'!A21 -> culturele en kunstzinnige vorming | L1: =Netl!L1 -> Cohort 24-27
B2: vwo 4
B3: Periode | C3: PTA-code | D3: Toetsvorm [1] | E3: Toetsdoelen | F3: Toetsduur (minuten) | G3: Herkansing [2] | H3: Beoordeling [3] | J3: Eindtermen [4] | K3: Lesmateriaal | L3: Toegestane materialen bij de toets
H4: % | I4: Cijfer of OVG
B6: 1 | C6: VA7001 | D6: S | E6: Cultureel Zelfportret I: oriëntatie op het vak CKV - Verkennen. Je kunt hierna reflecteren op welke ervaring je al hebt m.b.t. kunst en cultuur en toelichten hoe je tegen verschillende kunstdisciplines aankijkt. | G6: Nee | H6: 0.1 | I6: Cijfer | J6: A1, A2 | K6: Geen methode; voor zover relevant wordt materiaal in classroom klaargezet. | L6: Geen
B11: 2 | C11: VA7002 | D11: PR | E11: Cult. Act. I - werken aan 1 van in totaal 4 kunstdisciplines - verbreden. Je hebt na deze module een diepgaander inzicht in de aard en het karakter van deze kunstdiscipline en in welke mate je er zelf affiniteit mee hebt. | G11: Nee | H11: 0.16 | I11: Cijfer | J11: B4, C5 | K11: Geen methode; voor zover relevant wordt materiaal in classroom klaargezet. | L11: Geen
B16: 3 | C16: VA7003 | D16: PR | E16: Cult. Act. II - werken aan 1 van in totaal 4 kunstdisciplines - verbreden. Je hebt na deze module een diepgaander inzicht in de aard en het karakter van deze kunstdiscipline en in welke mate je er zelf affiniteit mee hebt. | G16: Nee | H16: 0.16 | I16: Cijfer | J16: B3, B4, C5 | K16: Geen methode; voor zover relevant wordt materiaal in classroom klaargezet. | L16: Geen
B21: 4 | C21: VA7004 | D21: PR | E21: Cult. Act. III - werken aan 1 van in totaal 4 kunstdisciplines - verbreden. Je hebt na deze module een diepgaander inzicht in de aard en het karakter van deze kunstdiscipline en in welke mate je er zelf affiniteit mee hebt. | G21: Nee | H21: 0.16 | I21: Cijfer | J21: B4, C5 | K21: Geen methode; voor zover relevant wordt materiaal in classroom klaargezet. | L21: Geen
C22: VA7005 | D22: S | E22: Cultureel Zelfportret II: Verbinden - Je kunt hierna zelf reflecteren op het 1e jaar CKV en dit presenteren in een compleet en afgerond, digitaal portfolio --> in de vorm van een powerpoint. | G22: Nee | H22: 0.05 | I22: Cijfer | J22: D9, D10, D11 | K22: Geen methode; voor zover relevant wordt materiaal in classroom klaargezet. | L22: Geen
E28: Beoordeling 4e leerjaar in %
A29: Ja | E29: Totaal % leerjaar 4 periode 1: | H29: =SUM(H6:H9) -> 0.1
A30: Nee | E30: Totaal % leerjaar 4 periode 2: | H30: =SUM(H11:H15) -> 0.16
E31: Totaal % leerjaar 4 periode 3: | H31: =SUM(H16:H19) -> 0.16
E32: Totaal % leerjaar 4 periode 4: | H32: =SUM(H21:H24) -> 0.21
A33: S | E33: Totaal % leerjaar 4: | H33: =SUM(H29:H32) -> 0.63
A34: M
A35: D | B35: [1] s = schriftelijk, m = mondeling, d= digitaal, pr = praktisch, p = presentatie, h = handelingsopdracht, a = anders
A36: PR | B36: [2] De toetsvorm van de herkansing is gelijk aan de toetsvorm van de toets die herkanst wordt. De herkansingen vinden plaats aan het einde van de lesperiode van de toets die herkanst wordt of aan het begin van de volgende lesperiode.
A37: P | B37: [3] Hier wordt het percentage van het schoolexamencijfer vermeld OF aangegeven of een O/V/G (onvoldoende, voldoende, goed) beoordeling van toepassing is.
A38: H | B38: [4] Naast de eindtermen wordt ook aangegeven of dit PTA onderdeel CE stof bevat
A39: A
A42: Cijfer
A43: OVG
B47: =Netl!B47 -> Norbertus Programma van Toetsing en Afsluiting 2025-2026 | J47: =J1 -> culturele en kunstzinnige vorming | L47: =L1 -> Cohort 24-27
B48: vwo 5
B49: Periode | C49: PTA-code | D49: Toetsvorm [1] | E49: Toetsdoelen | F49: Toetsduur (minuten) | G49: Herkansing [2] | H49: Beoordeling [3] | J49: Eindtermen [4] | K49: Lesmateriaal | L49: Toegestane materialen bij de toets
H50: % | I50: Cijfer of OVG
B52: 1
B57: 2 | C57: VA7006 | D57: PR | E57: Onderzoeksopdracht periode 1 en 2 - De leerlingen doen onderzoek naar een kunstwerk met daaraan gekoppeld de kunstenaar a.d.h.v. een onderzoeksvraag en drie deelvragen. Ze beantwoorden deze in de vorm van een Klokhuisaflevering voor de brugklasdoelgroep. | G57: Nee | H57: 0.16 | I57: Cijfer | J57: B4, C5, C6, C7, C8 | K57: Geen methode; voor zover relevant wordt materiaal in classroom klaargezet. | L57: Geen
B62: 3 | C62: VA7007 | D62: PR | E62: Multidisciplinair project (MDP) periode 3 en 4 - Ckv wordt afgesloten met een multidisciplinair project, waarbij de leerlingen het geleerde over de afgelopen twee jaar samenbrengen tot een podium- of schermpresentatie en tonen aan een hiervoor uitgenodigd publiek van ouders, vrienden en andere geïnteresseerden. | G62: Nee | H62: 0.16 | I62: Cijfer | J62: B4, C5, C6, C7, C8 | K62: Geen methode; voor zover relevant wordt materiaal in classroom klaargezet. | L62: Geen
B67: 4
C68: VA7008 | D68: S | E68: Cultureel Zelfportret II: Verbinden - Je kunt hierna zelf reflecteren op het afgelopen CKV-jaar en dit presenteren in een compleet en afgerond, digitaal portfolio --> in de vorm van een powerpoint. | G68: Nee | H68: 0.05 | I68: Cijfer | J68: D9, D10, D11 | K68: Geen methode; voor zover relevant wordt materiaal in classroom klaargezet. | L68: Geen
E74: Beoordeling 5e leerjaar in %
E75: Totaal % leerjaar 4 | H75: =$H$33 -> 0.63
E76: Totaal % leerjaar 5 periode 1: | H76: =SUM(H52:H55) -> 0
E77: Totaal % leerjaar 5 periode 2: | H77: =SUM(H57:H61) -> 0.16
E78: Totaal % leerjaar 5 periode 3: | H78: =SUM(H62:H65) -> 0.16
E79: Totaal % leerjaar 5 periode 4: | H79: =SUM(H67:H70) -> 0.05
E80: Totaal % leerjaar 4+5: | H80: =SUM(H75:H79) -> 1
B82: [1] s = schriftelijk, m = mondeling, d= digitaal, pr = praktisch, p = presentatie, h = handelingsopdracht, a = anders
B83: [2] De toetsvorm van de herkansing is gelijk aan de toetsvorm van de toets die herkanst wordt. De herkansingen vinden plaats aan het einde van de lesperiode van de toets die herkanst wordt of aan het begin van de volgende lesperiode.
B84: [3] Hier wordt het percentage van het schoolexamencijfer vermeld OF aangegeven of een O/V/G (onvoldoende, voldoende, goed) beoordeling van toepassing is.
B85: [4] Naast de eindtermen wordt ook aangegeven of dit PTA onderdeel CE stof bevat
B93: =Netl!B93 -> Norbertus Programma van Toetsing en Afsluiting 2026-2027 | J93: =J47 -> culturele en kunstzinnige vorming | L93: =L1 -> Cohort 24-27
B94: vwo 6
B95: Periode | C95: PTA-code | D95: Toetsvorm [1] | E95: Toetsdoelen | F95: Toetsduur (minuten) | G95: Herkansing [2] | H95: Beoordeling [3] | J95: Eindtermen [4] | K95: Lesmateriaal | L95: Toegestane materialen bij de toets
H96: % | I96: Cijfer of OVG
B98: 1
B103: 2
B108: 3
E115: Beoordeling 6e leerjaar in %
E116: Totaal % leerjaar 4+5: | H116: =H80 -> 1
E117: Totaal % leerjaar 6 periode 1: | H117: =SUM(H98:H101) -> 0
E118: Totaal % leerjaar 6 periode 2: | H118: =SUM(H103:H106) -> 0
E119: Totaal % leerjaar 6 periode 3: | H119: =SUM(H108:H111) -> 0
E120: Totaal % leerjaar 4+5+6: | H120: =SUM(H116:H119) -> 1
B122: [1] s = schriftelijk, m = mondeling, d= digitaal, pr = praktisch, p = presentatie, h = handelingsopdracht, a = anders
B123: [2] De toetsvorm van de herkansing is gelijk aan de toetsvorm van de toets die herkanst wordt. De herkansingen vinden plaats aan het einde van de lesperiode van de toets die herkanst wordt of aan het begin van de volgende lesperiode.
B124: [3] Hier wordt het percentage van het schoolexamencijfer vermeld OF aangegeven of een O/V/G (onvoldoende, voldoende, goed) beoordeling van toepassing is.
B125: [4] Naast de eindtermen wordt ook aangegeven of dit PTA onderdeel CE stof bevat

Sheet Te
B1: =Netl!B1 -> Norbertus Programma van Toetsing en Afsluiting 2024-2025 | J1: ='Lijst van vakken'!A22 -> tekenen | L1: =Netl!L1 -> Cohort 24-27
B2: vwo 4
B3: Periode | C3: PTA-code | D3: Toetsvorm [1] | E3: Toetsdoelen | F3: Toetsduur (minuten) | G3: Herkansing [2] | H3: Beoordeling [3] | J3: Eindtermen [4] | K3: Lesmateriaal | L3: Toegestane materialen bij de toets
H4: % | I4: Cijfer of OVG
E28: Beoordeling 4e leerjaar in %
A29: Ja | E29: Totaal % leerjaar 4 periode 1: | H29: =SUM(H6:H9) -> 0
A30: Nee | E30: Totaal % leerjaar 4 periode 2: | H30: =SUM(H11:H15) -> 0
E31: Totaal % leerjaar 4 periode 3: | H31: =SUM(H16:H19) -> 0
E32: Totaal % leerjaar 4 periode 4: | H32: =SUM(H21:H24) -> 0
A33: S | E33: Totaal % leerjaar 4: | H33: =SUM(H29:H32) -> 0
A34: M
A35: D | B35: [1] s = schriftelijk, m = mondeling, d= digitaal, pr = praktisch, p = presentatie, h = handelingsopdracht, a = anders
A36: PR | B36: [2] De toetsvorm van de herkansing is gelijk aan de toetsvorm van de toets die herkanst wordt. De herkansingen vinden plaats aan het einde van de lesperiode van de toets die herkanst wordt of aan het begin van de volgende lesperiode.
A37: P | B37: [3] Hier wordt het percentage van het schoolexamencijfer vermeld OF aangegeven of een O/V/G (onvoldoende, voldoende, goed) beoordeling van toepassing is.
A38: H | B38: [4] Naast de eindtermen wordt ook aangegeven of dit PTA onderdeel CE stof bevat
A39: A
A42: Cijfer
A43: OVG
B47: =Netl!B47 -> Norbertus Programma van Toetsing en Afsluiting 2025-2026 | J47: =J1 -> tekenen | L47: =L1 -> Cohort 24-27
B48: vwo 5
B49: Periode | C49: PTA-code | D49: Toetsvorm [1] | E49: Toetsdoelen | F49: Toetsduur (minuten) | G49: Herkansing [2] | H49: Beoordeling [3] | J49: Eindtermen [4] | K49: Lesmateriaal | L49: Toegestane materialen bij de toets
H50: % | I50: Cijfer of OVG
B52: 1 | C52: VA7201 | D52: PR | E52: Beeldend werk A. Vaktheorie wordt afhankelijk van het beeldende werk van iedere leerling individueel toegepast. beoordeling werkproces A. (SE & CE) | G52: Nee | H52: 0.08 | I52: Cijfer | J52: A en B SE en CE | K52: De leerlingen laten zich inspireren door het werk van andere kunstenaars en/of beelden die zij vinden op het internet of tijdschriften en/of fotografisch materiaal dat zijzelf produceren | L52: diverse materialen
C53: VA7202 | D53: S | E53: Schriftelijke toets kunstbeschouwing en beeldende begrippen. De leerling kent de definities van de begrippen en is in staat om de begrippen toe te passen in analyses van beeldende werken en kan ook de effecten van de combinatie van vormgeving en voorstelling benoemen en analyseren | F53: 50 | G53: Ja | H53: 0.08 | J53: A2 Se + CE | K53: Stencil Beeldende Begrippen - alle pagina's | L53: geen
B57: 2 | C57: VA7203 | D57: PR | E57: Beeldend werk B. Vaktheorie wordt afhankelijk van het beeldende werk van iedere leerling individueel toegepast. beoordeling werkproces B. (SE & CE) | G57: Nee | H57: 0.08 | I57: Cijfer | J57: A en B SE en CE | K57: De leerlingen laten zich inspireren door het werk van andere kunstenaars en/of beelden die zij vinden op het internet of tijdschriften en/of fotografisch materiaal dat zijzelf produceren | L57: diverse materialen
B62: 3 | C62: VA7204 | D62: PR | E62: Beeldend werk C. Vaktheorie wordt afhankelijk van het beeldende werk van iedere leerling individueel toegepast. beoordeling werkproces C. (SE & CE) | G62: Nee | H62: 0.08 | I62: Cijfer | J62: A en B SE en CE | K62: De leerlingen laten zich inspireren door het werk van andere kunstenaars en/of beelden die zij vinden op het internet of tijdschriften en/of fotografisch materiaal dat zijzelf produceren | L62: diverse materialen
B67: 4 | C67: VA7205 | D67: PR | E67: Beeldend werk D. Vaktheorie wordt afhankelijk van het beeldende werk van iedere leerling individueel toegepast. beoordeling werkproces D + beoodeling Dummy (en gesprek m.b.t. orient op studie en beroep). (SE & CE) | G67: Nee | H67: 0.08 | I67: Cijfer | J67: A, B en C SE en CE | K67: De leerlingen laten zich inspireren door het werk van andere kunstenaars en/of beelden die zij vinden op het internet of tijdschriften en/of fotografisch materiaal dat zijzelf produceren | L67: diverse materialen
C68: VA7206 | D68: S | E68: In relatie met de lessen kunstgeschiedenis en kunstbeschouwen volgt in deze periode een toets waarbij de leerling zowel inzicht als kennis demonstreert t.a.v. de algemene kunsthistorie van de eind negentiende t/m de twintigste eeuw (Impressionisme t/m Postmodernisme). De leerling is in staat kunsthistorische stijlen te herkennen, is in staat om de essentie van een stroming te benoemen en de relatie te duiden tussen de stromingen en de cultuurhistorische context waarin de werken zijn ontstaan. | F68: 50 | G68: Ja | H68: 0.1 | I68: Cijfer | J68: A1 en A2 | K68: Stencils, tekst- en werkboek Kunstboek pag. 88 t/m 191 | L68: geen
E74: Beoordeling 5e leerjaar in %
E75: Totaal % leerjaar 4 | H75: =$H$33 -> 0
E76: Totaal % leerjaar 5 periode 1: | H76: =SUM(H52:H55) -> 0.16
E77: Totaal % leerjaar 5 periode 2: | H77: =SUM(H57:H61) -> 0.08
E78: Totaal % leerjaar 5 periode 3: | H78: =SUM(H62:H65) -> 0.08
E79: Totaal % leerjaar 5 periode 4: | H79: =SUM(H67:H70) -> 0.18
E80: Totaal % leerjaar 4+5: | H80: =SUM(H76:H79) -> 0.5
B82: [1] s = schriftelijk, m = mondeling, d= digitaal, pr = praktisch, p = presentatie, h = handelingsopdracht, a = anders
B83: [2] De toetsvorm van de herkansing is gelijk aan de toetsvorm van de toets die herkanst wordt. De herkansingen vinden plaats aan het einde van de lesperiode van de toets die herkanst wordt of aan het begin van de volgende lesperiode.
B84: [3] Hier wordt het percentage van het schoolexamencijfer vermeld OF aangegeven of een O/V/G (onvoldoende, voldoende, goed) beoordeling van toepassing is.
B85: [4] Naast de eindtermen wordt ook aangegeven of dit PTA onderdeel CE stof bevat
B93: =Netl!B93 -> Norbertus Programma van Toetsing en Afsluiting 2026-2027 | J93: =J47 -> tekenen | L93: =L1 -> Cohort 24-27
B94: vwo 6
B95: Periode | C95: PTA-code | D95: Toetsvorm [1] | E95: Toetsdoelen | F95: Toetsduur (minuten) | G95: Herkansing [2] | H95: Beoordeling [3] | J95: Eindtermen [4] | K95: Lesmateriaal | L95: Toegestane materialen bij de toets
H96: % | I96: Cijfer of OVG
B98: 1 | C98: VA7207 | D98: PR | E98: Beeldend werk E. Vaktheorie wordt afhankelijk van het beeldende werk van iedere leerling individueel toegepast. beoordeling werkproces A. (SE & CE) | G98: Nee | H98: 0.15 | I98: Cijfer | J98: A en B SE en CE | K98: De leerlingen laten zich inspireren door het werk van andere kunstenaars en/of beelden die zij vinden op het internet of tijdschriften en/of fotografisch materiaal dat zijzelf produceren | L98: diverse materialen
B103: 2 | C103: VA7208 | D103: PR | E103: Beeldend werk F. Vaktheorie wordt afhankelijk van het beeldende werk van iedere leerling individueel toegepast. beoordeling werkproces A. (SE & CE) | G103: Nee | H103: 0.15 | I103: Cijfer | J103: A en B SE en CE | K103: De leerlingen laten zich inspireren door het werk van andere kunstenaars en/of beelden die zij vinden op het internet of tijdschriften en/of fotografisch materiaal dat zijzelf produceren | L103: diverse materialen
C104: VA7209 | D104: S | E104: In relatie met de theorielessen volgt in deze periode een toets waarin de leerling zowel kunsthistorische kennis als kunstbeschouwelijke vaardigheden demonstreert met betrekking tot zowel de algemene beeldende kunstgeschiedenis, als specifiek tot het examenthema. De leerling is in staat kunsthistorische stijlen te herkennen, is in staat om de essentie van een stroming te benoemen en de relatie te duiden tussen de stromingen en de cultuurhistorische context waarin de werken zijn ontstaan. | F104: 50 | G104: Ja | H104: 0.2 | I104: Cijfer | J104: A1 en A2 | K104: Stencils, tekst- en werkboek Kunstboek pag. 88 t/m 191 | L104: geen
B108: 3
E115: Beoordeling 6e leerjaar in %
E116: Totaal % leerjaar 4+5: | H116: =H80 -> 0.5
E117: Totaal % leerjaar 6 periode 1: | H117: =SUM(H98:H101) -> 0.15
E118: Totaal % leerjaar 6 periode 2: | H118: =SUM(H103:H106) -> 0.35
E119: Totaal % leerjaar 6 periode 3: | H119: =SUM(H108:H111) -> 0
E120: Totaal % leerjaar 4+5+6: | H120: =SUM(H116:H119) -> 1
B122: [1] s = schriftelijk, m = mondeling, d= digitaal, pr = praktisch, p = presentatie, h = handelingsopdracht, a = anders
B123: [2] De toetsvorm van de herkansing is gelijk aan de toetsvorm van de toets die herkanst wordt. De herkansingen vinden plaats aan het einde van de lesperiode van de toets die herkanst wordt of aan het begin van de volgende lesperiode.
B124: [3] Hier wordt het percentage van het schoolexamencijfer vermeld OF aangegeven of een O/V/G (onvoldoende, voldoende, goed) beoordeling van toepassing is.
B125: [4] Naast de eindtermen wordt ook aangegeven of dit PTA onderdeel CE stof bevat

Sheet LO
B1: =Netl!B1 -> Norbertus Programma van Toetsing en Afsluiting 2024-2025 | J1: ='Lijst van vakken'!A23 -> lichamelijke opvoeding | L1: Cohort 24-25
B2: vwo 4
B3: Periode | C3: PTA-code | D3: Toetsvorm [1] | E3: Toetsdoelen | F3: Toetsduur (minuten) | G3: Herkansing [2] | H3: Beoordeling [3] | J3: Eindtermen [4] | K3: Lesmateriaal | L3: Toegestane materialen bij de toets
H4: % | I4: Cijfer of OVG
B6: 1
B11: 2
B16: 3
B21: 4
E28: Beoordeling 4e leerjaar in %
A29: Ja | E29: Totaal % leerjaar 4 periode 1: | H29: =SUM(H6:H9) -> 0
A30: Nee | E30: Totaal % leerjaar 4 periode 2: | H30: =SUM(H11:H15) -> 0
E31: Totaal % leerjaar 4 periode 3: | H31: =SUM(H16:H19) -> 0
E32: Totaal % leerjaar 4 periode 4: | H32: =SUM(H21:H24) -> 0
A33: S | E33: Totaal % leerjaar 4: | H33: =SUM(H29:H32) -> 0
A34: M
A35: D | B35: [1] s = schriftelijk, m = mondeling, d= digitaal, pr = praktisch, p = presentatie, h = handelingsopdracht, a = anders
A36: PR | B36: [2] De toetsvorm van de herkansing is gelijk aan de toetsvorm van de toets die herkanst wordt. De herkansingen vinden plaats aan het einde van de lesperiode van de toets die herkanst wordt of aan het begin van de volgende lesperiode.
A37: P | B37: [3] Hier wordt het percentage van het schoolexamencijfer vermeld OF aangegeven of een O/V/G (onvoldoende, voldoende, goed) beoordeling van toepassing is.
A38: H | B38: [4] Naast de eindtermen wordt ook aangegeven of dit PTA onderdeel CE stof bevat
A39: A
A42: Cijfer
A43: OVG
B47: =Netl!B47 -> Norbertus Programma van Toetsing en Afsluiting 2025-2026 | J47: =J1 -> lichamelijke opvoeding | L47: =L1 -> Cohort 24-25
B48: vwo 5
B49: Periode | C49: PTA-code | D49: Toetsvorm [1] | E49: Toetsdoelen | F49: Toetsduur (minuten) | G49: Herkansing [2] | H49: Beoordeling [3] | J49: Eindtermen [4] | K49: Lesmateriaal | L49: Toegestane materialen bij de toets
H50: % | I50: Cijfer of OVG
B52: 1
B57: 2
B62: 3
B67: 4
E74: Beoordeling 5e leerjaar in %
E75: Totaal % leerjaar 4 | H75: =$H$33 -> 0
E76: Totaal % leerjaar 5 periode 1: | H76: =SUM(H52:H55) -> 0
E77: Totaal % leerjaar 5 periode 2: | H77: =SUM(H57:H61) -> 0
E78: Totaal % leerjaar 5 periode 3: | H78: =SUM(H62:H65) -> 0
E79: Totaal % leerjaar 5 periode 4: | H79: =SUM(H67:H70) -> 0
E80: Totaal % leerjaar 4+5: | H80: =SUM(H76:H79) -> 0
B82: [1] s = schriftelijk, m = mondeling, d= digitaal, pr = praktisch, p = presentatie, h = handelingsopdracht, a = anders
B83: [2] De toetsvorm van de herkansing is gelijk aan de toetsvorm van de toets die herkanst wordt. De herkansingen vinden plaats aan het einde van de lesperiode van de toets die herkanst wordt of aan het begin van de volgende lesperiode.
B84: [3] Hier wordt het percentage van het schoolexamencijfer vermeld OF aangegeven of een O/V/G (onvoldoende, voldoende, goed) beoordeling van toepassing is.
B85: [4] Naast de eindtermen wordt ook aangegeven of dit PTA onderdeel CE stof bevat
B93: =Netl!B93 -> Norbertus Programma van Toetsing en Afsluiting 2026-2027 | J93: =J47 -> lichamelijke opvoeding | L93: =L1 -> Cohort 24-25
B94: vwo 6
B95: Periode | C95: PTA-code | D95: Toetsvorm [1] | E95: Toetsdoelen | F95: Toetsduur (minuten) | G95: Herkansing [2] | H95: Beoordeling [3] | J95: Eindtermen [4] | K95: Lesmateriaal | L95: Toegestane materialen bij de toets
H96: % | I96: Cijfer of OVG
B98: 1
B103: 2
B108: 3
E115: Beoordeling 6e leerjaar in %
E116: Totaal % leerjaar 4+5: | H116: =H80 -> 0
E117: Totaal % leerjaar 6 periode 1: | H117: =SUM(H98:H101) -> 0
E118: Totaal % leerjaar 6 periode 2: | H118: =SUM(H103:H106) -> 0
E119: Totaal % leerjaar 6 periode 3: | H119: =SUM(H108:H111) -> 0
E120: Totaal % leerjaar 4+5+6: | H120: =SUM(H116:H119) -> 0
B122: [1] s = schriftelijk, m = mondeling, d= digitaal, pr = praktisch, p = presentatie, h = handelingsopdracht, a = anders
B123: [2] De toetsvorm van de herkansing is gelijk aan de toetsvorm van de toets die herkanst wordt. De herkansingen vinden plaats aan het einde van de lesperiode van de toets die herkanst wordt of aan het begin van de volgende lesperiode.
B124: [3] Hier wordt het percentage van het schoolexamencijfer vermeld OF aangegeven of een O/V/G (onvoldoende, voldoende, goed) beoordeling van toepassing is.
B125: [4] Naast de eindtermen wordt ook aangegeven of dit PTA onderdeel CE stof bevat

Sheet Maat
